{"text_format":"1","workbook":"xlsx","n_sheets":3,"sheets":["申込書","基本・配布部数合計","明細表"],"not_rendered":{"charts":0,"images":0,"macros":1,"external_links":0,"defined_names":34,"comments":0,"pivot_tables":0},"unopened":[],"bounds":{"document_bytes":16777216,"sheet_cells":100000,"rows_first":2000,"rows_last":500,"rows_between":2000,"halvings":0,"cell_chars":16384,"cell_head_chars":4096},"cells_cut":0,"cells_raw":0,"read":"whole","date_system":"1900"}

{"sheet":"申込書","index":0,"n_rows":65,"n_cols":9,"rows_kept":65,"cut":false,"hidden":false,"merged":[[0,1,0,4],[9,3,9,4],[11,1,11,2],[11,3,11,4],[12,1,12,2],[12,3,12,4],[6,3,6,4],[5,1,8,1],[4,3,4,4],[5,3,5,4],[8,3,8,4],[7,3,7,4],[17,1,17,2],[18,1,18,2],[13,1,13,2],[14,1,14,2],[14,3,14,4],[15,1,15,2],[13,3,13,4],[15,3,15,4]]}
[null,"折  込  申  込  書",null,null,null,null,null,"注意 ： このシートは削除しないでください。"]
[]
[null,"※",null,"部分のみ入力してください。"]
[null,null,null,null,null,null,null,"≪下記市区名をクリックしますと、該当ページへジャンプします。≫"]
[null,null,"扱い(依頼)会社",null,null,null,null,"岡山市北区A","備前市"]
[null,"依頼会社","担当者(申込者)",null,null,null,null,"岡山市北区B","和気郡"]
[null,null,"住所",null,null,null,null,"岡山市中区","赤磐市"]
[null,null,"電話番号",null,null,null,null,"岡山市東区","瀬戸内市"]
[null,null,"ＦＡＸ 番号",null,null,null,null,"岡山市南区","笠岡市"]
[null,null,"印刷(納品)会社",null,null,null,null,"玉野市（香川県香川郡直島町含む）","井原市"]
[null,null,null,null,null,null,null,"倉敷市(倉敷)","浅口市"]
[null,"広告主",null,null,null,{"$f":"D12 & \"　\" & D13","v":"　"},null,"倉敷市(水島)","小田郡"]
[null,"広告件名(タイトル)",null,null,null,null,null,"倉敷市（玉島）","総社市"]
[null,"折込日",null,null,null,null,null,"倉敷市（児島）","高梁市"]
[null,"サイズ",null,null,null,null,null,null,"加賀郡"]
[null,"全地域指定\n（個別の販売店へ入力した場合は適用されません）",null,null,null,null,null,null,"新見市"]
[null,null,null,null,null,null,null,null,"真庭市"]
[null,"案件番号",null,"A202608改定",null,null,null,null,"津山市"]
[null,"受付担当",null,"040001",{"$f":"IF(D19=\"\",\"\",VLOOKUP(D19,$B$38:$C$65,2,FALSE))","v":"岡　秀和"},null,null,null,"苫田郡"]
[null,null,null,null,null,null,null,null,"勝田郡"]
[null,null,null,null,null,null,null,null,"美作市"]
[null,null,null,null,null,null,null,null,"久米郡"]
[]
[]
[]
[]
[]
[]
[]
[]
[]
[]
[]
[]
[]
[]
[null,"BSYAIN_CD","作成者名"]
[null,"040001","岡　秀和"]
[null,"040002","AAA"]
[null,"040003","AAA"]
[null,"040004","AAA"]
[null,"040005","AAA"]
[null,"040007","AAA"]
[null,"040008","AAA"]
[null,"040010","下山　篤志"]
[null,"040011","BBB"]
[null,"040012","AAA"]
[null,"040013","AAA"]
[null,"040014","AAA"]
[null,"040015","和氣　加代子"]
[null,"040016","AAA"]
[null,"040023","AAA"]
[null,"040030","AAA"]
[null,"040031","千田　敏"]
[null,"040032","AAA"]
[null,"040033","AAA"]
[null,"040034","興梠　真理香"]
[null,"040035","山本　武司"]
[null,"040036","AAA"]
[null,"040037","AAA"]
[null,"040038","AAA"]
[null,"040039","AAA"]
[null,"040040","AAA"]
[null,"040041","AAA"]
[null,"040042","AAA"]

{"sheet":"基本・配布部数合計","index":1,"n_rows":38,"n_cols":66,"rows_kept":38,"cut":false,"hidden":false,"merged":[[37,17,37,18],[5,14,5,15],[5,18,5,19],[5,16,5,17],[6,0,6,1],[5,8,5,9],[5,12,5,13],[5,2,5,3],[5,4,5,5],[5,6,5,7],[5,10,5,11],[5,0,5,1],[2,18,2,19],[3,16,3,17],[3,18,4,19],[4,16,4,17],[0,0,0,7],[3,11,4,12],[3,0,4,7],[3,8,4,10],[3,13,4,15]]}
["岡山県　新聞オリコミ広告　部数明細表",null,null,null,null,null,null,null,null,null,null,null,null,null,null,null,null,null,null,null,null,null,"90円","390円"]
[null,null,null,null,null,null,null,null,null,null,null,null,null,null,null,null,null,null,null,null,null,null,"本紙","本紙"]
["広　告　名",null,null,null,null,null,null,null,"折込日",null,null,"サイズ",null,"部数",null,null,"配送管理料 (税抜)",null,null,null,null,null,"AM","AN"]
[{"$f":"IF(T37=0,\"\",申込書!F12)","v":""},null,null,null,null,null,null,null,{"$f":"IF(T37=0,\"\",申込書!D14)","v":""},null,null,{"$f":"IF(T37=0,\"\",申込書!D15)","v":""},null,{"$f":"IF(T37=0,\"枚\",T37)","v":"枚"},null,null,{"$f":"IF(W6=0,\"\",W6)","v":""},null,{"$f":"SUM(W6*200,X6*460)","v":0}]
[null,null,null,null,null,null,null,null,null,null,null,null,null,null,null,null,{"$f":"IF(X6=0,\"\",X6)","v":""}]
["市　　区",null,"m01 朝　　日",null,"m02 毎　　日",null,"m03 読　　売",null,"m59 山　　陽",null,"m04 日　　経",null,"m05 産　　経",null,"m60 中　　国",null,"m63 四　　国",null,"総　　計",null,null,null,{"$f":"SUM(W8:W37)","v":0},{"$f":"SUM(X8:X37)","v":0}]
[null,null,"基本部数","配布部数","基本部数","配布部数","基本部数","配布部数","基本部数","配布部数","基本部数","配布部数","基本部数","配布部数","基本部数","配布部数","基本部数","配布部数","基本部数","配布部数"]
[33101,"岡山市北区A",7650,{"$f":"IF(ISERROR(V8),\"\",明細表!H26)","v":0},2750,{"$f":"IF(ISERROR(V8),\"\",明細表!O26)","v":0},3200,{"$f":"IF(ISERROR(V8),\"\",明細表!V26)","v":0},20300,{"$f":"IF(ISERROR(V8),\"\",明細表!AC26)","v":0},3300,{"$f":"IF(ISERROR(V8),\"\",明細表!AJ26)","v":0},null,null,250,{"$f":"IF(ISERROR(V8),\"\",明細表!AQ39)","v":0},null,null,{"$f":"SUM(C8,E8,G8,K8,I8,M8,O8,Q8)","v":37450},{"$f":"SUM(D8,F8,H8,L8,J8,N8,P8,R8)","v":0},null,{"$f":"明細表!AP41","v":0},{"$f":"IF(ISERROR(V8),\"\",明細表!AT41)","v":0},null,null,null,null,null,null,null,null,null,null,null,null,null,null,null,null,null,null,null,null,null,null,null,null,null,null,null,null,null,null,null,null,null,null,null,null,null,null,null,null,null,{"$f":"IF(ISERROR(V8),\"\",#REF!)","v":{"$error":"#REF!"}},{"$f":"IF(ISERROR(V8),\"\",#REF!)","v":{"$error":"#REF!"}}]
[33101,"岡山市北区B",2850,{"$f":"IF(ISERROR(V9),\"\",明細表!H65)","v":0},null,null,2200,{"$f":"IF(ISERROR(V9),\"\",明細表!V65)","v":0},16400,{"$f":"IF(ISERROR(V9),\"\",明細表!AC65)","v":0},700,{"$f":"IF(ISERROR(V9),\"\",明細表!AJ65)","v":0},null,null,null,null,null,null,{"$f":"SUM(C9,E9,G9,K9,I9,M9,O9,Q9)","v":22150},{"$f":"SUM(D9,F9,H9,L9,J9,N9,P9,R9)","v":0},null,{"$f":"明細表!AP83","v":0},null,{"$f":"IF(ISERROR(V9),\"\",明細表!AU83)","v":0},null,null,null,null,null,null,null,null,null,null,null,null,null,null,null,null,null,null,null,null,null,null,null,null,null,null,null,null,null,null,null,null,null,null,null,null,null,null,null,null,{"$f":"IF(ISERROR(V9),\"\",#REF!)","v":{"$error":"#REF!"}}]
[33102,"岡山市中区",4400,{"$f":"IF(ISERROR(V10),\"\",明細表!H105)","v":0},null,null,4650,{"$f":"IF(ISERROR(V10),\"\",明細表!V105)","v":0},18050,{"$f":"IF(ISERROR(V10),\"\",明細表!AC105)","v":0},1400,{"$f":"IF(ISERROR(V10),\"\",明細表!AJ105)","v":0},null,null,null,null,null,null,28500,0,null,{"$f":"明細表!AP125","v":0},{"$f":"IF(ISERROR(V10),\"\",明細表!AT105)","v":0},{"$f":"IF(ISERROR(V10),\"\",明細表!AU105)","v":0},null,null,null,null,null,null,null,null,null,null,null,null,null,null,null,null,null,null,null,null,null,null,null,null,null,null,null,null,null,null,null,null,null,null,null,null,null,null,null,null,{"$f":"IF(ISERROR(V10),\"\",#REF!)","v":{"$error":"#REF!"}}]
[33102,"岡山市東区",1300,{"$f":"IF(ISERROR(V11),\"\",明細表!H120)","v":0},null,null,2000,{"$f":"IF(ISERROR(V11),\"\",明細表!V120)","v":0},13100,{"$f":"IF(ISERROR(V11),\"\",明細表!AC120)","v":0},400,{"$f":"IF(ISERROR(V11),\"\",明細表!AJ120)","v":0},null,null,null,null,null,null,16800,0,null,{"$f":"明細表!AP125","v":0},null,{"$f":"IF(ISERROR(V11),\"\",明細表!AU120)","v":0},null,null,null,null,null,null,null,null,null,null,null,null,null,null,null,null,null,null,null,null,null,null,null,null,null,null,null,null,null,null,null,null,null,null,null,null,null,null,null,null,{"$f":"IF(ISERROR(V11),\"\",#REF!)","v":{"$error":"#REF!"}}]
[33102,"岡山市南区",4400,{"$f":"IF(ISERROR(V12),\"\",明細表!H149)","v":0},1500,{"$f":"IF(ISERROR(V12),\"\",明細表!O149)","v":0},2300,{"$f":"IF(ISERROR(V12),\"\",明細表!V149)","v":0},19650,{"$f":"IF(ISERROR(V12),\"\",明細表!AC149)","v":0},1350,{"$f":"IF(ISERROR(V12),\"\",明細表!AJ149)","v":0},null,null,null,null,null,null,29200,0,null,{"$f":"明細表!AP167","v":0},{"$f":"IF(ISERROR(V12),\"\",明細表!AT149)","v":0},{"$f":"IF(ISERROR(V12),\"\",明細表!AU149)","v":0},null,null,null,null,null,null,null,null,null,null,null,null,null,null,null,null,null,null,null,null,null,null,null,null,null,null,null,null,null,null,null,null,null,null,null,null,null,null,null,null,{"$f":"IF(ISERROR(V12),\"\",#REF!)","v":{"$error":"#REF!"}}]
["33204","玉野市(直島含む)",2100,{"$f":"IF(ISERROR(V13),\"\",明細表!H186)","v":0},null,null,null,null,8900,{"$f":"IF(ISERROR(V13),\"\",明細表!AC186)","v":0},450,{"$f":"IF(ISERROR(V13),\"\",明細表!AJ186)","v":0},null,null,null,null,500,{"$f":"IF(ISERROR(V13),\"\",明細表!AQ193)","v":0},11950,0,null,{"$f":"明細表!AP209","v":0},null,{"$f":"IF(ISERROR(V13),\"\",明細表!AU193)","v":0},null,null,null,null,null,null,null,null,null,null,null,null,null,null,null,null,null,null,null,null,null,null,null,null,null,null,null,null,null,null,null,null,null,null,null,null,null,null,null,null,{"$f":"IF(ISERROR(V13),\"\",#REF!)","v":{"$error":"#REF!"}}]
["33202","倉敷市（倉敷）",3450,{"$f":"IF(ISERROR(V14),\"\",明細表!H241)","v":0},200,{"$f":"IF(ISERROR(V14),\"\",明細表!O241)","v":0},8400,{"$f":"IF(ISERROR(V14),\"\",明細表!V241)","v":0},26900,{"$f":"IF(ISERROR(V14),\"\",明細表!AC241)","v":0},2000,{"$f":"IF(ISERROR(V14),\"\",明細表!AJ241)","v":0},null,null,null,null,null,null,40950,0,null,{"$f":"明細表!AP251","v":0},{"$f":"IF(ISERROR(V14),\"\",明細表!AT248)","v":0},{"$f":"IF(ISERROR(V14),\"\",明細表!AU248)","v":0},null,null,null,null,null,null,null,null,null,null,null,null,null,null,null,null,null,null,null,null,null,null,null,null,null,null,null,null,null,null,null,null,null,null,null,null,null,null,null,null,{"$f":"IF(ISERROR(V14),\"\",#REF!)","v":{"$error":"#REF!"}},{"$f":"IF(ISERROR(V14),\"\",#REF!)","v":{"$error":"#REF!"}}]
["33202","倉敷市（水島）",900,{"$f":"IF(ISERROR(V15),\"\",明細表!H268)","v":0},null,null,3000,{"$f":"IF(ISERROR(V15),\"\",明細表!V268)","v":0},8450,{"$f":"IF(ISERROR(V15),\"\",明細表!AC268)","v":0},750,{"$f":"IF(ISERROR(V15),\"\",明細表!AJ268)","v":0},null,null,null,null,null,null,13100,0,null,{"$f":"明細表!AP293","v":0},null,{"$f":"IF(ISERROR(V15),\"\",明細表!AU277)","v":0},null,null,null,null,null,null,null,null,null,null,null,null,null,null,null,null,null,null,null,null,null,null,null,null,null,null,null,null,null,null,null,null,null,null,null,null,null,null,null,null,{"$f":"IF(ISERROR(V15),\"\",#REF!)","v":{"$error":"#REF!"}},{"$f":"IF(ISERROR(V15),\"\",#REF!)","v":{"$error":"#REF!"}}]
["33202","倉敷市（玉島）",850,{"$f":"IF(ISERROR(V16),\"\",明細表!H311)","v":0},null,null,3100,{"$f":"IF(ISERROR(V16),\"\",明細表!V311)","v":0},10950,{"$f":"IF(ISERROR(V16),\"\",明細表!AC311)","v":0},550,{"$f":"IF(ISERROR(V16),\"\",明細表!AJ311)","v":0},null,null,null,null,null,null,15450,0,null,{"$f":"明細表!AP335","v":0},null,{"$f":"IF(ISERROR(V16),\"\",明細表!AU311)","v":0},null,null,null,null,null,null,null,null,null,null,null,null,null,null,null,null,null,null,null,null,null,null,null,null,null,null,null,null,null,null,null,null,null,null,null,null,null,null,null,null,{"$f":"IF(ISERROR(V16),\"\",#REF!)","v":{"$error":"#REF!"}}]
["33202","倉敷市（児島）",650,{"$f":"IF(ISERROR(V17),\"\",明細表!H331)","v":0},null,null,2200,{"$f":"IF(ISERROR(V17),\"\",明細表!V331)","v":0},6650,{"$f":"IF(ISERROR(V17),\"\",明細表!AC331)","v":0},300,{"$f":"IF(ISERROR(V17),\"\",明細表!AJ331)","v":0},null,null,null,null,null,null,9800,0,null,{"$f":"明細表!AP335","v":0},null,{"$f":"IF(ISERROR(V17),\"\",明細表!AU331)","v":0},null,null,null,null,null,null,null,null,null,null,null,null,null,null,null,null,null,null,null,null,null,null,null,null,null,null,null,null,null,null,null,null,null,null,null,null,null,null,null,null,{"$f":"IF(ISERROR(V17),\"\",#REF!)","v":{"$error":"#REF!"}}]
["33211","備前市",null,null,null,null,700,{"$f":"IF(ISERROR(V18),\"\",明細表!V353)","v":0},5950,{"$f":"IF(ISERROR(V18),\"\",明細表!AC353)","v":0},250,{"$f":"IF(ISERROR(V18),\"\",明細表!AJ353)","v":0},null,null,null,null,null,null,6900,0,null,{"$f":"明細表!AP377","v":0},null,{"$f":"IF(ISERROR(V18),\"\",明細表!AU353)","v":0},null,null,null,null,null,null,null,null,null,null,null,null,null,null,null,null,null,null,null,null,null,null,null,null,null,null,null,null,null,null,null,null,null,null,null,null,null,null,null,null,{"$f":"IF(ISERROR(V18),\"\",#REF!)","v":{"$error":"#REF!"}}]
["33340","和気郡",null,null,null,null,350,{"$f":"IF(ISERROR(V19),\"\",明細表!V360)","v":0},2600,{"$f":"IF(ISERROR(V19),\"\",明細表!AC360)","v":0},null,null,null,null,null,null,null,null,2950,0,null,{"$f":"明細表!AP377","v":0},null,{"$f":"IF(ISERROR(V19),\"\",明細表!AU360)","v":0},null,null,null,null,null,null,null,null,null,null,null,null,null,null,null,null,null,null,null,null,null,null,null,null,null,null,null,null,null,null,null,null,null,null,null,null,null,null,null,null,{"$f":"IF(ISERROR(V19),\"\",#REF!)","v":{"$error":"#REF!"}}]
["33213","赤磐市",null,null,null,null,1650,{"$f":"IF(ISERROR(V20),\"\",明細表!V371)","v":0},7600,{"$f":"IF(ISERROR(V20),\"\",明細表!AC371)","v":0},150,{"$f":"IF(ISERROR(V20),\"\",明細表!AJ371)","v":0},null,null,null,null,null,null,9400,0,null,{"$f":"明細表!AP377","v":0},null,{"$f":"IF(ISERROR(V20),\"\",明細表!AU371)","v":0},null,null,null,null,null,null,null,null,null,null,null,null,null,null,null,null,null,null,null,null,null,null,null,null,null,null,null,null,null,null,null,null,null,null,null,null,null,null,null,null,{"$f":"IF(ISERROR(V20),\"\",#REF!)","v":{"$error":"#REF!"}}]
["33212","瀬戸内市",null,null,null,null,900,{"$f":"IF(ISERROR(V21),\"\",明細表!V390)","v":0},5950,{"$f":"IF(ISERROR(V21),\"\",明細表!AC390)","v":0},null,null,null,null,null,null,null,null,6850,0,null,{"$f":"明細表!AP419","v":0},null,{"$f":"IF(ISERROR(V21),\"\",明細表!AU390)","v":0},null,null,null,null,null,null,null,null,null,null,null,null,null,null,null,null,null,null,null,null,null,null,null,null,null,null,null,null,null,null,null,null,null,null,null,null,null,null,null,null,{"$f":"IF(ISERROR(V21),\"\",#REF!)","v":{"$error":"#REF!"}}]
["33205","笠岡市",null,null,100,{"$f":"IF(ISERROR(V22),\"\",明細表!O404)","v":0},1750,{"$f":"IF(ISERROR(V22),\"\",明細表!V404)","v":0},7750,{"$f":"IF(ISERROR(V22),\"\",明細表!AC404)","v":0},350,{"$f":"IF(ISERROR(V22),\"\",明細表!AJ404)","v":0},null,null,1400,{"$f":"IF(ISERROR(V22),\"\",明細表!AQ411)","v":0},null,null,11350,0,null,{"$f":"明細表!AP419","v":0},null,{"$f":"IF(ISERROR(V22),\"\",明細表!AU411)","v":0},null,null,null,null,null,null,null,null,null,null,null,null,null,null,null,null,null,null,null,null,null,null,null,null,null,null,null,null,null,null,null,null,null,null,null,null,null,null,null,null,{"$f":"IF(ISERROR(V22),\"\",#REF!)","v":{"$error":"#REF!"}},{"$f":"IF(ISERROR(V22),\"\",#REF!)","v":{"$error":"#REF!"}}]
["33207","井原市",null,null,null,null,1300,{"$f":"IF(ISERROR(V23),\"\",明細表!V439)","v":0},5550,{"$f":"IF(ISERROR(V23),\"\",明細表!AC439)","v":0},200,{"$f":"IF(ISERROR(V23),\"\",明細表!AJ439)","v":0},null,null,1450,{"$f":"IF(ISERROR(V23),\"\",明細表!AQ446)","v":0},null,null,8500,0,null,{"$f":"明細表!AP461","v":0},null,{"$f":"IF(ISERROR(V23),\"\",明細表!AU446)","v":0},null,null,null,null,null,null,null,null,null,null,null,null,null,null,null,null,null,null,null,null,null,null,null,null,null,null,null,null,null,null,null,null,null,null,null,null,null,null,null,null,{"$f":"IF(ISERROR(V23),\"\",#REF!)","v":{"$error":"#REF!"}},{"$f":"IF(ISERROR(V23),\"\",#REF!)","v":{"$error":"#REF!"}}]
["33216","浅口市",null,null,null,null,3500,{"$f":"IF(ISERROR(V24),\"\",明細表!V478)","v":0},5500,{"$f":"IF(ISERROR(V24),\"\",明細表!AC478)","v":0},250,{"$f":"IF(ISERROR(V24),\"\",明細表!AJ478)","v":0},null,null,null,null,null,null,9250,0,null,{"$f":"明細表!AP503","v":0},null,{"$f":"IF(ISERROR(V24),\"\",明細表!AU478)","v":0},null,null,null,null,null,null,null,null,null,null,null,null,null,null,null,null,null,null,null,null,null,null,null,null,null,null,null,null,null,null,null,null,null,null,null,null,null,null,null,null,{"$f":"IF(ISERROR(V24),\"\",#REF!)","v":{"$error":"#REF!"}}]
["33460","小田郡",null,null,null,null,700,{"$f":"IF(ISERROR(V25),\"\",明細表!V484)","v":0},2400,{"$f":"IF(ISERROR(V25),\"\",明細表!AC484)","v":0},100,{"$f":"IF(ISERROR(V25),\"\",明細表!AJ484)","v":0},50,{"$f":"IF(ISERROR(V25),\"\",明細表!AQ484)","v":0},null,null,null,null,3250,0,null,{"$f":"明細表!AP503","v":0},null,{"$f":"IF(ISERROR(V25),\"\",明細表!AU484)","v":0},null,null,null,null,null,null,null,null,null,null,null,null,null,null,null,null,null,null,null,null,null,null,null,null,null,null,null,null,null,null,null,null,null,null,null,null,null,null,null,null,{"$f":"IF(ISERROR(V25),\"\",#REF!)","v":{"$error":"#REF!"}}]
["33208","総社市",null,null,null,null,2000,{"$f":"IF(ISERROR(V26),\"\",明細表!V494)","v":0},10750,{"$f":"IF(ISERROR(V26),\"\",明細表!AC494)","v":0},null,null,null,null,null,null,null,null,12750,0,null,{"$f":"明細表!AP503","v":0},null,{"$f":"IF(ISERROR(V26),\"\",明細表!AU494)","v":0},null,null,null,null,null,null,null,null,null,null,null,null,null,null,null,null,null,null,null,null,null,null,null,null,null,null,null,null,null,null,null,null,null,null,null,null,null,null,null,null,{"$f":"IF(ISERROR(V26),\"\",#REF!)","v":{"$error":"#REF!"}}]
["33209","高梁市",null,null,null,null,600,{"$f":"IF(ISERROR(V27),\"\",明細表!V524)","v":0},5550,{"$f":"IF(ISERROR(V27),\"\",明細表!AC524)","v":0},null,null,null,null,50,{"$f":"IF(ISERROR(V27),\"\",明細表!AQ529)","v":0},null,null,6200,0,null,{"$f":"明細表!AP545","v":0},null,{"$f":"IF(ISERROR(V27),\"\",明細表!AU529)","v":0},null,null,null,null,null,null,null,null,null,null,null,null,null,null,null,null,null,null,null,null,null,null,null,null,null,null,null,null,null,null,null,null,null,null,null,null,null,null,null,null,{"$f":"IF(ISERROR(V27),\"\",#REF!)","v":{"$error":"#REF!"}},{"$f":"IF(ISERROR(V27),\"\",#REF!)","v":{"$error":"#REF!"}}]
["33681","加賀郡",null,null,null,null,null,null,2000,{"$f":"IF(ISERROR(V28),\"\",明細表!AC539)","v":0},null,null,null,null,null,null,null,null,2000,0,null,{"$f":"明細表!AP545","v":0},null,{"$f":"IF(ISERROR(V28),\"\",明細表!AU539)","v":0},null,null,null,null,null,null,null,null,null,null,null,null,null,null,null,null,null,null,null,null,null,null,null,null,null,null,null,null,null,null,null,null,null,null,null,null,null,null,null,null,{"$f":"IF(ISERROR(V28),\"\",#REF!)","v":{"$error":"#REF!"}}]
["33210","新見市",400,{"$f":"IF(ISERROR(V29),\"\",明細表!H562)","v":0},200,{"$f":"IF(ISERROR(V29),\"\",明細表!O562)","v":0},650,{"$f":"IF(ISERROR(V29),\"\",明細表!V562)","v":0},4850,{"$f":"IF(ISERROR(V29),\"\",明細表!AC562)","v":0},100,{"$f":"IF(ISERROR(V29),\"\",明細表!AJ562)","v":0},null,null,null,null,null,null,6200,0,null,{"$f":"明細表!AP587","v":0},null,{"$f":"IF(ISERROR(V29),\"\",明細表!AU562)","v":0},null,null,null,null,null,null,null,null,null,null,null,null,null,null,null,null,null,null,null,null,null,null,null,null,null,null,null,null,null,null,null,null,null,null,null,null,null,null,null,null,{"$f":"IF(ISERROR(V29),\"\",#REF!)","v":{"$error":"#REF!"}}]
["33214","真庭市",400,{"$f":"IF(ISERROR(V30),\"\",明細表!H581)","v":0},350,{"$f":"IF(ISERROR(V30),\"\",明細表!O581)","v":0},1950,{"$f":"IF(ISERROR(V30),\"\",明細表!V581)","v":0},7800,{"$f":"IF(ISERROR(V30),\"\",明細表!AC581)","v":0},250,{"$f":"IF(ISERROR(V30),\"\",明細表!AJ581)","v":0},null,null,null,null,null,null,10750,0,null,{"$f":"明細表!AP587","v":0},null,{"$f":"IF(ISERROR(V30),\"\",明細表!AU581)","v":0},null,null,null,null,null,null,null,null,null,null,null,null,null,null,null,null,null,null,null,null,null,null,null,null,null,null,null,null,null,null,null,null,null,null,null,null,null,null,null,null,{"$f":"IF(ISERROR(V30),\"\",#REF!)","v":{"$error":"#REF!"}}]
["33203","津山市",null,null,null,null,2800,{"$f":"IF(ISERROR(V31),\"\",明細表!V610)","v":0},16050,{"$f":"IF(ISERROR(V31),\"\",明細表!AC610)","v":0},650,{"$f":"IF(ISERROR(V31),\"\",明細表!AJ610)","v":0},null,null,null,null,null,null,19500,0,null,{"$f":"明細表!AP629","v":0},null,{"$f":"IF(ISERROR(V31),\"\",明細表!AU610)","v":0},null,null,null,null,null,null,null,null,null,null,null,null,null,null,null,null,null,null,null,null,null,null,null,null,null,null,null,null,null,null,null,null,null,null,null,null,null,null,null,null,{"$f":"IF(ISERROR(V31),\"\",#REF!)","v":{"$error":"#REF!"}}]
["33600","苫田郡",null,null,null,null,null,null,2350,{"$f":"IF(ISERROR(V32),\"\",明細表!AC620)","v":0},null,null,null,null,null,null,null,null,2350,0,null,{"$f":"明細表!AP629","v":0},null,{"$f":"IF(ISERROR(V32),\"\",明細表!AU620)","v":0},null,null,null,null,null,null,null,null,null,null,null,null,null,null,null,null,null,null,null,null,null,null,null,null,null,null,null,null,null,null,null,null,null,null,null,null,null,null,null,null,{"$f":"IF(ISERROR(V32),\"\",#REF!)","v":{"$error":"#REF!"}}]
["33620","勝田郡",null,null,null,null,300,{"$f":"IF(ISERROR(V33),\"\",明細表!V642)","v":0},2400,{"$f":"IF(ISERROR(V33),\"\",明細表!AC642)","v":0},50,{"$f":"IF(ISERROR(V33),\"\",明細表!AJ642)","v":0},null,null,null,null,null,null,2750,0,null,{"$f":"明細表!AP671","v":0},null,{"$f":"IF(ISERROR(V33),\"\",明細表!AU642)","v":0},null,null,null,null,null,null,null,null,null,null,null,null,null,null,null,null,null,null,null,null,null,null,null,null,null,null,null,null,null,null,null,null,null,null,null,null,null,null,null,null,{"$f":"IF(ISERROR(V33),\"\",#REF!)","v":{"$error":"#REF!"}}]
["33215","美作市",null,null,null,null,350,{"$f":"IF(ISERROR(V34),\"\",明細表!V656)","v":0},5200,{"$f":"IF(ISERROR(V34),\"\",明細表!AC656)","v":0},50,{"$f":"IF(ISERROR(V34),\"\",明細表!AJ656)","v":0},null,null,null,null,null,null,5600,0,null,{"$f":"明細表!AP671","v":0},null,{"$f":"IF(ISERROR(V34),\"\",明細表!AU656)","v":0},null,null,null,null,null,null,null,null,null,null,null,null,null,null,null,null,null,null,null,null,null,null,null,null,null,null,null,null,null,null,null,null,null,null,null,null,null,null,null,null,{"$f":"IF(ISERROR(V34),\"\",#REF!)","v":{"$error":"#REF!"}}]
["33660","久米郡",null,null,null,null,50,{"$f":"IF(ISERROR(V35),\"\",明細表!V667)","v":0},3300,{"$f":"IF(ISERROR(V35),\"\",明細表!AC667)","v":0},null,null,null,null,null,null,null,null,3350,0,null,{"$f":"明細表!AP671","v":0},null,{"$f":"IF(ISERROR(V35),\"\",明細表!AU667)","v":0},null,null,null,null,null,null,null,null,null,null,null,null,null,null,null,null,null,null,null,null,null,null,null,null,null,null,null,null,null,null,null,null,null,null,null,null,null,null,null,null,{"$f":"IF(ISERROR(V35),\"\",#REF!)","v":{"$error":"#REF!"}}]
[]
[null,null,{"$f":"SUM(C8:C36)","v":29350},0,5100,0,{"$f":"SUM(G8:G36)","v":50600},0,252900,0,13600,0,50,0,{"$f":"SUM(O8:O36)","v":3150},0,{"$f":"SUM(Q8:Q36)","v":500},{"$f":"SUM(R8:R36)","v":0},{"$f":"SUM(S8:S36)","v":355250},{"$f":"SUM(T8:T36)","v":0}]
[null,null,null,null,null,null,null,null,null,null,null,null,null,null,"株式会社　朝日オリコミ岡山",null,null,"2026-08-01",null,"2026.07.10"]

{"sheet":"明細表","index":2,"n_rows":672,"n_cols":64,"rows_kept":672,"cut":false,"hidden":false,"merged":[[589,7,590,11],[588,1,590,6],[588,41,588,43],[43,39,43,40],[44,39,44,40],[85,39,85,40],[86,39,86,40],[127,39,127,40],[128,39,128,40],[169,39,169,40],[170,39,170,40],[211,39,211,40],[212,39,212,40],[253,39,253,40],[254,39,254,40],[295,39,295,40],[296,39,296,40],[337,39,337,40],[338,39,338,40],[379,39,379,40],[380,39,380,40],[421,39,421,40],[422,39,422,40],[463,39,463,40],[580,42,580,43],[631,23,632,28],[631,34,632,38],[631,41,632,43],[0,48,0,54],[0,56,0,63],[592,2,592,8],[592,9,592,15],[592,16,592,22],[592,23,592,29],[592,30,592,36],[592,37,592,43],[585,7,585,8],[585,14,585,15],[585,21,585,22],[585,28,585,29],[585,30,585,33],[585,35,585,36],[585,42,585,43],[586,37,586,40],[586,41,586,43],[591,42,591,43],[418,37,418,40],[336,1,338,6],[336,41,336,43],[337,7,338,11],[337,29,338,33],[337,34,338,38],[337,41,338,43],[337,12,338,22],[337,23,338,28],[589,12,590,22],[589,23,590,28],[589,29,590,33],[589,34,590,38],[589,41,590,43],[561,7,561,8],[561,14,561,15],[561,21,561,22],[561,28,561,29],[561,35,561,36],[561,42,561,43],[580,7,580,8],[580,14,580,15],[580,21,580,22],[580,28,580,29],[580,35,580,36],[550,2,550,8],[172,30,172,36],[168,41,168,43],[169,7,170,11],[169,12,170,22],[169,23,170,28],[169,29,170,33],[169,34,170,38],[172,9,172,15],[340,16,340,22],[340,23,340,29],[340,30,340,36],[340,37,340,43],[256,2,256,8],[256,9,256,15],[256,16,256,22],[256,23,256,29],[256,30,256,36],[256,37,256,43],[252,1,254,6],[252,41,252,43],[253,7,254,11],[253,12,254,22],[253,23,254,28],[253,29,254,33],[127,41,128,43],[43,7,44,11],[43,12,44,22],[43,23,44,28],[43,29,44,33],[43,34,44,38],[43,41,44,43],[84,1,86,6],[84,41,84,43],[85,7,86,11],[85,12,86,22],[85,23,86,28],[85,29,86,33],[85,34,86,38],[85,41,86,43],[42,1,44,6],[42,41,42,43],[104,7,104,8],[104,14,104,15],[104,21,104,22],[104,28,104,29],[104,35,104,36],[88,2,88,8],[88,9,88,15],[546,1,548,6],[546,41,546,43],[547,7,548,11],[547,12,548,22],[547,23,548,28],[547,29,548,33],[547,34,548,38],[547,41,548,43],[549,42,549,43],[547,39,547,40],[548,39,548,40],[543,7,543,8],[543,14,543,15],[543,21,543,22],[543,28,543,29],[543,30,543,33],[543,35,543,36],[543,42,543,43],[538,7,538,8],[550,9,550,15],[550,16,550,22],[550,23,550,29],[550,30,550,36],[550,37,550,43],[493,7,493,8],[493,14,493,15],[493,21,493,22],[493,28,493,29],[493,35,493,36],[493,42,493,43],[501,7,501,8],[501,14,501,15],[501,21,501,22],[501,28,501,29],[501,30,501,33],[483,7,483,8],[483,14,483,15],[483,21,483,22],[483,28,483,29],[483,35,483,36],[483,42,483,43],[477,7,477,8],[477,14,477,15],[477,21,477,22],[477,28,477,29],[477,35,477,36],[477,42,477,43],[466,2,466,8],[466,9,466,15],[466,16,466,22],[466,23,466,29],[466,30,466,36],[466,37,466,43],[462,1,464,6],[462,41,462,43],[463,7,464,11],[463,12,464,22],[463,23,464,28],[463,29,464,33],[463,34,464,38],[463,41,464,43],[465,42,465,43],[464,39,464,40],[441,37,441,43],[445,42,445,43],[421,7,422,11],[421,12,422,22],[421,23,422,28],[421,29,422,33],[421,34,422,38],[421,41,422,43],[459,7,459,8],[459,14,459,15],[459,21,459,22],[459,28,459,29],[459,30,459,33],[459,35,459,36],[459,42,459,43],[420,1,422,6],[420,41,420,43],[418,41,418,43],[438,7,438,8],[438,14,438,15],[438,21,438,22],[438,28,438,29],[438,35,438,36],[438,42,438,43],[294,1,296,6],[295,7,296,11],[295,12,296,22],[295,23,296,28],[295,29,296,33],[295,34,296,38],[403,42,403,43],[406,37,406,43],[410,42,410,43],[352,7,352,8],[352,14,352,15],[352,21,352,22],[352,28,352,29],[352,35,352,36],[352,42,352,43],[359,7,359,8],[359,14,359,15],[359,21,359,22],[359,28,359,29],[359,35,359,36],[359,42,359,43],[340,2,340,8],[334,41,334,43],[340,9,340,15],[267,7,267,8],[267,14,267,15],[267,21,267,22],[295,41,296,43],[249,7,249,8],[249,14,249,15],[249,21,249,22],[249,28,249,29],[249,30,249,33],[249,35,249,36],[249,42,249,43],[292,37,292,40],[292,41,292,43],[267,42,267,43],[270,37,270,43],[276,42,276,43],[291,7,291,8],[291,14,291,15],[291,21,291,22],[291,28,291,29],[291,30,291,33],[291,35,291,36],[291,42,291,43],[267,28,267,29],[333,7,333,8],[333,14,333,15],[333,21,333,22],[333,28,333,29],[333,30,333,33],[310,42,310,43],[298,37,298,43],[330,7,330,8],[330,14,330,15],[330,21,330,22],[330,28,330,29],[330,35,330,36],[310,7,310,8],[310,14,310,15],[310,21,310,22],[310,35,310,36],[310,28,310,29],[298,2,298,8],[298,9,298,15],[298,16,298,22],[298,23,298,29],[298,30,298,36],[312,37,312,43],[315,42,315,43],[165,28,165,29],[165,30,165,33],[169,41,170,43],[168,1,170,6],[240,7,240,8],[240,14,240,15],[240,21,240,22],[240,28,240,29],[240,35,240,36],[240,42,240,43],[171,42,171,43],[210,1,212,6],[210,41,210,43],[211,7,212,11],[211,12,212,22],[211,23,212,28],[211,29,212,33],[211,34,212,38],[211,41,212,43],[172,37,172,43],[172,2,172,8],[172,16,172,22],[165,35,165,36],[172,23,172,29],[165,7,165,8],[165,14,165,15],[119,7,119,8],[119,14,119,15],[119,21,119,22],[119,28,119,29],[119,35,119,36],[123,35,123,36],[123,7,123,8],[123,14,123,15],[123,21,123,22],[123,28,123,29],[123,30,123,33],[148,7,148,8],[148,14,148,15],[148,21,148,22],[148,28,148,29],[148,35,148,36],[130,2,130,8],[130,9,130,15],[130,16,130,22],[130,23,130,29],[130,30,130,36],[165,21,165,22],[88,16,88,22],[88,23,88,29],[88,30,88,36],[126,1,128,6],[127,7,128,11],[127,12,128,22],[127,23,128,28],[127,29,128,33],[127,34,128,38],[81,14,81,15],[81,21,81,22],[81,28,81,29],[81,30,81,33],[81,35,81,36],[81,7,81,8],[87,42,87,43],[46,2,46,8],[46,9,46,15],[46,16,46,22],[46,23,46,29],[46,30,46,36],[46,37,46,43],[64,42,64,43],[64,7,64,8],[64,14,64,15],[64,21,64,22],[64,28,64,29],[64,35,64,36],[1,7,2,11],[1,12,2,22],[1,23,2,28],[1,29,2,33],[1,34,2,38],[26,37,26,43],[38,42,38,43],[39,30,39,33],[0,1,2,6],[4,2,4,8],[4,9,4,15],[4,16,4,22],[4,23,4,29],[4,30,4,36],[0,41,0,43],[39,7,39,8],[39,14,39,15],[39,21,39,22],[39,28,39,29],[39,35,39,36],[39,42,39,43],[25,7,25,8],[25,14,25,15],[25,21,25,22],[25,28,25,29],[25,35,25,36],[214,2,214,8],[214,9,214,15],[214,16,214,22],[214,23,214,29],[214,30,214,36],[214,37,214,43],[185,7,185,8],[185,14,185,15],[185,21,185,22],[185,28,185,29],[185,35,185,36],[185,42,185,43],[188,37,188,43],[192,42,192,43],[207,7,207,8],[207,14,207,15],[207,21,207,22],[207,28,207,29],[207,30,207,33],[207,35,207,36],[207,42,207,43],[213,42,213,43],[370,7,370,8],[370,14,370,15],[370,21,370,22],[370,28,370,29],[370,35,370,36],[370,42,370,43],[375,7,375,8],[375,14,375,15],[375,21,375,22],[375,28,375,29],[375,30,375,33],[375,35,375,36],[375,42,375,43],[382,2,382,8],[382,9,382,15],[382,16,382,22],[382,23,382,29],[382,30,382,36],[382,37,382,43],[378,1,380,6],[378,41,378,43],[379,7,380,11],[379,12,380,22],[379,23,380,28],[379,29,380,33],[379,34,380,38],[379,41,380,43],[389,7,389,8],[389,14,389,15],[389,21,389,22],[389,28,389,29],[389,35,389,36],[389,42,389,43],[424,2,424,8],[424,9,424,15],[424,16,424,22],[424,23,424,29],[424,30,424,36],[424,37,424,43],[423,42,423,43],[403,7,403,8],[403,14,403,15],[403,21,403,22],[403,28,403,29],[417,7,417,8],[417,14,417,15],[417,21,417,22],[417,28,417,29],[417,30,417,33],[417,35,417,36],[417,42,417,43],[507,42,507,43],[504,1,506,6],[504,41,504,43],[505,7,506,11],[505,12,506,22],[505,23,506,28],[505,29,506,33],[505,34,506,38],[505,41,506,43],[505,39,505,40],[506,39,506,40],[619,21,619,22],[619,28,619,29],[619,35,619,36],[619,42,619,43],[631,29,632,33],[628,41,628,43],[508,2,508,8],[508,9,508,15],[508,16,508,22],[508,23,508,29],[508,30,508,36],[508,37,508,43],[523,7,523,8],[523,14,523,15],[523,21,523,22],[523,28,523,29],[523,35,523,36],[523,42,523,43],[525,37,525,43],[538,14,538,15],[538,21,538,22],[538,28,538,29],[538,35,538,36],[538,42,538,43],[253,41,254,43],[655,28,655,29],[655,35,655,36],[634,2,634,8],[634,9,634,15],[634,16,634,22],[634,23,634,29],[634,30,634,36],[641,7,641,8],[641,14,641,15],[641,21,641,22],[641,28,641,29],[641,35,641,36],[630,1,632,6],[631,7,632,11],[631,12,632,22],[609,7,609,8],[609,14,609,15],[609,21,609,22],[609,28,609,29],[609,35,609,36],[609,42,609,43],[619,7,619,8],[619,14,619,15],[627,7,627,8],[627,14,627,15],[627,21,627,22],[627,28,627,29],[627,30,627,33],[627,35,627,36],[655,7,655,8],[655,14,655,15],[655,21,655,22],[669,7,669,8],[669,14,669,15],[669,21,669,22],[669,28,669,29],[669,30,669,33],[669,35,669,36],[669,42,669,43],[666,7,666,8],[666,14,666,15],[666,21,666,22],[666,28,666,29],[666,35,666,36],[126,41,126,43],[670,37,670,40],[670,41,670,43],[0,45,0,46],[634,37,634,43],[376,37,376,40],[376,41,376,43],[381,42,381,43],[81,42,81,43],[82,37,82,40],[82,41,82,43],[129,42,129,43],[104,42,104,43],[119,42,119,43],[123,42,123,43],[124,37,124,40],[124,41,124,43],[243,37,243,43],[247,42,247,43],[666,42,666,43],[627,42,627,43],[628,37,628,40],[208,37,208,40],[208,41,208,43],[589,39,589,40],[590,39,590,40],[1,39,1,40],[2,39,2,40],[1,41,2,43],[3,42,3,43],[4,37,4,43],[25,42,25,43],[45,42,45,43],[294,41,294,43],[460,37,460,40],[460,41,460,43],[339,42,339,43],[297,42,297,43],[40,37,40,40],[40,41,40,43],[88,37,88,43],[165,42,165,43],[166,37,166,40],[166,41,166,43],[130,37,130,43],[148,42,148,43],[253,34,254,38],[255,42,255,43],[151,37,151,43],[156,42,156,43],[655,42,655,43],[633,42,633,43],[630,41,630,43],[631,39,631,40],[632,39,632,40],[267,35,267,36],[330,42,330,43],[333,42,333,43],[250,37,250,40],[250,41,250,43],[544,37,544,40],[334,37,334,40],[531,37,531,43],[544,41,544,43],[333,35,333,36],[641,42,641,43],[528,42,528,43],[502,37,502,40],[502,41,502,43],[501,35,501,36],[501,42,501,43],[403,35,403,36]]}
["X","新聞オリコミ広告部数明細表",null,null,null,null,null,"案件番号",null,null,null,null,"広　告　名",null,null,null,null,null,null,null,null,null,null,"折込日",null,null,null,null,null,"サイズ",null,null,null,null,"部数",null,null,null,null,"申込",null,{"$f":"基本・配布部数合計!$R$38","v":"2026-08-01"},null,null,null,"合計",null,null,"200円",null,null,null,null,null,null,null,"460円"]
["X",null,null,null,null,null,null,{"$f":"IF(AP41=0,\"\",申込書!$D$18)","v":""},null,null,null,null,{"$f":"IF(AP41=0,\"\",申込書!$F$12)","v":""},null,null,null,null,null,null,null,null,null,null,{"$f":"IF(AP41=0,\"\",申込書!$D$14)","v":""},null,null,null,null,null,{"$f":"IF(AP41=0,\"\",申込書!$D$15)","v":""},null,null,null,null,{"$f":"IF(AP41=0,\"\",基本・配布部数合計!$T$37)","v":""},null,null,null,null,{"$f":"IF(AP41=0,\"\",申込書!$D$5)","v":""},null,"岡山県部数表",null,null,null,"200円","460円",null,"m01","m02","m03","m59","m05","m60","m04",null,"m01","m02","m03","m59","m05","m60","m63","m04"]
["X",null,null,null,null,null,null,null,null,null,null,null,null,null,null,null,null,null,null,null,null,null,null,null,null,null,null,null,null,null,null,null,null,null,null,null,null,null,null,{"$f":"IF(AP41=0,\"\",申込書!$D$6)","v":""},null,null,null,null,null,null,null,null,"朝日","毎日","読売","山陽","産経","中国","日経",null,"朝日","毎日","読売","山陽","産経","中国","四国","日経"]
["X",null,null,null,null,null,null,null,null,null,null,null,null,null,null,null,null,null,null,null,null,null,null,null,null,null,null,null,null,null,null,null,null,null,null,null,null,null,null,null,null,null,1]
["X",null,"【　m01　朝　　　日　】",null,null,null,null,null,null,"【　m02　毎　　　日　】",null,null,null,null,null,null,"【　m03　読　　　売　】",null,null,null,null,null,null,"【　m59　山　　　陽　】",null,null,null,null,null,null,"【　m04　日　　　経　】",null,null,null,null,null,null,"【　m05　産　　　経　】",null,null,null,null,null,null,null,"合計",null,null,"m01","m02","m03","m59","m05","m60","m04",null,"m01","m02","m03","m59","m05","m60","m63","m04"]
["X","市　　区",null,null,"ｺｰﾄﾞ",null,"基本部数","配布部数",null,null,null,"ｺｰﾄﾞ",null,"基本部数","配布部数",null,null,null,"ｺｰﾄﾞ",null,"基本部数","配布部数",null,null,null,"ｺｰﾄﾞ",null,"基本部数","配布部数",null,null,null,"ｺｰﾄﾞ",null,"基本部数","配布部数",null,null,null,"ｺｰﾄﾞ",null,"基本部数","配布部数",null,null,"90円","390円",null,"朝日","毎日","読売","山陽","産経","中国","日経",null,"朝日","毎日","読売","山陽","産経","中国","四国","日経"]
["A","33101","●","m01","3310101021","大元",1900,0,"","●","m02","3310102001","岡山中央",50,0,"","●","m03","3310103001","内山下",150,0,"","●","m59","3310159001","岡山中央",3600,0,"","●","m04","3310159001","S岡山中央",1400,0,"",null," ","3310159001","Sa岡山中央","　 ／",null,null,null,null,null,null,null,null,null,null,null,null,{"$f":"IF(COUNTIF(AC7,{\">0\",\"<0\"}),0,COUNTIF(AJ7,{\">0\",\"<0\"}))","v":0}]
["A","岡山市","●","m01","3310101111","岡輝",250,0,"","●","m02","3310102011","清輝橋",700,0,"","●","m03","3310103002","岡山中央",200,0,"","●","m59","3310159003","野田屋町",1300,0,"","●","m04","3310102032","M津島",150,0,"",null," ","3310159003","Sa野田屋町","　 ／",null,null,null,null,null,null,null,null,null,null,null,null,{"$f":"IF(COUNTIF(O10,{\">0\",\"<0\"}),0,COUNTIF(AJ8,{\">0\",\"<0\"}))","v":0}]
["A","(北区A)","●","m01","3310101112","清輝",50,0,"","●","m02","3310102031","岡山西",500,0,"","●","m03","3310103003","桑田",200,0,"","●","m59","3310159011","岡輝",1300,0,"","●","m04","3310159011","S岡輝",200,0,"",null," ","3310159011","Sa岡輝","　 ／",null,null,null,null,null,null,null,null,null,null,null,null,{"$f":"IF(COUNTIF(AC9,{\">0\",\"<0\"}),0,COUNTIF(AJ9,{\">0\",\"<0\"}))","v":0}]
["A",null,"●","m01","3310101114","浜野",100,0,"","●","m02","3310102032","津島",1500,0,"","●","m03","3310103011","大供",600,0,"","●","m59","3310159012","清輝",350,0,"","●","m04","3310159013","S鹿田",150,0,"",null," ","3310159012","Sa清輝","　 ／",null,null,null,null,null,null,null,null,null,null,null,null,{"$f":"IF(COUNTIF(AC11,{\">0\",\"<0\"}),0,COUNTIF(AJ10,{\">0\",\"<0\"}))","v":0}]
["A",null,"●","m01","3310101031","大安寺東",550,0,"",null," ","3310159011","Sa岡輝","　 ／",null,null,"●","m03","3310103021","野田",650,0,"","●","m59","3310159013","鹿田",1000,0,"","●","m04","3310159014","S浜野",50,0,"",null," ","3310159013","Sa鹿田","　 ／",null,null,null,null,null,null,null,null,null,null,null,null,{"$f":"IF(COUNTIF(AC12,{\">0\",\"<0\"}),0,COUNTIF(AJ11,{\">0\",\"<0\"}))","v":0}]
["A",null,"●","m01","3310101036","大安寺西",300,0,"",null," ","3310159021","Sa新屋敷","　 ／",null,null,"●","m03","3310103031","三門",450,0,"","●","m59","3310159014","浜野",750,0,"","●","m04","3310159021","S新屋敷",150,0,"",null," ","3310159014","Sa浜野","　 ／",null,null,null,null,null,null,null,null,null,null,null,null,{"$f":"IF(COUNTIF(AC13,{\">0\",\"<0\"}),0,COUNTIF(AJ12,{\">0\",\"<0\"}))","v":0}]
["A",null,"●","m01","3310101033","津島",1100,0,"",null," ","3310159022","Sa岡山西","　 ／",null,null,"●","m03","3310103032","奉還町",200,0,"","●","m59","3310159021","新屋敷",1050,0,"","●","m04","3310159022","S岡山西",200,0,"",null," ","3310159021","Sa新屋敷","　 ／",null,null,null,null,null,null,null,null,null,null,null,null,{"$f":"IF(COUNTIF(AC14,{\">0\",\"<0\"}),0,COUNTIF(AJ13,{\">0\",\"<0\"}))","v":0}]
["A",null,"●","m01","3310101034","津島西",500,0,"",null," ","3310159024","Sa今","　 ／",null,null,"●","m03","3310103033","津島",250,0,"","●","m59","3310159022","岡山西",1900,0,"","●","m04","3310159024","S今",150,0,"",null," ","3310159022","Sa岡山西","　 ／",null,null,null,null,null,null,null,null,null,null,null,null,{"$f":"IF(COUNTIF(AC15,{\">0\",\"<0\"}),0,COUNTIF(AJ14,{\">0\",\"<0\"}))","v":0}]
["A",null,"●","m01","3310101035","岡山北",2900,0,"",null," ","3310159032","Sa花尻","　 ／",null,null,"●","m03","3310103034","北方",500,0,"","●","m59","3310159024","今",1200,0,"","●","m04","3310159031","S三門",200,0,"",null," ","3310159024","Sa今","　 ／",null,null,null,null,null,null,null,null,null,null,null,null,{"$f":"IF(COUNTIF(AC16,{\">0\",\"<0\"}),0,COUNTIF(AJ15,{\">0\",\"<0\"}))","v":0}]
["A",null,null,null,null,null,null,null,null,null," ","3310159038","Sa玉柏","　 ／",null,null,null,null,null,null,null,null,null,"●","m59","3310159031","三門",2150,0,"","●","m04","3310159032","S花尻",50,0,"",null," ","3310159031","Sa三門","　 ／",null,null,null,null,null,null,null,null,null,null,null,null,{"$f":"IF(COUNTIF(AC17,{\">0\",\"<0\"}),0,COUNTIF(AJ16,{\">0\",\"<0\"}))","v":0}]
["A",null,null,null,null,null,null,null,null,null,null,null,null,null,null,null,null,null,null,null,null,null,null,"●","m59","3310159032","花尻",450,0,"","●","m04","3310159034","S伊島",350,0,"",null," ","3310159032","Sa花尻","　 ／",null,null,null,null,null,null,null,null,null,null,null,null,{"$f":"IF(COUNTIF(AC18,{\">0\",\"<0\"}),0,COUNTIF(AJ17,{\">0\",\"<0\"}))","v":0}]
["A",null,null,null,null,null,null,null,null,null,null,null,null,null,null,null,null,null,null,null,null,null,null,"●","m59","3310159034","伊島",2200,0,"","●","m04","3310159035","S津島",150,0,"",null," ","3310159034","Sa伊島","　 ／",null,null,null,null,null,null,null,null,null,null,null,null,{"$f":"IF(COUNTIF(AC19,{\">0\",\"<0\"}),0,COUNTIF(AJ18,{\">0\",\"<0\"}))","v":0}]
["A",null,null,null,null,null,null,null,null,null,null,null,null,null,null,null,null,null,null,null,null,null,null,"●","m59","3310159035","津島",1650,0,"","●","m04","3310159037","S北方",50,0,"",null," ","3310159035","Sa津島","　 ／",null,null,null,null,null,null,null,null,null,null,null,null,{"$f":"IF(COUNTIF(AC20,{\">0\",\"<0\"}),0,COUNTIF(AJ19,{\">0\",\"<0\"}))","v":0}]
["A",null,null,null,null,null,null,null,null,null,null,null,null,null,null,null,null,null,null,null,null,null,null,"●","m59","3310159037","北方",700,0,"","●","m04","3310159038","S玉柏",50,0,"",null," ","3310159037","Sa北方","　 ／",null,null,null,null,null,null,null,null,null,null,null,null,{"$f":"IF(COUNTIF(AC21,{\">0\",\"<0\"}),0,COUNTIF(AJ20,{\">0\",\"<0\"}))","v":0}]
["A",null,null,null,null,null,null,null,null,null,null,null,null,null,null,null,null,null,null,null,null,null,null,"●","m59","3310159038","玉柏",700,0,"",null,null,null,null,null,null,null,null," ","3310159038","Sa玉柏","　 ／"]
["A"]
["X"]
["X"]
["A"]
["X",null,null,null,null,"　小　計",{"$f":"SUM(G7:G22)","v":7650},{"$f":"SUM(H7:H22)","v":0},null,null,null,null,"　小　計",{"$f":"SUM(N7:N22)","v":2750},{"$f":"SUM(O7:O22)","v":0},null,null,"",null,"　小　計",{"$f":"SUM(U7:U22)","v":3200},{"$f":"SUM(V7:V22)","v":0},null,null,"",null,"　小　計",{"$f":"SUM(AB7:AB22)","v":20300},{"$f":"SUM(AC7:AC22)","v":0},null,null,"",null,"　小　計",{"$f":"SUM(AI7:AI22)","v":3300},{"$f":"SUM(AJ7:AJ22)","v":0},null,null,"",null,"　産 経 小 計",{"$f":"SUM(AP7:AP25)","v":0},{"$f":"SUM(AQ7:AQ25)","v":0}]
["X",null,null,null,null,null,null,null,null,null,null,null,null,null,null,null,null,null,null,null,null,null,null,null,null,null,null,null,null,null,null,null,null,null,null,null,null,"【　m60　中　　　国　】"]
["A",null,null,null,null,null,null,null,null,null,null,null,null,null,null,null,null,null,null,null,null,null,null,null,null,null,null,null,null,null,null,null,null,null,null,null,null,"●","m60","3310160001","岡山中央",250,0,"",null,null,null,null,null,null,null,null,null,{"$f":"COUNTIF(AQ28,{\">0\",\"<0\"})","v":0}]
["A",null,null,null,null,null,null,null,null,null,null,null,null,null,null,null,null,null,null,null,null,null,null,null,null,null,null,null,null,null,null,null,null,null,null,null,null,null," ","3310159003","Sa野田屋町","　 ／"]
["A",null,null,null,null,null,null,null,null,null,null,null,null,null,null,null,null,null,null,null,null,null,null,null,null,null,null,null,null,null,null,null,null,null,null,null,null,null," ","3310159011","Sa岡輝","　 ／"]
["A",null,null,null,null,null,null,null,null,null,null,null,null,null,null,null,null,null,null,null,null,null,null,null,null,null,null,null,null,null,null,null,null,null,null,null,null,null," ","3310159012","Sa清輝","　 ／"]
["A",null,null,null,null,null,null,null,null,null,null,null,null,null,null,null,null,null,null,null,null,null,null,null,null,null,null,null,null,null,null,null,null,null,null,null,null,null," ","3310159013","Sa鹿田","　 ／"]
["A",null,null,null,null,null,null,null,null,null,null,null,null,null,null,null,null,null,null,null,null,null,null,null,null,null,null,null,null,null,null,null,null,null,null,null,null,null," ","3310159021","Sa新屋敷","　 ／"]
["A",null,null,null,null,null,null,null,null,null,null,null,null,null,null,null,null,null,null,null,null,null,null,null,null,null,null,null,null,null,null,null,null,null,null,null,null,null," ","3310159022","Sa岡山西","　 ／"]
["A",null,null,null,null,null,null,null,null,null,null,null,null,null,null,null,null,null,null,null,null,null,null,null,null,null,null,null,null,null,null,null,null,null,null,null,null,null," ","3310159024","Sa今","　 ／"]
["A",null,null,null,null,null,null,null,null,null,null,null,null,null,null,null,null,null,null,null,null,null,null,null,null,null,null,null,null,null,null,null,null,null,null,null,null,null," ","3310159031","Sa三門","　 ／"]
["A",null,null,null,null,null,null,null,null,null,null,null,null,null,null,null,null,null,null,null,null,null,null,null,null,null,null,null,null,null,null,null,null,null,null,null,null,null," ","3310159034","Sa伊島","　 ／"]
["A",null,null,null,null,null,null,null,null,null,null,null,null,null,null,null,null,null,null,null,null,null,null,null,null,null,null,null,null,null,null,null,null,null,null,null,null,null," ","3310159035","Sa津島","　 ／"]
["X",{"$f":"SUM(G26,N26,U26,AP26,AB26,AI26,AP39)","v":37450},null,null,null,null,null,null,null,null,null,null,null,null,null,null,null,null,null,null,null,null,null,null,null,null,null,null,null,null,null,null,null,null,null,null,null,null,"",null,"　中 国 小 計",{"$f":"SUM(AP28:AP37)","v":250},{"$f":"SUM(AQ28)","v":0}]
["X","合計","　　合計","　　合計",null,null,{"$f":"G26","v":7650},{"$f":"H26","v":0},null,null,"　　合計",null,null,{"$f":"N26","v":2750},{"$f":"O26","v":0},null,null,"　　合計",null,null,{"$f":"U26","v":3200},{"$f":"V26","v":0},null,null,"　　合計",null,null,{"$f":"AB26","v":20300},{"$f":"AC26","v":0},null,"　　合計",null,null,null,{"$f":"AI26","v":3300},{"$f":"AJ26","v":0},null,null,"　　合計",null,null,{"$f":"SUM(AP26,AP39)","v":250},{"$f":"SUM(AQ26,AQ39)","v":0}]
["X",null,"販売店名左横欄は、配送管理料を表します。 ●：２００円(税込２２０円)、  ■：４６０円(税込５０６円)の販売店です。　",null,null,null,null,null,null,null,null,null,null,null,null,null,null,null,null,null,null,null,null,null,null,null,null,null,null,null,null,null,null,null,null,null,null,"ペ ー ジ 計",null,null,null,{"$f":"SUM(H40,O40,V40,AQ40,AC40,AJ40)","v":0},null,null,null,{"$f":"SUM(AW41:BC41)","v":0},{"$f":"SUM(BE41:BL41)","v":0},null,{"$f":"COUNTIF(H7:H17,{\">0\",\"<0\"})","v":0},{"$f":"COUNTIF(O7:O10,{\">0\",\"<0\"})","v":0},{"$f":"COUNTIF(V7:V15,{\">0\",\"<0\"})","v":0},{"$f":"COUNTIF(AC7:AC22,{\">0\",\"<0\"})","v":0},null,{"$f":"SUM(BB7:BB40)","v":0},{"$f":"SUM(BC7:BC40)","v":0}]
["X",null,"販売店内の区域指定（広告主中心・広告主よりへ・会場中心・会場よりへ・教室中心に・教室よりに・東よりへ・西よりへ・北よりへ・南よりへ）",null,null,null,null,null,null,null,null,null,null,null,null,null,null,null,null,null,null,null,null,null,null,null,null,null,null,null,null,null,null,null,null,null,null,"株式会社　朝日オリコミ岡山",null,null,null,null,null,{"$f":"基本・配布部数合計!$T$38","v":"2026.07.10"}]
["X","新聞オリコミ広告部数明細表",null,null,null,null,null,"案件番号",null,null,null,null,"広　告　名",null,null,null,null,null,null,null,null,null,null,"折込日",null,null,null,null,null,"サイズ",null,null,null,null,"部数",null,null,null,null,"申込",null,{"$f":"基本・配布部数合計!$R$38","v":"2026-08-01"}]
["X",null,null,null,null,null,null,{"$f":"IF(AP83=0,\"\",申込書!$D$18)","v":""},null,null,null,null,{"$f":"IF(AP83=0,\"\",申込書!$F$12)","v":""},null,null,null,null,null,null,null,null,null,null,{"$f":"IF(AP83=0,\"\",申込書!$D$14)","v":""},null,null,null,null,null,{"$f":"IF(AP83=0,\"\",申込書!$D$15)","v":""},null,null,null,null,{"$f":"IF(AP83=0,\"\",基本・配布部数合計!$T$37)","v":""},null,null,null,null,{"$f":"IF(AP83=0,\"\",申込書!$D$5)","v":""},null,"岡山県部数表"]
["X",null,null,null,null,null,null,null,null,null,null,null,null,null,null,null,null,null,null,null,null,null,null,null,null,null,null,null,null,null,null,null,null,null,null,null,null,null,null,{"$f":"IF(AP83=0,\"\",申込書!$D$6)","v":""}]
["X",null,null,null,null,null,null,null,null,null,null,null,null,null,null,null,null,null,null,null,null,null,null,null,null,null,null,null,null,null,null,null,null,null,null,null,null,null,null,null,null,null,2]
["X",null,"【　m01　朝　　　日　】",null,null,null,null,null,null,"【　m02　毎　　　日　】",null,null,null,null,null,null,"【　m03　読　　　売　】",null,null,null,null,null,null,"【　m59　山　　　陽　】",null,null,null,null,null,null,"【　m04　日　　　経　】",null,null,null,null,null,null,"【　m05　産　　　経　】"]
["X","市　　区",null,null,"ｺｰﾄﾞ",null,"基本部数","配布部数",null,null,null,"ｺｰﾄﾞ",null,"基本部数","配布部数",null,null,null,"ｺｰﾄﾞ",null,"基本部数","配布部数",null,null,null,"ｺｰﾄﾞ",null,"基本部数","配布部数",null,null,null,"ｺｰﾄﾞ",null,"基本部数","配布部数",null,null,null,"ｺｰﾄﾞ",null,"基本部数","配布部数"]
["A","33101","■","m01","3310101051","津高",400,0,"",null," ","3310159051","Sa津高","　 ／",null,null,"■","m03","3310103051","岡山北",200,0,"","■","m59","3310159051","津高",1500,0,"","■","m04","3310101081","A庭瀬・庄",150,0,"",null," ","3310159051","Sa津高","　 ／",null,null,null,null,null,null,null,null,null,null,null,null,null,null,null,null,null,null,null,null,null,{"$f":"IF(COUNTIF(H51,{\">0\",\"<0\"}),0,COUNTIF(AJ49,{\">0\",\"<0\"}))","v":0}]
["A","岡山市","■","m01","3310101071","一宮",650,0,"",null," ","3310159052","Sa津高北","　 ／",null,null,"■","m03","3310103062","建部",100,0,"","■","m59","3310159052","津高北",1150,0,"","■","m04","3310101082","A庭瀬東",50,0,"",null," ","3310159052","Sa津高北","　 ／",null,null,null,null,null,null,null,null,null,null,null,null,null,null,null,null,null,null,null,null,null,{"$f":"IF(COUNTIF(H52,{\">0\",\"<0\"}),0,COUNTIF(AJ50,{\">0\",\"<0\"}))","v":0}]
["A","(北区B)","■","m01","3310101081","庭瀬・庄",1050,0,"",null," ","3310159054","Sa牧山","　 ／",null,null,"■","m03","3310103071","一の宮",400,0,"","■","m59","3310159054","牧山",150,0,"","■","m04","3310159051","S津高",100,0,"",null," ","3310159054","Sa牧山","　 ／",null,null,null,null,null,null,null,null,null,null,null,null,null,null,null,null,null,null,null,null,null,{"$f":"IF(COUNTIF(AC49,{\">0\",\"<0\"}),0,COUNTIF(AJ51,{\">0\",\"<0\"}))","v":0}]
["A",null,"■","m01","3310101082","庭瀬東",750,0,"",null," ","3310159062","Saみつ","　 ／",null,null,"■","m03","3310103072","備中高松",500,0,"","■","m59","3310159062","みつ",1500,0,"","■","m04","3310159052","S津高北",100,0,"",null," ","3310159062","Saみつ","　 ／",null,null,null,null,null,null,null,null,null,null,null,null,null,null,null,null,null,null,null,null,null,{"$f":"IF(COUNTIF(AC50,{\">0\",\"<0\"}),0,COUNTIF(AJ52,{\">0\",\"<0\"}))","v":0}]
["A",null,""," ","3310159062","Saみつ","　 ／",null,null,null," ","3310159064","Sa福渡","　 ／",null,null,"■","m03","3310103081","岡山西部",1000,0,"","■","m59","3310159064","福渡",1100,0,"",null," ","3310159054","Sa牧山","　 ／",null,null,null," ","3310159064","Sa福渡","　 ／"]
["A",null,""," ","3310159064","Sa福渡","　 ／",null,null,null," ","3310159071","Sa矢坂","　 ／",null,null,null," ","3310159062","Saみつ","　 ／",null,null,"■","m59","3310159071","矢坂",900,0,"",null," ","3310159062","Saみつ","　 ／",null,null,null," ","3310159071","Sa矢坂","　 ／"]
["A",null,""," ","3310159074","Sa吉備津","　 ／",null,null,null," ","3310159072","Sa芳賀佐山","　 ／",null,null,""," ","3310159064","Sa福渡","　 ／",null,null,"■","m59","3310159072","芳賀佐山",650,0,"",null," ","3310159064","Sa福渡","　 ／",null,null,null," ","3310159072","Sa芳賀佐山","　 ／"]
["A",null,""," ","3310159075","Sa高松","　 ／",null,null,null," ","3310159073","Sa一宮","　 ／",null,null,null,null,null,null,null,null,null,"■","m59","3310159073","一宮",1600,0,"",null," ","3310159071","Sa矢坂","　 ／",null,null,null," ","3310159073","Sa一宮","　 ／"]
["A",null,""," ","3310159076","Sa高松西・足守","　 ／",null,null,null," ","3310159074","Sa吉備津","　 ／",null,null,null,null,null,null,null,null,null,"■","m59","3310159074","吉備津",800,0,"","■","m04","3310159072","S芳賀佐山",100,0,"",null," ","3310159074","Sa吉備津","　 ／",null,null,null,null,null,null,null,null,null,null,null,null,null,null,null,null,null,null,null,null,null,{"$f":"IF(COUNTIF(AC55,{\">0\",\"<0\"}),0,COUNTIF(AJ57,{\">0\",\"<0\"}))","v":0}]
["A",null,null,null,null,null,null,null,null,null," ","3310159075","Sa高松","　 ／",null,null,null,null,null,null,null,null,null,"■","m59","3310159075","高松",1650,0,"","■","m04","3310159073","S一宮",100,0,"",null," ","3310159075","Sa高松","　 ／",null,null,null,null,null,null,null,null,null,null,null,null,null,null,null,null,null,null,null,null,null,{"$f":"IF(COUNTIF(AC56,{\">0\",\"<0\"}),0,COUNTIF(AJ58,{\">0\",\"<0\"}))","v":0}]
["A",null,null,null,null,null,null,null,null,null," ","3310159076","Sa高松西足守","　 ／",null,null,null,null,null,null,null,null,null,"■","m59","3310159076","高松西・足守",1850,0,"",null," ","3310159074","Sa吉備津","　 ／",null,null,null," ","3310159076","Sa高松西足守","　 ／"]
["A",null,null,null,null,null,null,null,null,null," ","3310159081","Sa庭瀬白石","　 ／",null,null,null,null,null,null,null,null,null,"■","m59","3310159081","庭瀬白石",1800,0,"",null," ","3310159075","Sa高松","　 ／",null,null,null," ","3310159081","Sa庭瀬白石","　 ／"]
["A",null,null,null,null,null,null,null,null,null," ","3310159082","Sa北庭瀬","　 ／",null,null,null,null,null,null,null,null,null,"■","m59","3310159082","北庭瀬",1750,0,"",null," ","3310159076","Sa高松西足守","　 ／",null,null,null," ","3310159082","Sa北庭瀬","　 ／"]
["A",null,null,null,null,null,null,null,null,null,null,null,null,null,null,null,null,null,null,null,null,null,null,null,null,null,null,null,null,null,"■","m04","3310159081","S庭瀬白石",100,0,"",null,null,null,null,null,null,null,null,null,null,null,null,null,null,null,null,null,null,null,null,null,null,null,null,null,null,{"$f":"IF(COUNTIF(AC60,{\">0\",\"<0\"}),0,COUNTIF(AJ62,{\">0\",\"<0\"}))","v":0}]
["A",null,null,null,null,null,null,null,null,null,null,null,null,null,null,null,null,null,null,null,null,null,null,null,null,null,null,null,null,null,null," ","3310159082","Sa北庭瀬","　 ／"]
["A"]
["X",{"$f":"SUM(G65,N65,U65,AP65,AB65,AI65)","v":22150},null,null,null,"　小　計",{"$f":"SUM(G49:G62)","v":2850},{"$f":"SUM(H49:H62)","v":0},null,null,null,null,"　小　計",{"$f":"SUM(N49:N62)","v":0},{"$f":"SUM(O49:O62)","v":0},null,null,"",null,"　小　計",{"$f":"SUM(U49:U62)","v":2200},{"$f":"SUM(V49:V62)","v":0},null,null,"",null,"　小　計",{"$f":"SUM(AB49:AB61)","v":16400},{"$f":"SUM(AC49:AC61)","v":0},null,null,"",null,"　小　計",{"$f":"SUM(AI49:AI63)","v":700},{"$f":"SUM(AJ49:AJ63)","v":0},null,null,"",null,"　小　計",{"$f":"SUM(AP49:AP62)","v":0},{"$f":"SUM(AQ49:AQ62)","v":0}]
["X"]
["X"]
["X"]
["X"]
["X"]
["X"]
["X"]
["X"]
["X"]
["X"]
["X"]
["X"]
["X"]
["X"]
["X"]
["X"]
["X","合計","　　合計","　　合計",null,null,{"$f":"G65","v":2850},{"$f":"H65","v":0},null,null,"　　合計",null,null,{"$f":"N65","v":0},{"$f":"O65","v":0},null,null,"　　合計",null,null,{"$f":"U65","v":2200},{"$f":"V65","v":0},null,null,"　　合計",null,null,{"$f":"AB65","v":16400},{"$f":"AC65","v":0},null,"　　合計",null,null,null,{"$f":"AI65","v":700},{"$f":"AJ65","v":0},null,null,"　　合計",null,null,{"$f":"SUM(AP65,AP74)","v":0},{"$f":"SUM(AQ65,AQ74)","v":0}]
["X",null,"販売店名左横欄は、配送管理料を表します。 ●：２００円(税込２２０円)、  ■：４６０円(税込５０６円)の販売店です。　",null,null,null,null,null,null,null,null,null,null,null,null,null,null,null,null,null,null,null,null,null,null,null,null,null,null,null,null,null,null,null,null,null,null,"ペ ー ジ 計",null,null,null,{"$f":"SUM(H82,O82,V82,AQ82,AC82,AJ82)","v":0},null,null,null,{"$f":"SUM(AW83:BC83)","v":0},{"$f":"SUM(BE83:BL83)","v":0},null,null,null,null,null,null,null,null,null,{"$f":"COUNTIF(H49:H52,{\">0\",\"<0\"})","v":0},null,{"$f":"COUNTIF(V49:V53,{\">0\",\"<0\"})","v":0},{"$f":"COUNTIF(AC49:AC61,{\">0\",\"<0\"})","v":0},null,null,null,{"$f":"SUM(BL49:BL82)","v":0}]
["X",null,"販売店内の区域指定（広告主中心・広告主よりへ・会場中心・会場よりへ・教室中心に・教室よりに・東よりへ・西よりへ・北よりへ・南よりへ）",null,null,null,null,null,null,null,null,null,null,null,null,null,null,null,null,null,null,null,null,null,null,null,null,null,null,null,null,null,null,null,null,null,null,"株式会社　朝日オリコミ岡山",null,null,null,null,null,{"$f":"基本・配布部数合計!$T$38","v":"2026.07.10"}]
["X","新聞オリコミ広告部数明細表",null,null,null,null,null,"案件番号",null,null,null,null,"広　告　名",null,null,null,null,null,null,null,null,null,null,"折込日",null,null,null,null,null,"サイズ",null,null,null,null,"部数",null,null,null,null,"申込",null,{"$f":"基本・配布部数合計!$R$38","v":"2026-08-01"}]
["X",null,null,null,null,null,null,{"$f":"IF(AP125=0,\"\",申込書!$D$18)","v":""},null,null,null,null,{"$f":"IF(AP125=0,\"\",申込書!$F$12)","v":""},null,null,null,null,null,null,null,null,null,null,{"$f":"IF(AP125=0,\"\",申込書!$D$14)","v":""},null,null,null,null,null,{"$f":"IF(AP125=0,\"\",申込書!$D$15)","v":""},null,null,null,null,{"$f":"IF(AP125=0,\"\",基本・配布部数合計!$T$37)","v":""},null,null,null,null,{"$f":"IF(AP125=0,\"\",申込書!$D$5)","v":""},null,"岡山県部数表"]
["X",null,null,null,null,null,null,null,null,null,null,null,null,null,null,null,null,null,null,null,null,null,null,null,null,null,null,null,null,null,null,null,null,null,null,null,null,null,null,{"$f":"IF(AP125=0,\"\",申込書!$D$6)","v":""}]
["X",null,null,null,null,null,null,null,null,null,null,null,null,null,null,null,null,null,null,null,null,null,null,null,null,null,null,null,null,null,null,null,null,null,null,null,null,null,null,null,null,null,3]
["X",null,"【　m01　朝　　　日　】",null,null,null,null,null,null,"【　m02　毎　　　日　】",null,null,null,null,null,null,"【　m03　読　　　売　】",null,null,null,null,null,null,"【　m59　山　　　陽　】",null,null,null,null,null,null,"【　m04　日　　　経　】",null,null,null,null,null,null,"【　m05　産　　　経　】"]
["X","市　　区",null,null,"ｺｰﾄﾞ",null,"基本部数","配布部数",null,null,null,"ｺｰﾄﾞ",null,"基本部数","配布部数",null,null,null,"ｺｰﾄﾞ",null,"基本部数","配布部数",null,null,null,"ｺｰﾄﾞ",null,"基本部数","配布部数",null,null,null,"ｺｰﾄﾞ",null,"基本部数","配布部数",null,null,null,"ｺｰﾄﾞ",null,"基本部数","配布部数"]
["A","33102","●","m01","3310201101","高島",450,0,"",null," ","3310259001","Sa高島","　 ／",null,null,"●","m03","3310203001","高島",1000,0,"","●","m59","3310259001","高島",2300,0,"","●","m04","3310201002","A原尾島・東山",350,0,"",null," ","3310259001","Sa高島","　 ／",null,null,null,null,null,null,null,null,null,null,null,null,{"$f":"IF(COUNTIF(H93,{\">0\",\"<0\"}),0,COUNTIF(AJ91,{\">0\",\"<0\"}))","v":0}]
["A","岡山市","●","m01","3310201103","幡多",450,0,"",null," ","3310259003","Sa幡多","　 ／",null,null,"●","m03","3310203002","原尾島",300,0,"","●","m59","3310259003","幡多",1750,0,"","■","m04","3310201051","A富山・平井",250,0,"",null," ","3310259003","Sa幡多","　 ／",null,null,null,null,null,null,null,null,null,null,null,null,null,null,null,null,null,null,null,null,null,{"$f":"IF(COUNTIF(H94,{\">0\",\"<0\"}),0,COUNTIF(AJ92,{\">0\",\"<0\"}))","v":0}]
["A","(中区)","●","m01","3310201002","原尾島・東山",1000,0,"",""," ","3310259005","Sa原尾島","　 ／",null,null,"●","m03","3310203003","門田屋敷",300,0,"","●","m59","3310259005","原尾島",2600,0,"","●","m04","3310259001","S高島",100,0,"",""," ","3310259005","Sa原尾島","　 ／",null,null,null,null,null,null,null,null,null,null,null,null,{"$f":"IF(COUNTIF(AC91,{\">0\",\"<0\"}),0,COUNTIF(AJ93,{\">0\",\"<0\"}))","v":0}]
["A",null,"■","m01","3310201051","富山・平井",1700,0,"",""," ","3310259006","Sa三勲","　 ／",null,null,"●","m03","3310203004","平井",1200,0,"","●","m59","3310259006","三勲",900,0,"","●","m04","3310259003","S幡多",150,0,"",""," ","3310259006","Sa三勲","　 ／",null,null,null,null,null,null,null,null,null,null,null,null,{"$f":"IF(COUNTIF(AC92,{\">0\",\"<0\"}),0,COUNTIF(AJ94,{\">0\",\"<0\"}))","v":0}]
["A",null,"■","m01","3310201161","兼基",150,0,"",""," ","3310259007","Sa平井東","　 ／",null,null,"■","m03","3310203051","円山",550,0,"","●","m59","3310259007","平井東",1100,0,"","■","m04","3310259008","S平井西",50,0,"",""," ","3310259007","Sa平井東","　 ／",null,null,null,null,null,null,null,null,null,null,null,null,null,null,null,null,null,null,null,null,null,{"$f":"IF(COUNTIF(AC96,{\">0\",\"<0\"}),0,COUNTIF(AJ95,{\">0\",\"<0\"}))","v":0}]
["A",null,"■","m01","3310201162","古都",650,0,"",""," ","3310259008","Sa平井西","　 ／",null,null,"■","m03","3310203061","岡山東部",1300,0,"","■","m59","3310259008","平井西",1650,0,"","■","m04","3310259051","S富山",250,0,"",""," ","3310259008","Sa平井西","　 ／",null,null,null,null,null,null,null,null,null,null,null,null,null,null,null,null,null,null,null,null,null,{"$f":"IF(COUNTIF(AC97,{\">0\",\"<0\"}),0,COUNTIF(AJ96,{\">0\",\"<0\"}))","v":0}]
["A",null,"●"," ","3310201001","幡多高島\n2025/11廃店","高島・幡多・古都の一部に分割",null,null,""," ","3310259051","Sa富山","　 ／",null,null,null,null,null,null,null,null,null,"■","m59","3310259051","富山",3100,0,"",""," ","3310259052","Sa光政","　 ／",null,null,""," ","3310259051","Sa富山","　 ／",null,null,null,null,null,null,null,null,null,null,null,null,null,null,null,null,null,null,null,null,null,{"$f":"IF(COUNTIF(AC98,{\">0\",\"<0\"}),0,COUNTIF(AJ97,{\">0\",\"<0\"}))","v":0}]
["A",null,"■"," ","3310201061","古都(旧:東岡山)\n2025/12廃店","(古都・兼基・東岡山に分割）",null,null,""," ","3310259052","Sa光政","　 ／",null,null,null,null,null,null,null,null,null,"■","m59","3310259052","光政",1600,0,"","■","m04","3310259061","Sa兼基",100,0,"",""," ","3310259052","Sa光政","　 ／",null,null,null,null,null,null,null,null,null,null,null,null,null,null,null,null,null,null,null,null,null,{"$f":"IF(COUNTIF(AC99,{\">0\",\"<0\"}),0,COUNTIF(AJ98,{\">0\",\"<0\"}))","v":0}]
["A",null,""," ","3310259008","Sa平井西","　 ／",null,null,""," ","3310259061","Sa兼基","　 ／",null,null,null,null,null,null,null,null,null,"■","m59","3310259061","兼基",1050,0,"","■","m04","3310259062","Sa古都",150,0,"",""," ","3310259061","Sa兼基","　 ／",null,null,null,null,null,null,null,null,null,null,null,null,null,null,null,null,null,null,null,null,null,{"$f":"IF(COUNTIF(AC100,{\">0\",\"<0\"}),0,COUNTIF(AJ99,{\">0\",\"<0\"}))","v":0}]
["A",null,""," ","3310259052","Sa光政","　 ／",null,null,""," ","3310259062","Sa古都","　 ／",null,null,null,null,null,null,null,null,null,"■","m59","3310259062","古都",2000,0,"",null,null,null,null,null,null,null,""," ","3310259062","Sa古都","　 ／"]
["A"]
["A"]
["A"]
["A"]
["X",{"$f":"SUM(G105,N105,U105,AP105,AB105,AI105)","v":28500},null,null,null,"　小　計",{"$f":"SUM(G91:G101)","v":4400},{"$f":"SUM(H91:H101)","v":0},null,null,null,null,"　小　計",{"$f":"SUM(N91:N99)","v":0},{"$f":"SUM(O91:O99)","v":0},null,null,"",null,"　小　計",{"$f":"SUM(U91:U101)","v":4650},{"$f":"SUM(V91:V101)","v":0},null,null,"",null,"　小　計",{"$f":"SUM(AB91:AB101)","v":18050},{"$f":"SUM(AC91:AC101)","v":0},null,null,"",null,"　小　計",{"$f":"SUM(AI91:AI101)","v":1400},{"$f":"SUM(AJ91:AJ101)","v":0},null,null,"",null,"　小　計",{"$f":"SUM(AP91:AP101)","v":0},{"$f":"SUM(AQ91:AQ101)","v":0},null,null,{"$f":"SUM(AW105:BC105)","v":0},{"$f":"SUM(BE105:BL105)","v":0},null,{"$f":"COUNTIF(H91:H93,{\">0\",\"<0\"})","v":0},{"$f":"COUNTIF(O91,{\">0\",\"<0\"})","v":0},{"$f":"COUNTIF(V91:V94,{\">0\",\"<0\"})","v":0},{"$f":"COUNTIF(AC91:AC95,{\">0\",\"<0\"})","v":0},{"$f":"COUNTIF(AQ91,{\">0\",\"<0\"})","v":0},null,{"$f":"SUM(BC91:BC104)","v":0},null,{"$f":"COUNTIF(H94:H96,{\">0\",\"<0\"})","v":0},null,{"$f":"COUNTIF(V95:V96,{\">0\",\"<0\"})","v":0},{"$f":"COUNTIF(AC96:AC100,{\">0\",\"<0\"})","v":0},null,null,null,{"$f":"SUM(BL91:BL104)","v":0}]
["X"]
["X"]
["A","33103","■","m01","3310301151","東岡山",150,0,"",null," ","3310359051","Sa東岡山","　 ／",null,null,"■","m03","3310303061","西大寺",950,0,"","■","m59","3310359051","東岡山",850,0,"","■","m04","3310359061","S西大寺",150,0,"",null," ","3310359051","Sa東岡山","　 ／",null,null,null,null,null,null,null,null,null,null,null,null,null,null,null,null,null,null,null,null,null,{"$f":"IF(COUNTIF(AC109,{\">0\",\"<0\"}),0,COUNTIF(AJ108,{\">0\",\"<0\"}))","v":0}]
["A","岡山市","■","m01","3310301161","西大寺",550,0,"",null," ","3310359061","Sa西大寺","　 ／",null,null,"■","m03","3310303062","益野",350,0,"","■","m59","3310359061","西大寺",2950,0,"","■","m04","3310359062","Sa芥子山",50,0,"",null," ","3310359061","Sa西大寺","　 ／",null,null,null,null,null,null,null,null,null,null,null,null,null,null,null,null,null,null,null,null,null,{"$f":"IF(COUNTIF(AC110,{\">0\",\"<0\"}),0,COUNTIF(AJ109,{\">0\",\"<0\"}))","v":0}]
["A","(東区)","■","m01","3310301162","芥子山",150,0,"",null," ","3310359062","Sa芥子山","　 ／",null,null,"■","m03","3310303071","瀬戸",700,0,"","■","m59","3310359062","芥子山",600,0,"","■","m04","3310359063","S益野",50,0,"",null," ","3310359062","Sa芥子山","　 ／",null,null,null,null,null,null,null,null,null,null,null,null,null,null,null,null,null,null,null,null,null,{"$f":"IF(COUNTIF(AC111,{\">0\",\"<0\"}),0,COUNTIF(AJ110,{\">0\",\"<0\"}))","v":0}]
["A",null,"■","m01","3310301163","益野",250,0,"",null," ","3310359063","Sa益野","　 ／",null,null,null,null,null,null,null,null,null,"■","m59","3310359063","益野",1200,0,"",null," ","3310359064","Sa西大寺東","　 ／",null,null,null," ","3310359063","Sa益野","　 ／"]
["A",null,"■","m01","3310301164","豊",200,0,"",null," ","3310359064","Sa西大寺東","　 ／",null,null,null,null,null,null,null,null,null,"■","m59","3310359064","西大寺東",1050,0,"",null," ","3310359065","Sa西大寺南","　 ／",null,null,null," ","3310359064","Sa西大寺東","　 ／"]
["A",null,null," ","3310359064","Sa西大寺東","　 ／",null,null,null," ","3310359065","Sa西大寺南","　 ／",null,null,null,null,null,null,null,null,null,"■","m59","3310359065","西大寺南",1400,0,"","■","m04","3310359066","S豊",100,0,"",null," ","3310359065","Sa西大寺南","　 ／",null,null,null,null,null,null,null,null,null,null,null,null,null,null,null,null,null,null,null,null,null,{"$f":"IF(COUNTIF(AC114,{\">0\",\"<0\"}),0,COUNTIF(AJ113,{\">0\",\"<0\"}))","v":0}]
["A",null,""," ","3310359065","Sa西大寺南","　 ／",null,null,null," ","3310359066","Sa豊","　 ／",null,null,null,null,null,null,null,null,null,"■","m59","3310359066","豊",1550,0,"","■","m04","3310359067","Sa平島",50,0,"",null," ","3310359066","Sa豊","　 ／",null,null,null,null,null,null,null,null,null,null,null,null,null,null,null,null,null,null,null,null,null,{"$f":"IF(COUNTIF(AC115,{\">0\",\"<0\"}),0,COUNTIF(AJ114,{\">0\",\"<0\"}))","v":0}]
["A",null,""," ","3310359067","Sa平島","　 ／",null,null,null," ","3310359067","Sa平島","　 ／",null,null,null,null,null,null,null,null,null,"■","m59","3310359067","平島",750,0,"",null," ","3310359071","Sa瀬戸","　 ／",null,null,null," ","3310359067","Sa平島","　 ／"]
["A",null,""," ","3310359071","Sa瀬戸","　 ／",null,null,null," ","3310359071","Sa瀬戸","　 ／",null,null,null,null,null,null,null,null,null,"■","m59","3310359071","瀬戸",1250,0,"",null," ","3310359072","Sa瀬戸北","　 ／",null,null,null," ","3310359071","Sa瀬戸","　 ／"]
["A",null,""," ","3310359072","Sa瀬戸北","　 ／",null,null,null," ","3310359072","Sa瀬戸北","　 ／",null,null,null,null,null,null,null,null,null,"■","m59","3310359072","瀬戸北",1500,0,"",null,null,null,null,null,null,null,null," ","3310359072","Sa瀬戸北","　 ／"]
["A"]
["A"]
["X",{"$f":"SUM(G120,N120,U120,AP120,AB120,AI120)","v":16800},null,null,null,"　小　計",{"$f":"SUM(G108:G118)","v":1300},{"$f":"SUM(H108:H118)","v":0},null,null,null,null,"　小　計",{"$f":"SUM(N108:N118)","v":0},{"$f":"SUM(O108:O118)","v":0},null,null,"",null,"　小　計",{"$f":"SUM(U108:U118)","v":2000},{"$f":"SUM(V108:V118)","v":0},null,null,"",null,"　小　計",{"$f":"SUM(AB108:AB118)","v":13100},{"$f":"SUM(AC108:AC118)","v":0},null,null,"",null,"　小　計",{"$f":"SUM(AI108:AI118)","v":400},{"$f":"SUM(AJ108:AJ118)","v":0},null,null,"",null,"　小　計",{"$f":"SUM(AP108:AP118)","v":0},{"$f":"SUM(AQ108:AQ118)","v":0},null,null,{"$f":"SUM(AW120:BC120)","v":0},{"$f":"SUM(BE120:BL120)","v":0},null,null,null,null,null,null,null,{"$f":"SUM(BC108:BC119)","v":0},null,{"$f":"COUNTIF(H108:H112,{\">0\",\"<0\"})","v":0},null,{"$f":"COUNTIF(V108:V110,{\">0\",\"<0\"})","v":0},{"$f":"COUNTIF(AC108:AC117,{\">0\",\"<0\"})","v":0},null,null,null,{"$f":"SUM(BL108:BL119)","v":0}]
["X"]
["X"]
["X"]
["X","合計","　　合計","　　合計",null,null,{"$f":"SUM(G105,G120)","v":5700},{"$f":"SUM(H105,H120)","v":0},null,null,"　　合計",null,null,{"$f":"SUM(N105,N120)","v":0},{"$f":"SUM(O105,O120)","v":0},null,null,"　　合計",null,null,{"$f":"SUM(U105,U120)","v":6650},{"$f":"SUM(V105,V120)","v":0},null,null,"　　合計",null,null,{"$f":"SUM(AB105,AB120)","v":31150},{"$f":"SUM(AC105,AC120)","v":0},null,"　　合計",null,null,null,{"$f":"SUM(AI105,AI120)","v":1800},{"$f":"SUM(AJ105,AJ120)","v":0},null,null,"　　合計",null,null,{"$f":"SUM(AP105,AP120)","v":0},{"$f":"SUM(AQ105,AQ120)","v":0}]
["X",null,"販売店名左横欄は、配送管理料を表します。 ●：２００円(税込２２０円)、  ■：４６０円(税込５０６円)の販売店です。　",null,null,null,null,null,null,null,null,null,null,null,null,null,null,null,null,null,null,null,null,null,null,null,null,null,null,null,null,null,null,null,null,null,null,"ペ ー ジ 計",null,null,null,{"$f":"SUM(H124,O124,V124,AQ124,AC124,AJ124)","v":0}]
["X",null,"販売店内の区域指定（広告主中心・広告主よりへ・会場中心・会場よりへ・教室中心に・教室よりに・東よりへ・西よりへ・北よりへ・南よりへ）",null,null,null,null,null,null,null,null,null,null,null,null,null,null,null,null,null,null,null,null,null,null,null,null,null,null,null,null,null,null,null,null,null,null,"株式会社　朝日オリコミ岡山",null,null,null,null,null,{"$f":"基本・配布部数合計!$T$38","v":"2026.07.10"}]
["X","新聞オリコミ広告部数明細表",null,null,null,null,null,"案件番号",null,null,null,null,"広　告　名",null,null,null,null,null,null,null,null,null,null,"折込日",null,null,null,null,null,"サイズ",null,null,null,null,"部数",null,null,null,null,"申込",null,{"$f":"基本・配布部数合計!$R$38","v":"2026-08-01"}]
["X",null,null,null,null,null,null,{"$f":"IF(AP167=0,\"\",申込書!$D$18)","v":""},null,null,null,null,{"$f":"IF(AP167=0,\"\",申込書!$F$12)","v":""},null,null,null,null,null,null,null,null,null,null,{"$f":"IF(AP167=0,\"\",申込書!$D$14)","v":""},null,null,null,null,null,{"$f":"IF(AP167=0,\"\",申込書!$D$15)","v":""},null,null,null,null,{"$f":"IF(AP167=0,\"\",基本・配布部数合計!$T$37)","v":""},null,null,null,null,{"$f":"IF(AP167=0,\"\",申込書!$D$5)","v":""},null,"岡山県部数表"]
["X",null,null,null,null,null,null,null,null,null,null,null,null,null,null,null,null,null,null,null,null,null,null,null,null,null,null,null,null,null,null,null,null,null,null,null,null,null,null,{"$f":"IF(AP167=0,\"\",申込書!$D$6)","v":""}]
["X",null,null,null,null,null,null,null,null,null,null,null,null,null,null,null,null,null,null,null,null,null,null,null,null,null,null,null,null,null,null,null,null,null,null,null,null,null,null,null,null,null,4]
["X",null,"【　m01　朝　　　日　】",null,null,null,null,null,null,"【　m02　毎　　　日　】",null,null,null,null,null,null,"【　m03　読　　　売　】",null,null,null,null,null,null,"【　m59　山　　　陽　】",null,null,null,null,null,null,"【　m04　日　　　経　】",null,null,null,null,null,null,"【　m05　産　　　経　】"]
["X","市　　区",null,null,"ｺｰﾄﾞ",null,"基本部数","配布部数",null,null,null,"ｺｰﾄﾞ",null,"基本部数","配布部数",null,null,null,"ｺｰﾄﾞ",null,"基本部数","配布部数",null,null,null,"ｺｰﾄﾞ",null,"基本部数","配布部数",null,null,null,"ｺｰﾄﾞ",null,"基本部数","配布部数",null,null,null,"ｺｰﾄﾞ",null,"基本部数","配布部数"]
["A","33104","●","m01","3310401103","福島",350,0,"","●","m02","3310402001","岡南",1500,0,"","●","m03","3310403001","福浜",300,0,"","●","m59","3310459003","福島",2050,0,"","●","m04","3310402001","M岡南",300,0,"",null," ","3310459003","Sa福島","　 ／",null,null,null,null,null,null,null,null,null,null,null,null,{"$f":"IF(COUNTIF(O133,{\">0\",\"<0\"}),0,COUNTIF(AJ133,{\">0\",\"<0\"}))","v":0}]
["A","岡山市","●","m01","3310401104","岡南",500,0,"",null," ","3310459003","Sa福島","　 ／",null,null,"●","m03","3310403002","当新田",500,0,"","●","m59","3310459004","岡南",2300,0,"","●","m04","3310459003","Sa福島",100,0,"",null," ","3310459004","Sa岡南","　 ／",null,null,null,null,null,null,null,null,null,null,null,null,{"$f":"IF(COUNTIF(AC133,{\">0\",\"<0\"}),0,COUNTIF(AJ134,{\">0\",\"<0\"}))","v":0}]
["A","(南区)","●","m01","3310401106","浦安",200,0,"",null," ","3310459004","Sa岡南","　 ／",null,null,"●","m03","3310403003","岡山南",500,0,"","●","m59","3310459006","浦安",1300,0,"","●","m04","3310459004","S岡南",150,0,"",null," ","3310459006","Sa浦安","　 ／",null,null,null,null,null,null,null,null,null,null,null,null,{"$f":"IF(COUNTIF(AC134,{\">0\",\"<0\"}),0,COUNTIF(AJ135,{\">0\",\"<0\"}))","v":0}]
["A",null,"●","m01","3310401107","泉田",400,0,"",null," ","3310459006","Sa浦安","　 ／",null,null,"■","m03","3310403051","妹尾",1000,0,"","●","m59","3310459007","泉田",1850,0,"","●","m04","3310459006","S浦安",100,0,"",null," ","3310459007","Sa泉田","　 ／",null,null,null,null,null,null,null,null,null,null,null,null,{"$f":"IF(COUNTIF(AC135,{\">0\",\"<0\"}),0,COUNTIF(AJ136,{\">0\",\"<0\"}))","v":0}]
["A",null,"●","m01","3310401108","新保",200,0,"",null," ","3310459007","Sa泉田","　 ／",null,null,""," ","3310459055","Sa郡（八浜）","　 ／",null,null,"●","m59","3310459008","新保",1050,0,"","●","m04","3310459007","S泉田",50,0,"",null," ","3310459008","Sa新保","　 ／",null,null,null,null,null,null,null,null,null,null,null,null,{"$f":"IF(COUNTIF(AC136,{\">0\",\"<0\"}),0,COUNTIF(AJ137,{\">0\",\"<0\"}))","v":0}]
["A",null,"●","m01","3310401109","芳田",200,0,"",null," ","3310459008","Sa新保","　 ／",null,null,""," ","3310459056","Sa迫川","　 ／",null,null,"●","m59","3310459009","芳田",1400,0,"","●","m04","3310459008","S新保",100,0,"",null," ","3310459009","Sa芳田","　 ／",null,null,null,null,null,null,null,null,null,null,null,null,{"$f":"IF(COUNTIF(AC137,{\">0\",\"<0\"}),0,COUNTIF(AJ138,{\">0\",\"<0\"}))","v":0}]
["A",null,"■","m01","3310401051","妹尾・早島",2550,0,"",""," ","3310459009","Sa芳田","　 ／",null,null,null,null,null,null,null,null,null,"■","m59","3310459053","妹尾・大福",2600,0,"","●","m04","3310459009","S芳田",100,0,"",null," ","3310459053","Sa妹尾・大福","　 ／",null,null,null,null,null,null,null,null,null,null,null,null,{"$f":"IF(COUNTIF(AC138,{\">0\",\"<0\"}),0,COUNTIF(AJ139,{\">0\",\"<0\"}))","v":0}]
["A",null,""," ","3310459055","Sa郡（八浜）","　 ／",null,null,""," ","3310459053","Sa妹尾・大福","　 ／",null,null,null,null,null,null,null,null,null,"■","m59","3310459057","藤田（芳田）",350,0,"","■","m04","3310401051","A妹尾・早島",50,0,"",null," ","3310459057","Sa藤田（芳田）","　 ／",null,null,null,null,null,null,null,null,null,null,null,null,null,null,null,null,null,null,null,null,null,{"$f":"IF(COUNTIF(H139,{\">0\",\"<0\"}),0,COUNTIF(AJ140,{\">0\",\"<0\"}))","v":0}]
["A",null,""," ","3310459056","Sa迫川","　 ／",null,null,""," ","3310459057","Sa藤田（芳田）","　 ／",null,null,null,null,null,null,null,null,null,"■","m59","3310459052","妹尾西",1750,0,"","■","m04","3310459053","Sa妹尾・大福",150,0,"",null," ","3310459052","Sa妹尾西","　 ／",null,null,null,null,null,null,null,null,null,null,null,null,null,null,null,null,null,null,null,null,null,{"$f":"IF(COUNTIF(AC139,{\">0\",\"<0\"}),0,COUNTIF(AJ141,{\">0\",\"<0\"}))","v":0}]
["A",null,null,null,null,null,null,null,null,null," ","3310459052","Sa妹尾西","　 ／",null,null,null,null,null,null,null,null,null,"■","m59","3310459054","興除",950,0,null,"■","m04","3310459052","Sa妹尾西",100,0,"",null," ","3310459054","Sa興除","　 ／",null,null,null,null,null,null,null,null,null,null,null,null,null,null,null,null,null,null,null,null,null,{"$f":"IF(COUNTIF(AC141,{\">0\",\"<0\"}),0,COUNTIF(AJ142,{\">0\",\"<0\"}))","v":0}]
["A",null,null,null,null,null,null,null,null,""," ","3310459054","Sa興除","　 ／",null,null,null,null,null,null,null,null,null,"■","m59","3310459055","郡（八浜）",900,0,null,"■","m04","3310459054","Sa興除",50,0,"",null," ","3310459055","Sa郡（八浜）","　 ／",null,null,null,null,null,null,null,null,null,null,null,null,null,null,null,null,null,null,null,null,null,{"$f":"IF(COUNTIF(AC142,{\">0\",\"<0\"}),0,COUNTIF(AJ143,{\">0\",\"<0\"}))","v":0}]
["A",null,null,null,null,null,null,null,null,""," ","3310459055","Sa郡（八浜）","　 ／",null,null,null,null,null,null,null,null,null,"■","m59","3310459056","迫川",3150,0,"",null," ","3310459055","Sa郡（八浜）","　 ／",null,null,null," ","3310459056","Sa迫川","　 ／"]
["A",null,null,null,null,null,null,null,null,""," ","3310459056","Sa迫川","　 ／",null,null,null,null,null,null,null,null,null,null,null,null,null,null,null,null,"■","m04","3310459056","S迫川",100,0,"",null,null,null,null,null,null,null,null,null,null,null,null,null,null,null,null,null,null,null,null,null,null,null,null,null,null,{"$f":"IF(COUNTIF(AC144,{\">0\",\"<0\"}),0,COUNTIF(AJ145,{\">0\",\"<0\"}))","v":0}]
["A"]
["A"]
["A"]
["X",{"$f":"SUM(G149,N149,U149,AP149,AB149,AI149)","v":29200},null,null,null,"　小　計",{"$f":"SUM(G133:G147)","v":4400},{"$f":"SUM(H133:H147)","v":0},null,null,null,null,"　小　計",{"$f":"SUM(N133:N147)","v":1500},{"$f":"SUM(O133:O147)","v":0},null,null,"",null,"　小　計",{"$f":"SUM(U133:U147)","v":2300},{"$f":"SUM(V133:V147)","v":0},null,null,"",null,"　小　計",{"$f":"SUM(AB133:AB147)","v":19650},{"$f":"SUM(AC133:AC147)","v":0},null,null,"",null,"　小　計",{"$f":"SUM(AI133:AI147)","v":1350},{"$f":"SUM(AJ133:AJ147)","v":0},null,null,"",null,"　小　計",{"$f":"SUM(AP133:AP147)","v":0},{"$f":"SUM(AQ133:AQ147)","v":0},null,null,{"$f":"SUM(AW149:BC149)","v":0},{"$f":"SUM(BE149:BL149)","v":0},null,{"$f":"COUNTIF(H133:H138,{\">0\",\"<0\"})","v":0},{"$f":"COUNTIF(O133:O133,{\">0\",\"<0\"})","v":0},{"$f":"COUNTIF(V133:V135,{\">0\",\"<0\"})","v":0},{"$f":"COUNTIF(AC133:AC138,{\">0\",\"<0\"})","v":0},null,null,{"$f":"SUM(BC133:BC147)","v":0},null,{"$f":"COUNTIF(H139,{\">0\",\"<0\"})","v":0},null,{"$f":"COUNTIF(V136,{\">0\",\"<0\"})","v":0},{"$f":"COUNTIF(AC139:AC144,{\">0\",\"<0\"})","v":0},null,null,null,{"$f":"SUM(BL134:BL147)","v":0}]
["X"]
["X"]
["X",null,null,null,null,null,null,null,null,null,null,null,null,null,null,null,null,null,null,null,null,null,null,null,null,null,null,null,null,null,null,null,null,null,null,null,null,"【　m60　中　　　国　】"]
["X",null,null,null,null,null,null,null,null,null,null,null,null,null,null,null,null,null,null,null,null,null,null,null,null,null,null,null,null,null,null,null,null,null,null,null,null,null," ","3310459008","Sa新保","　 ／"]
["X"]
["X"]
["X"]
["X",null,null,null,null,null,null,null,null,null,null,null,null,null,null,null,null,null,null,null,null,null,null,null,null,null,null,null,null,null,null,null,null,null,null,null,null,null,"",null,"　中 国 小 計",{"$f":"SUM(AP153:AP155)","v":0},{"$f":"SUM(AQ153)","v":0}]
["X"]
["X"]
["X"]
["X"]
["X"]
["X"]
["X"]
["X"]
["X","合計","　　合計","　　合計",null,null,{"$f":"SUM(G149)","v":4400},{"$f":"SUM(H149)","v":0},null,null,"　　合計",null,null,{"$f":"SUM(N149)","v":1500},{"$f":"SUM(O149)","v":0},null,null,"　　合計",null,null,{"$f":"SUM(U149)","v":2300},{"$f":"SUM(V149)","v":0},null,null,"　　合計",null,null,{"$f":"SUM(AB149)","v":19650},{"$f":"SUM(AC149)","v":0},null,"　　合計",null,null,null,{"$f":"SUM(AI149)","v":1350},{"$f":"SUM(AJ149)","v":0},null,null,"　　合計",null,null,{"$f":"SUM(AP149)","v":0},{"$f":"SUM(AQ149)","v":0}]
["X",null,"販売店名左横欄は、配送管理料を表します。 ●：２００円(税込２２０円)、  ■：４６０円(税込５０６円)の販売店です。　",null,null,null,null,null,null,null,null,null,null,null,null,null,null,null,null,null,null,null,null,null,null,null,null,null,null,null,null,null,null,null,null,null,null,"ペ ー ジ 計",null,null,null,{"$f":"SUM(H166,O166,V166,AQ166,AC166,AJ166)","v":0}]
["X",null,"販売店内の区域指定（広告主中心・広告主よりへ・会場中心・会場よりへ・教室中心に・教室よりに・東よりへ・西よりへ・北よりへ・南よりへ）",null,null,null,null,null,null,null,null,null,null,null,null,null,null,null,null,null,null,null,null,null,null,null,null,null,null,null,null,null,null,null,null,null,null,"株式会社　朝日オリコミ岡山",null,null,null,null,null,{"$f":"基本・配布部数合計!$T$38","v":"2026.07.10"}]
["X","新聞オリコミ広告部数明細表",null,null,null,null,null,"案件番号",null,null,null,null,"広　告　名",null,null,null,null,null,null,null,null,null,null,"折込日",null,null,null,null,null,"サイズ",null,null,null,null,"部数",null,null,null,null,"申込",null,{"$f":"基本・配布部数合計!$R$38","v":"2026-08-01"}]
["X",null,null,null,null,null,null,{"$f":"IF(AP209=0,\"\",申込書!$D$18)","v":""},null,null,null,null,{"$f":"IF(AP209=0,\"\",申込書!$F$12)","v":""},null,null,null,null,null,null,null,null,null,null,{"$f":"IF(AP209=0,\"\",申込書!$D$14)","v":""},null,null,null,null,null,{"$f":"IF(AP209=0,\"\",申込書!$D$15)","v":""},null,null,null,null,{"$f":"IF(AP209=0,\"\",基本・配布部数合計!$T$37)","v":""},null,null,null,null,{"$f":"IF(AP209=0,\"\",申込書!$D$5)","v":""},null,"岡山県部数表"]
["X",null,null,null,null,null,null,null,null,null,null,null,null,null,null,null,null,null,null,null,null,null,null,null,null,null,null,null,null,null,null,null,null,null,null,null,null,null,null,{"$f":"IF(AP209=0,\"\",申込書!$D$6)","v":""}]
["X",null,null,null,null,null,null,null,null,null,null,null,null,null,null,null,null,null,null,null,null,null,null,null,null,null,null,null,null,null,null,null,null,null,null,null,null,null,null,null,null,null,5]
["X",null,"【　m01　朝　　　日　】",null,null,null,null,null,null,"【　m02　毎　　　日　】",null,null,null,null,null,null,"【　m03　読　　　売　】",null,null,null,null,null,null,"【　m59　山　　　陽　】",null,null,null,null,null,null,"【　m04　日　　　経　】",null,null,null,null,null,null,"【　m05　産　　　経　】"]
["X","市　　区",null,null,"ｺｰﾄﾞ",null,"基本部数","配布部数",null,null,null,"ｺｰﾄﾞ",null,"基本部数","配布部数",null,null,null,"ｺｰﾄﾞ",null,"基本部数","配布部数",null,null,null,"ｺｰﾄﾞ",null,"基本部数","配布部数",null,null,null,"ｺｰﾄﾞ",null,"基本部数","配布部数",null,null,null,"ｺｰﾄﾞ",null,"基本部数","配布部数"]
["A","33204","■","m01","3320401001","玉野\n(読売800含む)",1950,0,"",null," ","3320459001","Sa宇野","　 ／",null,null,null," ","3320401001","A玉野","　 ／",null,null,"■","m59","3320459001","宇野",1100,0,"","■","m04","3320459001","Sa宇野\n(直島含む)",200,0,"",null," ","3320459001","Sa宇野","　 ／",null,null,null,null,null,null,null,null,null,null,null,null,null,null,{"$f":"SUM(H175:H176)","v":0},null,null,{"$f":"SUM(AC175:AC176)","v":0},null,null,null,{"$f":"IF(COUNTIF(BH175,{\">0\",\"<0\"}),0,COUNTIF(AJ175,{\">0\",\"<0\"}))","v":0}]
["A","玉野市",null,"m01","3736001001","直島（玉野）\n(読売100含む)",150,0,"",null," ","3736059001","Sa直島(宇野)","　 ／",null,null,null," ","3736001001","A直島（玉野）","　 ／",null,null,null,"m59","3736059001","直島(宇野)",200,0,"","■","m04","3320459002","Sa宇野西",50,0,"",null," ","3736059001","Sa直島(宇野)","　 ／",null,null,null,null,null,null,null,null,null,null,null,null,null,null,null,null,null,null,null,null,null,{"$f":"IF(COUNTIF(AC177,{\">0\",\"<0\"}),0,COUNTIF(AJ176,{\">0\",\"<0\"}))","v":0}]
["A","(香川県直島町含む）",null,"　　合計","3320459012","Sa八浜","　 ／",null,null,null," ","3320459002","Sa宇野西","　 ／",null,null,null," ","3320459012","Sa八浜","　 ／",null,null,"■","m59","3320459002","宇野西",600,0,"","■","m04","3320459003","Sa田井",50,0,"",null," ","3320459002","Sa宇野西","　 ／",null,null,null,null,null,null,null,null,null,null,null,null,null,null,null,null,null,null,null,null,null,{"$f":"IF(COUNTIF(AC178,{\">0\",\"<0\"}),0,COUNTIF(AJ177,{\">0\",\"<0\"}))","v":0}]
["A",null,null,"　　合計","3320459013","Sa荘内","　 ／",null,null,null," ","3320459003","Sa田井","　 ／",null,null,null," ","3320459013","Sa荘内","　 ／",null,null,"■","m59","3320459003","田井",1100,0,"","■","m04","3320459005","Sa奥玉",50,0,"",null," ","3320459003","Sa田井","　 ／",null,null,null,null,null,null,null,null,null,null,null,null,null,null,null,null,null,null,null,null,null,{"$f":"IF(COUNTIF(AC179,{\">0\",\"<0\"}),0,COUNTIF(AJ178,{\">0\",\"<0\"}))","v":0}]
["A",null,null,null,null,null,null,null,null,null," ","3320459005","Sa奥玉","　 ／",null,null,null,null,null,null,null,null,null,"■","m59","3320459005","奥玉",450,0,"","■","m04","3320459006","Sa玉原",50,0,"",null," ","3320459005","Sa奥玉","　 ／",null,null,null,null,null,null,null,null,null,null,null,null,null,null,null,null,null,null,null,null,null,{"$f":"IF(COUNTIF(AC180,{\">0\",\"<0\"}),0,COUNTIF(AJ179,{\">0\",\"<0\"}))","v":0}]
["A",null,null,null,null,null,null,null,null,null," ","3320459006","Sa玉原","　 ／",null,null,null,null,null,null,null,null,null,"■","m59","3320459006","玉原",650,0,"","■","m04","3320459009","Sa和田日比",50,0,"",null," ","3320459006","Sa玉原","　 ／",null,null,null,null,null,null,null,null,null,null,null,null,null,null,null,null,null,null,null,null,null,{"$f":"IF(COUNTIF(AC181,{\">0\",\"<0\"}),0,COUNTIF(AJ180,{\">0\",\"<0\"}))","v":0}]
["A",null,null,null,null,null,null,null,null,null," ","3320459009","Sa和田日比","　 ／",null,null,null,null,null,null,null,null,null,"■","m59","3320459009","和田日比",1300,0,"",null," ","3320459012","Sa八浜","　 ／",null,null,null," ","3320459009","Sa和田日比","　 ／"]
["A",null,null,null,null,null,null,null,null,null," ","3320459012","Sa八浜","　 ／",null,null,null,null,null,null,null,null,null,"■","m59","3320459012","八浜",2150,0,"",null," ","3320459013","Sa荘内","　 ／",null,null,null," ","3320459012","Sa八浜","　 ／"]
["A",null,null,null,null,null,null,null,null,null," ","3320459013","Sa荘内","　 ／",null,null,null,null,null,null,null,null,null,"■","m59","3320459013","荘内",1350,0,"",null,null,null,null,null,null,null,null," ","3320459013","Sa荘内","　 ／"]
["A"]
["A"]
["X",null,null,null,null,"　小　計",{"$f":"SUM(G175:G184)","v":2100},{"$f":"SUM(H175:H184)","v":0},null,null,null,null,"　小　計",{"$f":"SUM(N175:N184)","v":0},{"$f":"SUM(O175:O184)","v":0},null,null,"",null,"　小　計",{"$f":"SUM(U175:U184)","v":0},{"$f":"SUM(V175:V184)","v":0},null,null,"",null,"　小　計",{"$f":"SUM(AB175:AB184)","v":8900},{"$f":"SUM(AC175:AC184)","v":0},null,null,"",null,"　小　計",{"$f":"SUM(AI175:AI184)","v":450},{"$f":"SUM(AJ175:AJ184)","v":0},null,null,"",null,"　産 経 小 計",{"$f":"SUM(AP175:AP184)","v":0},{"$f":"SUM(AQ175:AQ184)","v":0}]
["X"]
["X"]
["X",null,null,null,null,null,null,null,null,null,null,null,null,null,null,null,null,null,null,null,null,null,null,null,null,null,null,null,null,null,null,null,null,null,null,null,null,"【　m63　四　　　国　】"]
["A",null,null,null,null,null,null,null,null,null,null,null,null,null,null,null,null,null,null,null,null,null,null,null,null,null,null,null,null,null,null,null,null,null,null,null,null,"■","m63","3736063001","直島町",500,0,""]
["A"]
["A"]
["X",{"$f":"SUM(G186,N186,U186,AP186,AB186,AI186,AP193)","v":11950},null,null,null,null,null,null,null,null,null,null,null,null,null,null,null,null,null,null,null,null,null,null,null,null,null,null,null,null,null,null,null,null,null,null,null,null,"",null,"　四 国 小 計",{"$f":"SUM(AP190)","v":500},{"$f":"SUM(AQ190)","v":0},null,null,{"$f":"SUM(AW193:BC193)","v":0},{"$f":"SUM(BE193:BL193)","v":0},null,null,null,null,null,null,null,null,null,{"$f":"COUNTIF(BE175,{\">0\",\"<0\"})","v":0},{"$f":"COUNTIF(O175,{\">0\",\"<0\"})","v":0},{"$f":"COUNTIF(V175:V179,{\">0\",\"<0\"})","v":0},{"$f":"SUM(COUNTIF(AC177:AC183,{\">0\",\"<0\"}),COUNTIF(BH175,{\">0\",\"<0\"}))","v":0},null,null,{"$f":"COUNTIF(AQ190,{\">0\",\"<0\"})","v":0},{"$f":"SUM(BL175:BL183)","v":0}]
["X"]
["X"]
["X"]
["X"]
["X"]
["X"]
["X"]
["X"]
["X"]
["X"]
["X"]
["X"]
["X"]
["X"]
["X","合計","　　合計","　　合計",null,null,{"$f":"SUM(G186)","v":2100},{"$f":"SUM(H186)","v":0},null,null,"　　合計",null,null,{"$f":"SUM(N186)","v":0},{"$f":"SUM(O186)","v":0},null,null,"　　合計",null,null,{"$f":"SUM(U186)","v":0},{"$f":"SUM(V186)","v":0},null,null,"　　合計",null,null,{"$f":"SUM(AB186)","v":8900},{"$f":"SUM(AC186)","v":0},null,"　　合計",null,null,null,{"$f":"SUM(AI186)","v":450},{"$f":"SUM(AJ186)","v":0},null,null,"　　合計",null,null,{"$f":"SUM(AP186,AP190)","v":500},{"$f":"SUM(AQ186,AQ193)","v":0}]
["X",null,"販売店名左横欄は、配送管理料を表します。 ●：２００円(税込２２０円)、  ■：４６０円(税込５０６円)の販売店です。　",null,null,null,null,null,null,null,null,null,null,null,null,null,null,null,null,null,null,null,null,null,null,null,null,null,null,null,null,null,null,null,null,null,null,"ペ ー ジ 計",null,null,null,{"$f":"SUM(H208,O208,V208,AQ208,AC208,AJ208)","v":0}]
["X",null,"販売店内の区域指定（広告主中心・広告主よりへ・会場中心・会場よりへ・教室中心に・教室よりに・東よりへ・西よりへ・北よりへ・南よりへ）",null,null,null,null,null,null,null,null,null,null,null,null,null,null,null,null,null,null,null,null,null,null,null,null,null,null,null,null,null,null,null,null,null,null,"株式会社　朝日オリコミ岡山",null,null,null,null,null,{"$f":"基本・配布部数合計!$T$38","v":"2026.07.10"}]
["X","新聞オリコミ広告部数明細表",null,null,null,null,null,"案件番号",null,null,null,null,"広　告　名",null,null,null,null,null,null,null,null,null,null,"折込日",null,null,null,null,null,"サイズ",null,null,null,null,"部数",null,null,null,null,"申込",null,{"$f":"基本・配布部数合計!$R$38","v":"2026-08-01"}]
["X",null,null,null,null,null,null,{"$f":"IF(AP251=0,\"\",申込書!$D$18)","v":""},null,null,null,null,{"$f":"IF(AP251=0,\"\",申込書!$F$12)","v":""},null,null,null,null,null,null,null,null,null,null,{"$f":"IF(AP251=0,\"\",申込書!$D$14)","v":""},null,null,null,null,null,{"$f":"IF(AP251=0,\"\",申込書!$D$15)","v":""},null,null,null,null,{"$f":"IF(AP251=0,\"\",基本・配布部数合計!$T$37)","v":""},null,null,null,null,{"$f":"IF(AP251=0,\"\",申込書!$D$5)","v":""},null,"岡山県部数表"]
["X",null,null,null,null,null,null,null,null,null,null,null,null,null,null,null,null,null,null,null,null,null,null,null,null,null,null,null,null,null,null,null,null,null,null,null,null,null,null,{"$f":"IF(AP251=0,\"\",申込書!$D$6)","v":""}]
["X",null,null,null,null,null,null,null,null,null,null,null,null,null,null,null,null,null,null,null,null,null,null,null,null,null,null,null,null,null,null,null,null,null,null,null,null,null,null,null,null,null,6]
["X",null,"【　m01　朝　　　日　】",null,null,null,null,null,null,"【　m02　毎　　　日　】",null,null,null,null,null,null,"【　m03　読　　　売　】",null,null,null,null,null,null,"【　m59　山　　　陽　】",null,null,null,null,null,null,"【　m04　日　　　経　】",null,null,null,null,null,null,"【　m05　産　　　経　】"]
["X","市　　区",null,null,"ｺｰﾄﾞ",null,"基本部数","配布部数",null,null,null,"ｺｰﾄﾞ",null,"基本部数","配布部数",null,null,null,"ｺｰﾄﾞ",null,"基本部数","配布部数",null,null,null,"ｺｰﾄﾞ",null,"基本部数","配布部数",null,null,null,"ｺｰﾄﾞ",null,"基本部数","配布部数",null,null,null,"ｺｰﾄﾞ",null,"基本部数","配布部数"]
["A","33202","●","m01","3320201101","倉敷東",100,0,null,"■","m02","3320259194","Sa倉敷西阿知",200,0,"","●","m03","3320203002","倉敷中央",4450,0,"","●","m59","3320259001","倉敷東",2350,0,"","●","m04","3320201101","A倉敷東",50,0,"",null," ","3320259001","Sa倉敷東","　 ／",null,null,null,null,null,null,null,null,null,null,null,null,{"$f":"IF(COUNTIF(H217,{\">0\",\"<0\"}),0,COUNTIF(AJ217,{\">0\",\"<0\"}))","v":0}]
["A","倉敷市","●","m01","3320201102","倉敷中央",650,0,null,null," ","3310101081","A庭瀬・庄\n（岡山市北区）","　 ／",null,null,"●","m03","3320203003","倉敷北",1150,0,"","●","m59","3320259004","倉敷中央",3200,0,"","●","m04","3320201103","A倉敷中央南",200,0,"",null," ","3320259004","Sa倉敷中央","　 ／",null,null,null,null,null,null,null,null,null,null,null,null,{"$f":"IF(COUNTIF(H219,{\">0\",\"<0\"}),0,COUNTIF(AJ218,{\">0\",\"<0\"}))","v":0}]
["A","（倉敷）","●","m01","3320201103","倉敷中央南",350,0,null,null," ","3320259001","Sa倉敷東","　 ／",null,null,"●","m03","3320203004","倉敷西阿知",1200,0,"","●","m59","3320259005","倉敷中央南",1600,0,"","●","m04","3320201105","A倉敷西",150,0,"",null," ","3320259005","Sa倉敷中央南","　 ／",null,null,null,null,null,null,null,null,null,null,null,null,{"$f":"IF(COUNTIF(H221,{\">0\",\"<0\"}),0,COUNTIF(AJ219,{\">0\",\"<0\"}))","v":0}]
["A",null,"●","m01","3320201104","倉敷北",500,0,"",null," ","3320259004","Sa倉敷中央","　 ／",null,null,"■","m03","3320203051","庄",350,0,"","●","m59","3320259006","倉敷北",2650,0,"","●","m04","3320201106","A倉敷笹沖",150,0,"",null," ","3320259006","Sa倉敷北","　 ／",null,null,null,null,null,null,null,null,null,null,null,null,{"$f":"IF(COUNTIF(H222,{\">0\",\"<0\"}),0,COUNTIF(AJ220,{\">0\",\"<0\"}))","v":0}]
["A",null,"●","m01","3320201105","倉敷西",450,0,"",null," ","3320259005","Sa倉敷中央南","　 ／",null,null,"■","m03","3320203053","早島",200,0,"","●","m59","3320259008","倉敷西",1550,0,"","●","m04","3320201107","A倉敷大高",200,0,"",null," ","3320259008","Sa倉敷西","　 ／",null,null,null,null,null,null,null,null,null,null,null,null,{"$f":"IF(COUNTIF(H223,{\">0\",\"<0\"}),0,COUNTIF(AJ221,{\">0\",\"<0\"}))","v":0}]
["A",null,"●","m01","3320201106","倉敷笹沖",300,0,"",null," ","3320259006","Sa倉敷北","　 ／",null,null,"■","m03","3320203054","早島南",300,0,"","●","m59","3320259010","倉敷笹沖",1650,0,"","■","m04","3320201112","A豊洲",100,0,"",null," ","3320259010","Sa倉敷笹沖","　 ／",null,null,null,null,null,null,null,null,null,null,null,null,null,null,null,null,null,null,null,null,null,{"$f":"IF(COUNTIF(H224,{\">0\",\"<0\"}),0,COUNTIF(AJ222,{\">0\",\"<0\"}))","v":0}]
["A",null,"●","m01","3320201107","倉敷大高",450,0,null,null," ","3320259008","Sa倉敷西","　 ／",null,null,"■","m03","3320203055","茶屋町南",750,0,"","●","m59","3320259011","倉敷大高",2050,0,"","●","m04","3320259004","Sa倉敷中央",450,0,"",null," ","3320259011","Sa倉敷大高","　 ／",null,null,null,null,null,null,null,null,null,null,null,null,{"$f":"IF(COUNTIF(AC218,{\">0\",\"<0\"}),0,COUNTIF(AJ223,{\">0\",\"<0\"}))","v":0}]
["A",null,"■","m01","3320201112","豊洲",250,0,"",null," ","3320259010","Sa倉敷笹沖","　 ／",null,null,null,null,null,null,null,null,null,"■","m59","3320259050","西阿知",2700,0,null,"●","m04","3320259006","Sa倉敷北",200,0,"",null," ","3320259050","Sa西阿知","　 ／",null,null,null,null,null,null,null,null,null,null,null,null,{"$f":"IF(COUNTIF(AC220,{\">0\",\"<0\"}),0,COUNTIF(AJ224,{\">0\",\"<0\"}))","v":0}]
["A",null,"■","m01","3320201113","天城",400,0,"",null," ","3320259011","Sa倉敷大高","　 ／",null,null,null,null,null,null,null,null,null,"■","m59","3320259052","豊洲",1250,0,"","■","m04","3320259050","Sa西阿知",100,0,"",null," ","3320259052","Sa豊洲","　 ／",null,null,null,null,null,null,null,null,null,null,null,null,null,null,null,null,null,null,null,null,null,{"$f":"IF(COUNTIF(AC224,{\">0\",\"<0\"}),0,COUNTIF(AJ225,{\">0\",\"<0\"}))","v":0}]
["A",null,null," ",null,"庭瀬・庄","岡山市北区に含む",null,null,null," ","3320259052","Sa豊洲","　 ／",null,null,null,null,null,null,null,null,null,"■","m59","3320259053","天城",1800,0,"","■","m04","3320259053","Sa天城",100,0,"",null," ","3320259053","Sa天城","　 ／",null,null,null,null,null,null,null,null,null,null,null,null,null,null,null,null,null,null,null,null,null,{"$f":"IF(COUNTIF(AC226,{\">0\",\"<0\"}),0,COUNTIF(AJ226,{\">0\",\"<0\"}))","v":0}]
["A",null,null," ",null,"妹尾・早島","岡山市南区に含む",null,null,null," ","3320259053","Sa天城","　 ／",null,null,null,null,null,null,null,null,null,"■","m59","3320259056","庄パ－ク",300,0,"","■","m04","3320259057","S茶屋町",200,0,"",null," ","3320259057","Sa茶屋町","　 ／",null,null,null,null,null,null,null,null,null,null,null,null,null,null,null,null,null,null,null,null,null,{"$f":"IF(COUNTIF(AC228,{\">0\",\"<0\"}),0,COUNTIF(AJ227,{\">0\",\"<0\"}))","v":0}]
["A",null,null," ","3320259057","Sa茶屋町","　 ／",null,null,null," ","3320259057","Sa茶屋町","　 ／",null,null,null,null,null,null,null,null,null,"■","m59","3320259057","茶屋町",2700,0,"","■","m04","3320259058","S早島",100,0,"",null," ","3320259058","Sa早島（都窪）","　 ／",null,null,null,null,null,null,null,null,null,null,null,null,null,null,null,null,null,null,null,null,null,{"$f":"IF(COUNTIF(AC229,{\">0\",\"<0\"}),0,COUNTIF(AJ228,{\">0\",\"<0\"}))","v":0}]
["A",null,null," ","3320259059","Sa彦崎","　 ／",null,null,null," ","3320259058","Sa早島（都窪）","　 ／",null,null,null,null,null,null,null,null,null,"■","m59","3320259058","早島（都窪）",1400,0,"",null," ","3320259059","Sa彦崎","　 ／",null,null,null," ","3320259059","Sa彦崎","　 ／"]
["A",null,null,null,null,null,null,0,"",null," ","3320259059","Sa彦崎","　 ／",null,null,null,null,null,null,null,null,null,"■","m59","3320259059","彦崎",1700,0,""]
["A"]
["A"]
["A"]
["A"]
["A"]
["A"]
["A"]
["A"]
["A"]
["A"]
["X",null,null,null,null,"　小　計",{"$f":"SUM(G217:G238)","v":3450},{"$f":"SUM(H217:H238)","v":0},null,null,null,null,"　小　計",{"$f":"SUM(N217:N238)","v":200},{"$f":"SUM(O217:O238)","v":0},null,null,null,null,"　小　計",{"$f":"SUM(U217:U238)","v":8400},{"$f":"SUM(V217:V238)","v":0},null,null,null,null,"　小　計",{"$f":"SUM(AB217:AB232)","v":26900},{"$f":"SUM(AC217:AC232)","v":0},null,null,null,null,"　小　計",{"$f":"SUM(AI217:AI238)","v":2000},{"$f":"SUM(AJ217:AJ238)","v":0},null,null,null,null,"　産 経 小 計",{"$f":"SUM(AP217:AP238)","v":0},{"$f":"SUM(AQ217:AQ238)","v":0}]
["X"]
["X"]
["X",null,null,null,null,null,null,null,null,null,null,null,null,null,null,null,null,null,null,null,null,null,null,null,null,null,null,null,null,null,null,null,null,null,null,null,null,"【　m60　中　　　国　】"]
["A"]
["A"]
["A"]
["X",{"$f":"SUM(G241,N241,U241,AP241,AB241,AI241,AP248)","v":40950},null,null,null,null,null,null,null,null,null,null,null,null,null,null,null,null,null,null,null,null,null,null,null,null,null,null,null,null,null,null,null,null,null,null,null,null,"",null,"　中 国 小 計",{"$f":"SUM(AP245)","v":0},{"$f":"SUM(AQ245)","v":0},null,null,{"$f":"SUM(AW248:BC248)","v":0},{"$f":"SUM(BE248:BL248)","v":0},null,{"$f":"COUNTIF(H217:H223,{\">0\",\"<0\"})","v":0},null,{"$f":"COUNTIF(V217:V219,{\">0\",\"<0\"})","v":0},{"$f":"COUNTIF(AC217:AC223,{\">0\",\"<0\"})","v":0},{"$f":"COUNTIF(AQ217,{\">0\",\"<0\"})","v":0},null,{"$f":"SUM(BC217:BC238)","v":0},null,{"$f":"COUNTIF(H224:H225,{\">0\",\"<0\"})","v":0},{"$f":"COUNTIF(O217,{\">0\",\"<0\"})","v":0},{"$f":"COUNTIF(V220:V230,{\">0\",\"<0\"})","v":0},{"$f":"COUNTIF(AC224:AC230,{\">0\",\"<0\"})","v":0},null,null,null,{"$f":"SUM(BL217:BL238)","v":0}]
["X"]
["X","合計","　　合計","　　合計",null,null,{"$f":"SUM(G241)","v":3450},{"$f":"SUM(H241)","v":0},null,null,"　　合計",null,null,{"$f":"SUM(N241)","v":200},{"$f":"SUM(O241)","v":0},null,null,"　　合計",null,null,{"$f":"SUM(U241)","v":8400},{"$f":"SUM(V241)","v":0},null,null,"　　合計",null,null,{"$f":"SUM(AB241)","v":26900},{"$f":"SUM(AC241)","v":0},null,"　　合計",null,null,null,{"$f":"SUM(AI241)","v":2000},{"$f":"SUM(AJ241)","v":0},null,null,"　　合計",null,null,{"$f":"SUM(AP241,AP248)","v":0},{"$f":"SUM(AQ241,AQ248)","v":0}]
["X",null,"販売店名左横欄は、配送管理料を表します。 ●：２００円(税込２２０円)、  ■：４６０円(税込５０６円)の販売店です。　",null,null,null,null,null,null,null,null,null,null,null,null,null,null,null,null,null,null,null,null,null,null,null,null,null,null,null,null,null,null,null,null,null,null,"ペ ー ジ 計",null,null,null,{"$f":"SUM(H250,O250,V250,AQ250,AC250,AJ250)","v":0}]
["X",null,"販売店内の区域指定（広告主中心・広告主よりへ・会場中心・会場よりへ・教室中心に・教室よりに・東よりへ・西よりへ・北よりへ・南よりへ）",null,null,null,null,null,null,null,null,null,null,null,null,null,null,null,null,null,null,null,null,null,null,null,null,null,null,null,null,null,null,null,null,null,null,"株式会社　朝日オリコミ岡山",null,null,null,null,null,{"$f":"基本・配布部数合計!$T$38","v":"2026.07.10"}]
["X","新聞オリコミ広告部数明細表",null,null,null,null,null,"案件番号",null,null,null,null,"広　告　名",null,null,null,null,null,null,null,null,null,null,"折込日",null,null,null,null,null,"サイズ",null,null,null,null,"部数",null,null,null,null,"申込",null,{"$f":"基本・配布部数合計!$R$38","v":"2026-08-01"}]
["X",null,null,null,null,null,null,{"$f":"IF(AP293=0,\"\",申込書!$D$18)","v":""},null,null,null,null,{"$f":"IF(AP293=0,\"\",申込書!$F$12)","v":""},null,null,null,null,null,null,null,null,null,null,{"$f":"IF(AP293=0,\"\",申込書!$D$14)","v":""},null,null,null,null,null,{"$f":"IF(AP293=0,\"\",申込書!$D$15)","v":""},null,null,null,null,{"$f":"IF(AP293=0,\"\",基本・配布部数合計!$T$37)","v":""},null,null,null,null,{"$f":"IF(AP293=0,\"\",申込書!$D$5)","v":""},null,"岡山県部数表"]
["X",null,null,null,null,null,null,null,null,null,null,null,null,null,null,null,null,null,null,null,null,null,null,null,null,null,null,null,null,null,null,null,null,null,null,null,null,null,null,{"$f":"IF(AP293=0,\"\",申込書!$D$6)","v":""}]
["X",null,null,null,null,null,null,{"$f":"BE277","v":0},null,null,null,null,null,null,null,null,null,null,null,null,null,null,null,null,null,null,null,null,null,null,null,null,null,null,null,{"$f":"SUM(BL259:BL264)","v":0},null,null,null,null,null,null,7]
["X",null,"【　m01　朝　　　日　】",null,null,null,null,null,null,"【　m02　毎　　　日　】",null,null,null,null,null,null,"【　m03　読　　　売　】",null,null,null,null,null,null,"【　m59　山　　　陽　】",null,null,null,null,null,null,"【　m04　日　　　経　】",null,null,null,null,null,null,"【　m05　産　　　経　】"]
["X","市　　区",null,null,"ｺｰﾄﾞ",null,"基本部数","配布部数",null,null,null,"ｺｰﾄﾞ",null,"基本部数","配布部数",null,null,null,"ｺｰﾄﾞ",null,"基本部数","配布部数",null,null,null,"ｺｰﾄﾞ",null,"基本部数","配布部数",null,null,null,"ｺｰﾄﾞ",null,"基本部数","配布部数",null,null,null,"ｺｰﾄﾞ",null,"基本部数","配布部数"]
["A","33202","■","　　合計","3320201171","連島東\n2025/11廃店","連島に吸収",null,null,null," ","3320259071","Sa水島","　 ／",null,null,"■","m03","3320203070","連島\n",950,0,"","■","　　合計","3320259070","連島東\n2025/11廃店","連島に吸収",null,null,"■","m04","3320201172","A水島",300,0,"",null," ","3320259071","Sa水島","　 ／",null,null,null,null,null,null,null,null,null,null,null,null,null,null,null,null,null,null,null,null,null,{"$f":"IF(COUNTIF(H260,{\">0\",\"<0\"}),0,COUNTIF(AJ259,{\">0\",\"<0\"}))","v":0}]
["A","倉敷市","■","m01","3320201172","水島",200,0,"",null," ","3320259073","Sa連島","　 ／",null,null,"■","m03","3320203071","水島西\n",1450,0,"","■","m59","3320259071","水島",1100,0,"","■","m04","3320201173","A連島",150,0,"",null," ","3320259073","Sa連島","　 ／",null,null,null,null,null,null,null,null,null,null,null,null,null,null,null,null,null,null,null,null,null,{"$f":"IF(COUNTIF(H261,{\">0\",\"<0\"}),0,COUNTIF(AJ260,{\">0\",\"<0\"}))","v":0}]
["A","（水島）","■","m01","3320201173","連島",300,0,"",null," ","3320259074","Sa連島南","　 ／",null,null,"■","m03","3320203072","水島東\n",600,0,"","■","m59","3320259073","連島",3000,0,"","■","m04","3320201174","A連島南",50,0,"",null," ","3320259074","Sa連島南","　 ／",null,null,null,null,null,null,null,null,null,null,null,null,null,null,null,null,null,null,null,null,null,{"$f":"IF(COUNTIF(H262,{\">0\",\"<0\"}),0,COUNTIF(AJ261,{\">0\",\"<0\"}))","v":0}]
["A",null,"■","m01","3320201174","連島南",50,0,"",null," ","3320259075","Sa倉敷福田","　 ／",null,null,null,null,null,null,null,null,null,"■","m59","3320259074","連島南",650,0,"","■","m04","3320259075","Sa倉敷福田",100,0,"",null," ","3320259075","Sa倉敷福田","　 ／",null,null,null,null,null,null,null,null,null,null,null,null,null,null,null,null,null,null,null,null,null,{"$f":"IF(COUNTIF(AC263,{\">0\",\"<0\"}),0,COUNTIF(AJ262,{\">0\",\"<0\"}))","v":0}]
["A",null,"■","m01","3320201175","倉敷福田",150,0,"",null," ","3320259076","Sa倉敷福田東","　 ／",null,null,null,null,null,null,null,null,null,"■","m59","3320259075","倉敷福田",1450,0,"","■","m04","3320259076","Sa倉敷福田東",150,0,"",null," ","3320259076","Sa倉敷福田東","　 ／",null,null,null,null,null,null,null,null,null,null,null,null,null,null,null,null,null,null,null,null,null,{"$f":"IF(COUNTIF(AC264,{\">0\",\"<0\"}),0,COUNTIF(AJ263,{\">0\",\"<0\"}))","v":0}]
["A",null,"■","m01","3320201176","倉敷福田東",200,0,"",null,null,null,null,null,null,null,null,null,null,null,null,null,null,"■","m59","3320259076","倉敷福田東",2250,0,""]
["A"]
["A"]
["A"]
["X",null,null,null,null,"　小　計",{"$f":"SUM(G259:G267)","v":900},{"$f":"SUM(H259:H264)","v":0},null,null,null,null,"　小　計",null,null,null,null,"",null,"　小　計",{"$f":"SUM(U259:U267)","v":3000},{"$f":"SUM(V259:V264)","v":0},null,null,"",null,"　小　計",{"$f":"SUM(AB259:AB267)","v":8450},{"$f":"SUM(AC259:AC264)","v":0},null,null,"",null,"　小　計",{"$f":"SUM(AI259:AI267)","v":750},{"$f":"SUM(AJ259:AJ264)","v":0},null,null,"",null,"　産 経 小 計"]
["X"]
["X"]
["X",null,null,null,null,null,null,null,null,null,null,null,null,null,null,null,null,null,null,null,null,null,null,null,null,null,null,null,null,null,null,null,null,null,null,null,null,"【　m60　中　　　国　】"]
["A",null,null,null,null,null,null,null,null,null,null,null,null,null,null,null,null,null,null,null,null,null,null,null,null,null,null,null,null,null,null,null,null,null,null,null,null,null," ","3320259071","Sa水島","　 ／"]
["A",null,null,null,null,null,null,null,null,null,null,null,null,null,null,null,null,null,null,null,null,null,null,null,null,null,null,null,null,null,null,null,null,null,null,null,null,null," ","3320259073","Sa連島","　 ／"]
["A",null,null,null,null,null,null,null,null,null,null,null,null,null,null,null,null,null,null,null,null,null,null,null,null,null,null,null,null,null,null,null,null,null,null,null,null,null," ","3320259074","Sa連島南","　 ／"]
["A"]
["A"]
["X",{"$f":"SUM(G268,N268,U268,AP268,AB268,AI268,AP277)","v":13100},null,null,null,null,null,null,null,null,null,null,null,null,null,null,null,null,null,null,null,null,null,null,null,null,null,null,null,null,null,null,null,null,null,null,null,null,"",null,"　中 国 小 計",null,null,null,null,null,{"$f":"SUM(BE277:BL277)","v":0},null,null,null,null,null,null,null,null,null,{"$f":"COUNTIF(H259:H265,{\">0\",\"<0\"})","v":0},null,{"$f":"COUNTIF(V259:V261,{\">0\",\"<0\"})","v":0},{"$f":"COUNTIF(AC259:AC265,{\">0\",\"<0\"})","v":0},null,null,null,{"$f":"SUM(BL259:BL264)","v":0}]
["X"]
["A"]
["A"]
["X"]
["A"]
["A"]
["A"]
["X"]
["X"]
["X"]
["X"]
["X"]
["X"]
["X"]
["X","合計","　　合計","　　合計",null,null,{"$f":"SUM(G268)","v":900},{"$f":"SUM(H268)","v":0},null,null,"　　合計",null,null,{"$f":"SUM(N268)","v":0},{"$f":"SUM(O268)","v":0},null,null,"　　合計",null,null,{"$f":"SUM(U268)","v":3000},{"$f":"SUM(V268)","v":0},null,null,"　　合計",null,null,{"$f":"SUM(AB268)","v":8450},{"$f":"SUM(AC268)","v":0},null,"　　合計",null,null,null,{"$f":"SUM(AI268)","v":750},{"$f":"SUM(AJ268)","v":0},null,null,"　　合計",null,null,{"$f":"SUM(AP268)","v":0},{"$f":"SUM(AQ268,AQ277)","v":0}]
["X",null,"販売店名左横欄は、配送管理料を表します。 ●：２００円(税込２２０円)、  ■：４６０円(税込５０６円)の販売店です。　",null,null,null,null,null,null,null,null,null,null,null,null,null,null,null,null,null,null,null,null,null,null,null,null,null,null,null,null,null,null,null,null,null,null,"ペ ー ジ 計",null,null,null,{"$f":"SUM(H292,O292,V292,AQ292,AC292,AJ292)","v":0}]
["X",null,"販売店内の区域指定（広告主中心・広告主よりへ・会場中心・会場よりへ・教室中心に・教室よりに・東よりへ・西よりへ・北よりへ・南よりへ）",null,null,null,null,null,null,null,null,null,null,null,null,null,null,null,null,null,null,null,null,null,null,null,null,null,null,null,null,null,null,null,null,null,null,"株式会社　朝日オリコミ岡山",null,null,null,null,null,{"$f":"基本・配布部数合計!$T$38","v":"2026.07.10"}]
["X","新聞オリコミ広告部数明細表",null,null,null,null,null,"案件番号",null,null,null,null,"広　告　名",null,null,null,null,null,null,null,null,null,null,"折込日",null,null,null,null,null,"サイズ",null,null,null,null,"部数",null,null,null,null,"申込",null,{"$f":"基本・配布部数合計!$R$38","v":"2026-08-01"}]
["X",null,null,null,null,null,null,{"$f":"IF(AP335=0,\"\",申込書!$D$18)","v":""},null,null,null,null,{"$f":"IF(AP335=0,\"\",申込書!$F$12)","v":""},null,null,null,null,null,null,null,null,null,null,{"$f":"IF(AP335=0,\"\",申込書!$D$14)","v":""},null,null,null,null,null,{"$f":"IF(AP335=0,\"\",申込書!$D$15)","v":""},null,null,null,null,{"$f":"IF(AP335=0,\"\",基本・配布部数合計!$T$37)","v":""},null,null,null,null,{"$f":"IF(AP335=0,\"\",申込書!$D$5)","v":""},null,"岡山県部数表"]
["X",null,null,null,null,null,null,null,null,null,null,null,null,null,null,null,null,null,null,null,null,null,null,null,null,null,null,null,null,null,null,null,null,null,null,null,null,null,null,{"$f":"IF(AP335=0,\"\",申込書!$D$6)","v":""}]
["X",null,null,null,null,null,null,null,null,null,null,null,null,null,null,null,null,null,null,null,null,null,null,null,null,null,null,null,null,null,null,null,null,null,null,null,null,null,null,null,null,null,8]
["X",null,"【　m01　朝　　　日　】",null,null,null,null,null,null,"【　m02　毎　　　日　】",null,null,null,null,null,null,"【　m03　読　　　売　】",null,null,null,null,null,null,"【　m59　山　　　陽　】",null,null,null,null,null,null,"【　m04　日　　　経　】",null,null,null,null,null,null,"【　m05　産　　　経　】"]
["X","市　　区",null,null,"ｺｰﾄﾞ",null,"基本部数","配布部数",null,null,null,"ｺｰﾄﾞ",null,"基本部数","配布部数",null,null,null,"ｺｰﾄﾞ",null,"基本部数","配布部数",null,null,null,"ｺｰﾄﾞ",null,"基本部数","配布部数",null,null,null,"ｺｰﾄﾞ",null,"基本部数","配布部数",null,null,null,"ｺｰﾄﾞ",null,"基本部数","配布部数"]
["A","33202","■","m01","3320201180","玉島",650,0,"",null," ","3320259080","Sa玉島","　 ／",null,null,"■","m03","3320203080","玉島",1900,0,"","■","m59","3320259080","玉島",5650,0,"","■","m04","3320201180","A玉島",400,0,"",null," ","3320259080","Sa玉島","　 ／",null,null,null,null,null,null,null,null,null,null,null,null,null,null,null,null,null,null,null,null,null,{"$f":"IF(COUNTIF(H301,{\">0\",\"<0\"}),0,COUNTIF(AJ301,{\">0\",\"<0\"}))","v":0}]
["A","倉敷市","■","m01","3320201182","玉島西",200,0,"",null," ","3320259081","Sa船穂","　 ／",null,null,"■","m03","3320203081","新倉敷",600,0,"","■","m59","3320259081","船穂",1150,0,"","■","m04","3320203085","Y真備",50,0,"",null," ","3320259081","Sa船穂","　 ／",null,null,null,null,null,null,null,null,null,null,null,null,null,null,null,null,null,null,null,null,null,{"$f":"IF(COUNTIF(V303,{\">0\",\"<0\"}),0,COUNTIF(AJ302,{\">0\",\"<0\"}))","v":0}]
["A","（玉島）",null," ","3320259087","Sa玉島北","　 ／",null,null,null," ","3320259082","Sa玉島西","　 ／",null,null,"■","m03","3320203085","真備",600,0,"","■","m59","3320259082","玉島西",1050,0,"","■","m04","3320259081","Sa船穂",50,0,"",null," ","3320259082","Sa玉島西","　 ／",null,null,null,null,null,null,null,null,null,null,null,null,null,null,null,null,null,null,null,null,null,{"$f":"IF(COUNTIF(AC302,{\">0\",\"<0\"}),0,COUNTIF(AJ303,{\">0\",\"<0\"}))","v":0}]
["A",null,null," ","3320259085","Sa真備南","　 ／",null,null,null," ","3320259087","Sa玉島北","　 ／",null,null,null,null,null,null,null,null,null,"■","m59","3320259087","玉島北",300,0,"","■","m04","3320259082","Sa玉島西",50,0,"",null," ","3320259087","Sa玉島北","　 ／",null,null,null,null,null,null,null,null,null,null,null,null,null,null,null,null,null,null,null,null,null,{"$f":"IF(COUNTIF(AC303,{\">0\",\"<0\"}),0,COUNTIF(AJ304,{\">0\",\"<0\"}))","v":0}]
["A",null,null," ","3320259086","Sa真備","　 ／",null,null,null," ","3320259085","Sa真備南","　 ／",null,null,null,null,null,null,null,null,null,"■","m59","3320259085","真備南",1500,0,"",null," ","3320259087","Sa玉島北","　 ／",null,null,null," ","3320259085","Sa真備南","　 ／"]
["A",null,null,null,null,null,null,null,null,null," ","3320259086","Sa真備","　 ／",null,null,null,null,null,null,null,null,null,"■","m59","3320259086","真備",1300,0,"",null," ","3320259085","Sa真備南","　 ／",null,null,null," ","3320259086","Sa真備","　 ／"]
["A",null,null,null,null,null,null,null,null,null,null,null,null,null,null,null,null,null,null,null,null,null,null,null,null,null,null,null,null,null,null," ","3320259086","Sa真備","　 ／"]
["A"]
["A"]
["A"]
["X",null,null,null,null,"　小　計",{"$f":"SUM(G301:G308)","v":850},{"$f":"SUM(H301:H308)","v":0},null,null,null,null,"　小　計",{"$f":"SUM(N301:N305)","v":0},{"$f":"SUM(O301:O305)","v":0},null,null,null,null,"　小　計",{"$f":"SUM(U301:U308)","v":3100},{"$f":"SUM(V301:V308)","v":0},null,null,null,null,"　小　計",{"$f":"SUM(AB301:AB308)","v":10950},{"$f":"SUM(AC301:AC308)","v":0},null,null,null,null,"　小　計",{"$f":"SUM(AI301:AI308)","v":550},{"$f":"SUM(AJ301:AJ308)","v":0},null,null,null,null,"　小　計",{"$f":"SUM(AP301:AP308)","v":0},{"$f":"SUM(AQ301:AQ308)","v":0},null,null,null,{"$f":"SUM(BE311:BL311)","v":0},null,null,null,null,null,null,null,null,null,{"$f":"COUNTIF(H301:H302,{\">0\",\"<0\"})","v":0},null,{"$f":"COUNTIF(V301:V303,{\">0\",\"<0\"})","v":0},{"$f":"COUNTIF(AC301:AC306,{\">0\",\"<0\"})","v":0},null,null,null,{"$f":"SUM(BL301:BL305)","v":0}]
["X"]
["X",null,null,null,null,null,null,null,null,null,null,null,null,null,null,null,null,null,null,null,null,null,null,null,null,null,null,null,null,null,null,null,null,null,null,null,null,"【　m60　中　　　国　】"]
["A",null,null,null,null,null,null,null,null,null,null,null,null,null,null,null,null,null,null,null,null,null,null,null,null,null,null,null,null,null,null,null,null,null,null,null,null,null," ","3320259080","Sa玉島","　 ／"]
["A"]
["X",{"$f":"SUM(G311,N311,U311,AB311,AI311,AP311)","v":15450},null,null,null,null,null,null,null,null,null,null,null,null,null,null,null,null,null,null,null,null,null,null,null,null,null,null,null,null,null,null,null,null,null,null,null,null,null,null,"　小　計",{"$f":"SUM(AP306:AP313)","v":0},{"$f":"SUM(AQ306:AQ313)","v":0}]
["X"]
["X"]
["X"]
["X"]
["A","33202","■","m01","3320259191","Sa児島",450,0,"",null," ","3320259090","Sa児島","　 ／",null,null,"■","m03","3320203090","児島",1300,0,"","■","m59","3320259090","児島",4050,0,"","■","m04","3320259090","Sa児島",200,0,"",null," ","3320259090","Sa児島","　 ／",null,null,null,null,null,null,null,null,null,null,null,null,null,null,null,null,null,null,null,null,null,{"$f":"IF(COUNTIF(AC321,{\">0\",\"<0\"}),0,COUNTIF(AJ321,{\">0\",\"<0\"}))","v":0}]
["A","倉敷市","■","m01","3320259192","Sa田の口・琴浦",200,0,"",null," ","3320259092","Sa田の口・琴浦","　 ／",null,null,"■","m03","3320203091","琴浦",800,0,"","■","m59","3320259092","田の口・琴浦",1750,0,"","■","m04","3320259092","Sa田の口・琴浦",100,0,"",null," ","3320259092","Sa田の口・琴浦","　 ／",null,null,null,null,null,null,null,null,null,null,null,null,null,null,null,null,null,null,null,null,null,{"$f":"IF(COUNTIF(AC322,{\">0\",\"<0\"}),0,COUNTIF(AJ322,{\">0\",\"<0\"}))","v":0}]
["A","（児島）","■"," ","3320259193","Sa稗田\n2025/12廃店","Sa児島に吸収",null,null,null," ","3320259093","Sa稗田","　 ／",null,null,"■","m03","3320203092","下津井",100,0,"","■"," ","3320259093","稗田\n2025/12廃店","Sa児島に吸収",null,null,null," ","3320259095","Sa児島西","　 ／",null,null,null," ","3320259093","Sa稗田","　 ／"]
["A",null,null," ","3320259095","Sa児島西","　 ／",null,null,null," ","3320259095","Sa児島西","　 ／",null,null,null," ","3320259095","Sa児島西","　 ／",null,null,"■","m59","3320259095","児島西",850,0,"",null," ","3320259095","Sa児島西","　 ／",null,null,null," ","3320259095","Sa児島西","　 ／"]
["A"]
["A"]
["X"]
["X"]
["A"]
["A"]
["X",{"$f":"SUM(G331,N331,U331,AB331,AI331,AP331)","v":9800},null,null,null,"　小　計",{"$f":"SUM(G321:G326)","v":650},{"$f":"SUM(H321:H326)","v":0},null,null,null,null,"　小　計",{"$f":"SUM(N321:N326)","v":0},{"$f":"SUM(O321:O326)","v":0},null,null,null,null,"　小　計",{"$f":"SUM(U321:U326)","v":2200},{"$f":"SUM(V321:V326)","v":0},null,null,null,null,"　小　計",{"$f":"SUM(AB321:AB328)","v":6650},{"$f":"SUM(AC321:AC328)","v":0},null,null,null,null,"　小　計",{"$f":"SUM(AI321:AI326)","v":300},{"$f":"SUM(AJ321:AJ326)","v":0},null,null,null,null,"　小　計",{"$f":"SUM(AP321:AP326)","v":0},{"$f":"SUM(AQ321:AQ326)","v":0},null,null,null,{"$f":"SUM(BE331:BL331)","v":0},null,null,null,null,null,null,null,null,null,{"$f":"COUNTIF(H321:H324,{\">0\",\"<0\"})","v":0},null,{"$f":"COUNTIF(V321:V323,{\">0\",\"<0\"})","v":0},{"$f":"COUNTIF(AC321:AC328,{\">0\",\"<0\"})","v":0},null,null,null,{"$f":"SUM(BL321:BL325)","v":0}]
["X"]
["X"]
["X","合計","　　合計","　　合計",null,null,{"$f":"SUM(G311,G331)","v":1500},{"$f":"SUM(H311,H331)","v":0},null,null,"　　合計",null,null,{"$f":"SUM(N311,N331)","v":0},{"$f":"SUM(O311,O331)","v":0},null,null,"　　合計",null,null,{"$f":"SUM(U311,U331)","v":5300},{"$f":"SUM(V311,V331)","v":0},null,null,"　　合計",null,null,{"$f":"SUM(AB311,AB331)","v":17600},{"$f":"SUM(AC311,AC331)","v":0},null,"　　合計",null,null,null,{"$f":"SUM(AI311,AI331)","v":850},{"$f":"SUM(AJ311,AJ331)","v":0},null,null,"　　合計",null,null,{"$f":"SUM(AP311,AP331)","v":0},{"$f":"SUM(AQ311,AQ331)","v":0}]
["X",null,"販売店名左横欄は、配送管理料を表します。 ●：２００円(税込２２０円)、  ■：４６０円(税込５０６円)の販売店です。　",null,null,null,null,null,null,null,null,null,null,null,null,null,null,null,null,null,null,null,null,null,null,null,null,null,null,null,null,null,null,null,null,null,null,"ペ ー ジ 計",null,null,null,{"$f":"SUM(H334,O334,V334,AQ334,AC334,AJ334)","v":0}]
["X",null,"販売店内の区域指定（広告主中心・広告主よりへ・会場中心・会場よりへ・教室中心に・教室よりに・東よりへ・西よりへ・北よりへ・南よりへ）",null,null,null,null,null,null,null,null,null,null,null,null,null,null,null,null,null,null,null,null,null,null,null,null,null,null,null,null,null,null,null,null,null,null,"株式会社　朝日オリコミ岡山",null,null,null,null,null,{"$f":"基本・配布部数合計!$T$38","v":"2026.07.10"}]
["X","新聞オリコミ広告部数明細表",null,null,null,null,null,"案件番号",null,null,null,null,"広　告　名",null,null,null,null,null,null,null,null,null,null,"折込日",null,null,null,null,null,"サイズ",null,null,null,null,"部数",null,null,null,null,"申込",null,{"$f":"基本・配布部数合計!$R$38","v":"2026-08-01"}]
["X",null,null,null,null,null,null,{"$f":"IF(AP377=0,\"\",申込書!$D$18)","v":""},null,null,null,null,{"$f":"IF(AP377=0,\"\",申込書!$F$12)","v":""},null,null,null,null,null,null,null,null,null,null,{"$f":"IF(AP377=0,\"\",申込書!$D$14)","v":""},null,null,null,null,null,{"$f":"IF(AP377=0,\"\",申込書!$D$15)","v":""},null,null,null,null,{"$f":"IF(AP377=0,\"\",基本・配布部数合計!$T$37)","v":""},null,null,null,null,{"$f":"IF(AP377=0,\"\",申込書!$D$5)","v":""},null,"岡山県部数表"]
["X",null,null,null,null,null,null,null,null,null,null,null,null,null,null,null,null,null,null,null,null,null,null,null,null,null,null,null,null,null,null,null,null,null,null,null,null,null,null,{"$f":"IF(AP377=0,\"\",申込書!$D$6)","v":""}]
["X",null,null,null,null,null,null,null,null,null,null,null,null,null,null,null,null,null,null,null,null,null,null,null,null,null,null,null,null,null,null,null,null,null,null,null,null,null,null,null,null,null,9]
["X",null,"【　m01　朝　　　日　】",null,null,null,null,null,null,"【　m02　毎　　　日　】",null,null,null,null,null,null,"【　m03　読　　　売　】",null,null,null,null,null,null,"【　m59　山　　　陽　】",null,null,null,null,null,null,"【　m04　日　　　経　】",null,null,null,null,null,null,"【　m05　産　　　経　】"]
["X","市　　区",null,null,"ｺｰﾄﾞ",null,"基本部数","配布部数",null,null,null,"ｺｰﾄﾞ",null,"基本部数","配布部数",null,null,null,"ｺｰﾄﾞ",null,"基本部数","配布部数",null,null,null,"ｺｰﾄﾞ",null,"基本部数","配布部数",null,null,null,"ｺｰﾄﾞ",null,"基本部数","配布部数",null,null,null,"ｺｰﾄﾞ",null,"基本部数","配布部数"]
["A","33211",null," ","3321159001","Sa香登","　 ／",null,null,null," ","3321159001","Sa香登","　 ／",null,null,"■","m03","3321103001","片上",300,0,"","■","m59","3321159001","香登",1600,0,"","■","m04","3321159001","Sa香登",100,0,"",null," ","3321159001","Sa香登","　 ／",null,null,null,null,null,null,null,null,null,null,null,null,null,null,null,null,null,null,null,null,null,{"$f":"IF(COUNTIF(AC343,{\">0\",\"<0\"}),0,COUNTIF(AJ343,{\">0\",\"<0\"}))","v":0}]
["A","備前市",null," ","3321159002","Sa備前片上","　 ／",null,null,null," ","3321159002","Sa備前片上","　 ／",null,null,"■","m03","3321103002","伊里",150,0,"","■","m59","3321159002","備前片上",1700,0,"","■","m04","3321159002","Sa備前片上",100,0,"",null," ","3321159002","Sa備前片上","　 ／",null,null,null,null,null,null,null,null,null,null,null,null,null,null,null,null,null,null,null,null,null,{"$f":"IF(COUNTIF(AC344,{\">0\",\"<0\"}),0,COUNTIF(AJ344,{\">0\",\"<0\"}))","v":0}]
["A",null,null," ","3321159004","Sa三石","　 ／",null,null,null," ","3321159004","Sa三石","　 ／",null,null,"■","m03","3321103003","三石",100,0,"","■","m59","3321159004","三石",550,0,"",null," ","3321159004","Sa三石","　 ／",null,null,null," ","3321159004","Sa三石","　 ／"]
["A",null,null," ","3321159011","Sa吉永","　 ／",null,null,null," ","3321159011","Sa吉永","　 ／",null,null,"■","m03","3321103011","日生",150,0,"","■","m59","3321159011","吉永",700,0,"",null," ","3321159011","Sa吉永","　 ／",null,null,null," ","3321159011","Sa吉永","　 ／"]
["A",null,null," ","3321159012","Sa備前日生","　 ／",null,null,null," ","3321159012","Sa備前日生","　 ／",null,null,null,null,null,null,null,null,null,"■","m59","3321159012","備前日生",1400,0,"","■","m04","3321159012","Sa備前日生",50,0,"",null," ","3321159012","Sa備前日生","　 ／",null,null,null,null,null,null,null,null,null,null,null,null,null,null,null,null,null,null,null,null,null,{"$f":"IF(COUNTIF(AC347,{\">0\",\"<0\"}),0,COUNTIF(AJ347,{\">0\",\"<0\"}))","v":0}]
["A"]
["A"]
["A"]
["A"]
["A"]
["X",{"$f":"SUM(G353,N353,U353,AB353,AI353,AP353)","v":6900},null,null,null,"　小　計",{"$f":"SUM(G343:G349)","v":0},{"$f":"SUM(H343:H349)","v":0},null,null,null,null,"　小　計",{"$f":"SUM(N343:N349)","v":0},{"$f":"SUM(O343:O349)","v":0},null,null,null,null,"　小　計",{"$f":"SUM(U343:U349)","v":700},{"$f":"SUM(V343:V349)","v":0},null,null,null,null,"　小　計",{"$f":"SUM(AB343:AB349)","v":5950},{"$f":"SUM(AC343:AC349)","v":0},null,null,null,null,"　小　計",{"$f":"SUM(AI343:AI349)","v":250},{"$f":"SUM(AJ343:AJ349)","v":0},null,null,null,null,"　小　計",{"$f":"SUM(AP343:AP349)","v":0},{"$f":"SUM(AQ343:AQ349)","v":0},null,null,null,{"$f":"SUM(BE353:BL353)","v":0},null,null,null,null,null,null,null,null,null,null,null,{"$f":"COUNTIF(V343:V346,{\">0\",\"<0\"})","v":0},{"$f":"COUNTIF(AC343:AC349,{\">0\",\"<0\"})","v":0},null,null,null,{"$f":"SUM(BL343:BL349)","v":0}]
["X"]
["X"]
["A","33340",null," ","3334059001","Sa和気","　 ／",null,null,null," ","3334059001","Sa和気","　 ／",null,null,"■","m03","3334003001","和気",350,0,"","■","m59","3334059001","和気",1200,0,"",null," ","3334059001","Sa和気","　 ／",null,null,null," ","3334059001","Sa和気","　 ／"]
["A","和気郡",null," ","3334059002","Sa和気東","　 ／",null,null,null," ","3334059002","Sa和気東","　 ／",null,null,null," ","3334059004","Sa佐伯","　 ／",null,null,"■","m59","3334059002","和気東",750,0,"",null," ","3334059002","Sa和気東","　 ／",null,null,null," ","3334059002","Sa和気東","　 ／"]
["A",null,null," ","3334059004","Sa佐伯","　 ／",null,null,null," ","3334059004","Sa佐伯","　 ／",null,null,null,null,null,null,null,null,null,"■","m59","3334059004","佐伯",650,0,"",null," ","3334059004","Sa佐伯","　 ／",null,null,null," ","3334059004","Sa佐伯","　 ／"]
["A"]
["X",{"$f":"SUM(G360,N360,U360,AB360,AI360,AP360)","v":2950},null,null,null,"　小　計",{"$f":"SUM(G356:G358)","v":0},{"$f":"SUM(H356:H358)","v":0},null,null,null,null,"　小　計",{"$f":"SUM(N356:N358)","v":0},{"$f":"SUM(O356:O358)","v":0},null,null,null,null,"　小　計",{"$f":"SUM(U356:U358)","v":350},{"$f":"SUM(V356:V358)","v":0},null,null,null,null,"　小　計",{"$f":"SUM(AB356:AB358)","v":2600},{"$f":"SUM(AC356:AC358)","v":0},null,null,null,null,"　小　計",{"$f":"SUM(AI356:AI358)","v":0},{"$f":"SUM(AJ356:AJ358)","v":0},null,null,null,null,"　小　計",{"$f":"SUM(AP356:AP358)","v":0},{"$f":"SUM(AQ356:AQ358)","v":0},null,null,null,{"$f":"SUM(BE360:BL360)","v":0},null,null,null,null,null,null,null,null,null,null,null,{"$f":"COUNTIF(V356,{\">0\",\"<0\"})","v":0},{"$f":"COUNTIF(AC356:AC358,{\">0\",\"<0\"})","v":0},null,null,null,{"$f":"SUM(BL356)","v":0}]
["X"]
["X"]
["A","33213",null," ","3321359003","Sa河本","　 ／",null,null,null," ","3321359003","Sa河本","　 ／",null,null,"■","m03","3321303002","山陽町",1650,0,"","■","m59","3321359003","河本(牟佐含む)",2000,0,"","■","m04","3321359003","Sa河本(牟佐地区)",50,0,null,null," ","3321359003","Sa河本","　 ／",null,null,null,null,null,null,null,null,null,null,null,null,null,null,null,null,null,null,null,null,null,{"$f":"IF(COUNTIF(AC363,{\">0\",\"<0\"}),0,COUNTIF(AJ363,{\">0\",\"<0\"}))","v":0}]
["A","赤磐市",null," ","3321359005","Sa神田","　 ／",null,null,null," ","3321359005","Sa神田","　 ／",null,null,null," ","3321359008","Sa町苅田","　 ／",null,null,"■","m59","3321359005","神田",1200,0,"",null," ","3321359005","Sa神田","　 ／",null,null,null," ","3321359005","Sa神田","　 ／"]
["A",null,null," ","3321359006","Saネオポリス","　 ／",null,null,null," ","3321359006","Saネオポリス","　 ／",null,null,null," ","3321359009","Sa周匝","　 ／",null,null,"■","m59","3321359006","ネオポリス",1250,0,"","■","m04","3321359006","Saネオポリス",100,0,null,null," ","3321359006","Saネオポリス","　 ／",null,null,null,null,null,null,null,null,null,null,null,null,null,null,null,null,null,null,null,null,null,{"$f":"IF(COUNTIF(AC365,{\">0\",\"<0\"}),0,COUNTIF(AJ365,{\">0\",\"<0\"}))","v":0}]
["A",null,null," ","3321359007","Sa熊山","　 ／",null,null,null," ","3321359007","Sa熊山","　 ／",null,null,null,null,null,null,null,null,null,"■","m59","3321359007","熊山",1450,0,"",null," ","3321359007","Sa熊山","　 ／",null,null,null," ","3321359007","Sa熊山","　 ／"]
["A",null,null," ","3321359008","Sa町苅田","　 ／",null,null,null," ","3321359008","Sa町苅田","　 ／",null,null,null,null,null,null,null,null,null,"■","m59","3321359008","町苅田",950,0,"",null," ","3321359008","Sa町苅田","　 ／",null,null,null," ","3321359008","Sa町苅田","　 ／"]
["A",null,null," ","3321359009","Sa周匝","　 ／",null,null,null," ","3321359009","Sa周匝","　 ／",null,null,null,null,null,null,null,null,null,"■","m59","3321359009","周匝",750,0,"",null," ","3321359009","Sa周匝","　 ／",null,null,null," ","3321359009","Sa周匝","　 ／"]
["A"]
["A"]
["X",{"$f":"SUM(G371,N371,U371,AB371,AI371,AP371)","v":9400},null,null,null,"　小　計",{"$f":"SUM(G363:G369)","v":0},{"$f":"SUM(H363:H369)","v":0},null,null,null,null,"　小　計",{"$f":"SUM(N363:N369)","v":0},{"$f":"SUM(O363:O369)","v":0},null,null,null,null,"　小　計",{"$f":"SUM(U363:U369)","v":1650},{"$f":"SUM(V363:V369)","v":0},null,null,null,null,"　小　計",{"$f":"SUM(AB363:AB368)","v":7600},{"$f":"SUM(AC363:AC368)","v":0},null,null,null,null,"　小　計",{"$f":"SUM(AI363:AI369)","v":150},{"$f":"SUM(AJ363:AJ369)","v":0},null,null,null,null,"　小　計",{"$f":"SUM(AP363:AP369)","v":0},{"$f":"SUM(AQ363:AQ369)","v":0},null,null,null,{"$f":"SUM(BE371:BL371)","v":0},null,null,null,null,null,null,null,null,null,null,null,{"$f":"COUNTIF(V363,{\">0\",\"<0\"})","v":0},{"$f":"COUNTIF(AC363:AC368,{\">0\",\"<0\"})","v":0},null,null,null,{"$f":"SUM(BL363:BL369)","v":0}]
["X"]
["X"]
["X"]
["X"]
["X","合計","　　合計","　　合計",null,null,{"$f":"SUM(G353,G360,G371)","v":0},{"$f":"SUM(H353,H360,H371)","v":0},null,null,"　　合計",null,null,{"$f":"SUM(N353,N360,N371)","v":0},{"$f":"SUM(O353,O360,O371)","v":0},null,null,"　　合計",null,null,{"$f":"SUM(U353,U360,U371)","v":2700},{"$f":"SUM(V353,V360,V371)","v":0},null,null,"　　合計",null,null,{"$f":"SUM(AB353,AB360,AB371)","v":16150},{"$f":"SUM(AC353,AC360,AC371)","v":0},null,"　　合計",null,null,null,{"$f":"SUM(AI353,AI360,AI371)","v":400},{"$f":"SUM(AJ353,AJ360,AJ371)","v":0},null,null,"　　合計",null,null,{"$f":"SUM(AP353,AP360,AP371)","v":0},{"$f":"SUM(AQ353,AQ360,AQ371)","v":0}]
["X",null,"販売店名左横欄は、配送管理料を表します。 ●：２００円(税込２２０円)、  ■：４６０円(税込５０６円)の販売店です。　",null,null,null,null,null,null,null,null,null,null,null,null,null,null,null,null,null,null,null,null,null,null,null,null,null,null,null,null,null,null,null,null,null,null,"ペ ー ジ 計",null,null,null,{"$f":"SUM(H376,O376,V376,AQ376,AC376,AJ376)","v":0}]
["X",null,"販売店内の区域指定（広告主中心・広告主よりへ・会場中心・会場よりへ・教室中心に・教室よりに・東よりへ・西よりへ・北よりへ・南よりへ）",null,null,null,null,null,null,null,null,null,null,null,null,null,null,null,null,null,null,null,null,null,null,null,null,null,null,null,null,null,null,null,null,null,null,"株式会社　朝日オリコミ岡山",null,null,null,null,null,{"$f":"基本・配布部数合計!$T$38","v":"2026.07.10"}]
["X","新聞オリコミ広告部数明細表",null,null,null,null,null,"案件番号",null,null,null,null,"広　告　名",null,null,null,null,null,null,null,null,null,null,"折込日",null,null,null,null,null,"サイズ",null,null,null,null,"部数",null,null,null,null,"申込",null,{"$f":"基本・配布部数合計!$R$38","v":"2026-08-01"}]
["X",null,null,null,null,null,null,{"$f":"IF(AP419=0,\"\",申込書!$D$18)","v":""},null,null,null,null,{"$f":"IF(AP419=0,\"\",申込書!$F$12)","v":""},null,null,null,null,null,null,null,null,null,null,{"$f":"IF(AP419=0,\"\",申込書!$D$14)","v":""},null,null,null,null,null,{"$f":"IF(AP419=0,\"\",申込書!$D$15)","v":""},null,null,null,null,{"$f":"IF(AP419=0,\"\",基本・配布部数合計!$T$37)","v":""},null,null,null,null,{"$f":"IF(AP419=0,\"\",申込書!$D$5)","v":""},null,"岡山県部数表"]
["X",null,null,null,null,null,null,null,null,null,null,null,null,null,null,null,null,null,null,null,null,null,null,null,null,null,null,null,null,null,null,null,null,null,null,null,null,null,null,{"$f":"IF(AP419=0,\"\",申込書!$D$6)","v":""}]
["X",null,null,null,null,null,null,null,null,null,null,null,null,null,null,null,null,null,null,null,null,null,null,null,null,null,null,null,null,null,null,null,null,null,null,null,null,null,null,null,null,null,10]
["X",null,"【　m01　朝　　　日　】",null,null,null,null,null,null,"【　m02　毎　　　日　】",null,null,null,null,null,null,"【　m03　読　　　売　】",null,null,null,null,null,null,"【　m59　山　　　陽　】",null,null,null,null,null,null,"【　m04　日　　　経　】",null,null,null,null,null,null,"【　m05　産　　　経　】"]
["X","市　　区",null,null,"ｺｰﾄﾞ",null,"基本部数","配布部数",null,null,null,"ｺｰﾄﾞ",null,"基本部数","配布部数",null,null,null,"ｺｰﾄﾞ",null,"基本部数","配布部数",null,null,null,"ｺｰﾄﾞ",null,"基本部数","配布部数",null,null,null,"ｺｰﾄﾞ",null,"基本部数","配布部数",null,null,null,"ｺｰﾄﾞ",null,"基本部数","配布部数"]
["A","33212",null," ","3321259001","Sa邑久","　 ／",null,null,null," ","3321259001","Sa邑久","　 ／",null,null,"■","m03","3321203001","長船",650,0,"","■","m59","3321259001","邑久・長船",3350,0,"",null," ","3321259001","Sa邑久","　 ／",null,null,null," ","3321259001","Sa邑久","　 ／"]
["A","瀬戸内市",null," ","3321259003","Sa瀬戸内南","　 ／",null,null,null," ","3321259003","Sa瀬戸内南","　 ／",null,null,"■","m03","3321203002","牛窓",250,0,"","■","m59","3321259003","瀬戸内南",2050,0,"",null," ","3321259003","Sa瀬戸内南","　 ／",null,null,null," ","3321259003","Sa瀬戸内南","　 ／"]
["A",null,null," ","3321259004","Sa虫明","　 ／",null,null,null," ","3321259004","Sa虫明","　 ／",null,null,""," ","3321259004","Sa虫明","　 ／",null,null,"■","m59","3321259004","虫明",550,0,"",null," ","3321259004","Sa虫明","　 ／",null,null,null," ","3321259004","Sa虫明","　 ／"]
["A"]
["A"]
["X",{"$f":"SUM(G390,N390,U390,AB390,AI390,AP390)","v":6850},null,null,null,"　小　計",{"$f":"SUM(G385:G388)","v":0},{"$f":"SUM(H385:H388)","v":0},null,null,null,null,"　小　計",{"$f":"SUM(N385:N388)","v":0},{"$f":"SUM(O385:O388)","v":0},null,null,null,null,"　小　計",{"$f":"SUM(U385:U388)","v":900},{"$f":"SUM(V385:V388)","v":0},null,null,null,null,"　小　計",{"$f":"SUM(AB385:AB388)","v":5950},{"$f":"SUM(AC385:AC388)","v":0},null,null,null,null,"　小　計",{"$f":"SUM(AI385:AI388)","v":0},{"$f":"SUM(AJ385:AJ388)","v":0},null,null,null,null,"　産 経 小 計",{"$f":"SUM(AP385:AP388)","v":0},{"$f":"SUM(AQ385:AQ388)","v":0},null,null,null,{"$f":"SUM(BE390:BL390)","v":0},null,null,null,null,null,null,null,null,null,null,null,{"$f":"COUNTIF(V385:V386,{\">0\",\"<0\"})","v":0},{"$f":"COUNTIF(AC385:AC388,{\">0\",\"<0\"})","v":0},null,null,null,{"$f":"SUM(BL382:BL383)","v":0}]
["X"]
["X"]
["A","33205",null," ","3320559001","Sa笠岡","　 ／",null,null,"■","m02","3320502001","笠岡",100,0,"","■","m03","3320503001","笠岡",750,0,"","■","m59","3320559001","笠岡",2700,0,"","■","m04","3320503001","Y笠岡\n(笠岡東含む)",200,0,"",null," ","3320559001","Sa笠岡","　 ／",null,null,null,null,null,null,null,null,null,null,null,null,null,null,null,null,null,null,null,null,null,{"$f":"IF(COUNTIF(V393,{\">0\",\"<0\"}),0,COUNTIF(AJ393,{\">0\",\"<0\"}))","v":0}]
["A","笠岡市",null," ","3320559002","Sa金浦","　 ／",null,null,null," ","3320559008","Sa笠岡東大島","　 ／",null,null,"■","m03","3320503002","笠岡東",800,0,"","■","m59","3320559002","金浦",1450,0,"","■","m04","3320503003","Y笠岡西",100,0,"",null," ","3320559002","Sa金浦","　 ／",null,null,null,null,null,null,null,null,null,null,null,null,null,null,null,null,null,null,null,null,null,{"$f":"IF(COUNTIF(V395,{\">0\",\"<0\"}),0,COUNTIF(AJ394,{\">0\",\"<0\"}))","v":0}]
["A",null,null," ","3320559008","Sa笠岡東大島","　 ／",null,null,null," ","3320559009","Sa笠岡東今井","　 ／",null,null,"■","m03","3320503003","笠岡西",200,0,"","■","m59","3320559008","笠岡東大島",800,0,"",null," ","3320559001","Sa笠岡","　 ／",null,null,null," ","3320559008","Sa笠岡東大島","　 ／"]
["A",null,null," ","3320559009","Sa笠岡東今井","　 ／",null,null,null," ","3320559004","Sa大井","　 ／",null,null,null," ","3320559001","Sa笠岡","　 ／",null,null,"■","m59","3320559009","笠岡東今井",650,0,"",null," ","3320559008","Sa笠岡東大島","　 ／",null,null,null," ","3320559009","Sa笠岡東今井","　 ／"]
["A",null,null," ","3320559004","Sa大井","　 ／",null,null,null," ","3320559005","Sa新山","　 ／",null,null,null," ","3320559008","Sa笠岡東大島","　 ／",null,null,"■","m59","3320559004","大井",1050,0,"",null," ","3320559009","Sa笠岡東今井","　 ／",null,null,null," ","3320559004","Sa大井","　 ／"]
["A",null,null," ","3320559005","Sa新山","　 ／",null,null,null," ","3320559006","Sa北川","　 ／",null,null,null," ","3320559009","Sa笠岡東今井","　 ／",null,null,"■","m59","3320559005","新山",500,0,"","■","m04","3320559004","S大井",50,0,"",null," ","3320559005","Sa新山","　 ／",null,null,null,null,null,null,null,null,null,null,null,null,null,null,null,null,null,null,null,null,null,{"$f":"IF(COUNTIF(AC397,{\">0\",\"<0\"}),0,COUNTIF(AJ398,{\">0\",\"<0\"}))","v":0}]
["A",null,null," ","3320559006","Sa北川","　 ／",null,null,null," ","3320559007","Sa神島外","　 ／",null,null,null," ","3320559004","Sa大井","　 ／",null,null,"■","m59","3320559006","北川",400,0,"",null," ","3320559005","Sa新山","　 ／",null,null,null," ","3320559006","Sa北川","　 ／"]
["A",null,null," ","3320559007","Sa神島外","　 ／",null,null,null," ","3320560002","Ch笠岡西","　 ／",null,null,null," ","3320559005","Sa新山","　 ／",null,null,"■","m59","3320559007","神島外",200,0,"",null," ","3320559006","Sa北川","　 ／",null,null,null," ","3320559007","Sa神島外","　 ／"]
["A",null,null,null,null,null,null,null,null,null,null,null,null,null,null,null,null," ","3320559006","Sa北川","　 ／",null,null,null,null,null,null,null,null,null,null," ","3320559007","Sa神島外","　 ／"]
["A",null,null,null,null,null,null,null,null,null,null,null,null,null,null,null,null," ","3320559007","Sa神島外","　 ／"]
["A"]
["X",null,null,null,null,"　小　計",{"$f":"SUM(G393:G402)","v":0},{"$f":"SUM(H393:H402)","v":0},null,null,null,null,"　小　計",{"$f":"SUM(N393:N402)","v":100},{"$f":"SUM(O393:O402)","v":0},null,null,"",null,"　小　計",{"$f":"SUM(U393:U402)","v":1750},{"$f":"SUM(V393:V402)","v":0},null,null,"",null,"　小　計",{"$f":"SUM(AB393:AB402)","v":7750},{"$f":"SUM(AC393:AC402)","v":0},null,null,"",null,"　小　計",{"$f":"SUM(AI393:AI402)","v":350},{"$f":"SUM(AJ393:AJ402)","v":0},null,null,"",null,"　産 経 小 計",{"$f":"SUM(AP393:AP402)","v":0},{"$f":"SUM(AQ393:AQ402)","v":0}]
["X"]
["X"]
["X",null,null,null,null,null,null,null,null,null,null,null,null,null,null,null,null,null,null,null,null,null,null,null,null,null,null,null,null,null,null,null,null,null,null,null,null,"【　m60　中　　　国　】"]
["A",null,null,null,null,null,null,null,null,null,null,null,null,null,null,null,null,null,null,null,null,null,null,null,null,null,null,null,null,null,null,null,null,null,null,null,null,"■","m60","3320560001","笠岡中央",750,0,""]
["A",null,null,null,null,null,null,null,null,null,null,null,null,null,null,null,null,null,null,null,null,null,null,null,null,null,null,null,null,null,null,null,null,null,null,null,null,"■","m60","3320560002","笠岡西\n(毎日含む)",650,0,""]
["A"]
["X",{"$f":"SUM(G404,N404,U404,AP404,AB404,AI404,AP411)","v":11350},null,null,null,null,null,null,null,null,null,null,null,null,null,null,null,null,null,null,null,null,null,null,null,null,null,null,null,null,null,null,null,null,null,null,null,null,"",null,"　中 国 小 計",{"$f":"SUM(AP408:AP409)","v":1400},{"$f":"SUM(AQ408:AQ409)","v":0},null,null,null,{"$f":"SUM(BE411:BL411)","v":0},null,null,null,null,null,null,null,null,null,null,{"$f":"COUNTIF(O393,{\">0\",\"<0\"})","v":0},{"$f":"COUNTIF(V393:V395,{\">0\",\"<0\"})","v":0},{"$f":"COUNTIF(AC393:AC400,{\">0\",\"<0\"})","v":0},null,{"$f":"COUNTIF(AQ408:AQ409,{\">0\",\"<0\"})","v":0},null,{"$f":"SUM(BL393:BL394)","v":0}]
["X"]
["X"]
["X"]
["X"]
["X"]
["X"]
["X","合計","　　合計","　　合計",null,null,{"$f":"SUM(G390,G404)","v":0},{"$f":"SUM(H390,H404)","v":0},null,null,"　　合計",null,null,{"$f":"SUM(N390,N404)","v":100},{"$f":"SUM(O390,O404)","v":0},null,null,"　　合計",null,null,{"$f":"SUM(U390,U404)","v":2650},{"$f":"SUM(V390,V404)","v":0},null,null,"　　合計",null,null,{"$f":"SUM(AB390,AB404)","v":13700},{"$f":"SUM(AC390,AC404)","v":0},null,"　　合計",null,null,null,{"$f":"SUM(AI390,AI404)","v":350},{"$f":"SUM(AJ390,AJ404)","v":0},null,null,"　　合計",null,null,{"$f":"SUM(AP390,AP404,AP411)","v":1400},{"$f":"SUM(AQ390,AQ404,AQ411)","v":0}]
["X",null,"販売店名左横欄は、配送管理料を表します。 ●：２００円(税込２２０円)、  ■：４６０円(税込５０６円)の販売店です。　",null,null,null,null,null,null,null,null,null,null,null,null,null,null,null,null,null,null,null,null,null,null,null,null,null,null,null,null,null,null,null,null,null,null,"ペ ー ジ 計",null,null,null,{"$f":"SUM(H418,O418,V418,AQ418,AC418,AJ418)","v":0}]
["X",null,"販売店内の区域指定（広告主中心・広告主よりへ・会場中心・会場よりへ・教室中心に・教室よりに・東よりへ・西よりへ・北よりへ・南よりへ）",null,null,null,null,null,null,null,null,null,null,null,null,null,null,null,null,null,null,null,null,null,null,null,null,null,null,null,null,null,null,null,null,null,null,"株式会社　朝日オリコミ岡山",null,null,null,null,null,{"$f":"基本・配布部数合計!$T$38","v":"2026.07.10"}]
["X","新聞オリコミ広告部数明細表",null,null,null,null,null,"案件番号",null,null,null,null,"広　告　名",null,null,null,null,null,null,null,null,null,null,"折込日",null,null,null,null,null,"サイズ",null,null,null,null,"部数",null,null,null,null,"申込",null,{"$f":"基本・配布部数合計!$R$38","v":"2026-08-01"}]
["X",null,null,null,null,null,null,{"$f":"IF(AP461=0,\"\",申込書!$D$18)","v":""},null,null,null,null,{"$f":"IF(AP461=0,\"\",申込書!$F$12)","v":""},null,null,null,null,null,null,null,null,null,null,{"$f":"IF(AP461=0,\"\",申込書!$D$14)","v":""},null,null,null,null,null,{"$f":"IF(AP461=0,\"\",申込書!$D$15)","v":""},null,null,null,null,{"$f":"IF(AP461=0,\"\",基本・配布部数合計!$T$37)","v":""},null,null,null,null,{"$f":"IF(AP461=0,\"\",申込書!$D$5)","v":""},null,"岡山県部数表"]
["X",null,null,null,null,null,null,null,null,null,null,null,null,null,null,null,null,null,null,null,null,null,null,null,null,null,null,null,null,null,null,null,null,null,null,null,null,null,null,{"$f":"IF(AP461=0,\"\",申込書!$D$6)","v":""}]
["X",null,null,null,null,null,null,null,null,null,null,null,null,null,null,null,null,null,null,null,null,null,null,null,null,null,null,null,null,null,null,null,null,null,null,null,null,null,null,null,null,null,11]
["X",null,"【　m01　朝　　　日　】",null,null,null,null,null,null,"【　m02　毎　　　日　】",null,null,null,null,null,null,"【　m03　読　　　売　】",null,null,null,null,null,null,"【　m59　山　　　陽　】",null,null,null,null,null,null,"【　m04　日　　　経　】",null,null,null,null,null,null,"【　m05　産　　　経　】"]
["X","市　　区",null,null,"ｺｰﾄﾞ",null,"基本部数","配布部数",null,null,null,"ｺｰﾄﾞ",null,"基本部数","配布部数",null,null,null,"ｺｰﾄﾞ",null,"基本部数","配布部数",null,null,null,"ｺｰﾄﾞ",null,"基本部数","配布部数",null,null,null,"ｺｰﾄﾞ",null,"基本部数","配布部数",null,null,null,"ｺｰﾄﾞ",null,"基本部数","配布部数"]
["A","33207",null," ","3320759002","Sa井原東","　 ／",null,null,null," ","3320759001","Sa井原","　 ／",null,null,"■","m03","3320703001","井原",500,0,"","■","m59","3320759001","井原",1300,0,"","■","m04","3320703001","Y井原",100,0,"",null," ","3320759001","Sa井原","　 ／",null,null,null,null,null,null,null,null,null,null,null,null,null,null,null,null,null,null,null,null,null,{"$f":"IF(COUNTIF(V427,{\">0\",\"<0\"}),0,COUNTIF(AJ427,{\">0\",\"<0\"}))","v":0}]
["A","井原市",null," ","3320759004","Sa木の子","　 ／",null,null,null," ","3320759002","Sa井原東","　 ／",null,null,"■","m03","3320703002","西江原",600,0,"","■","m59","3320759002","井原東",950,0,"","■","m04","3320703002","Y西江原",100,0,"",null," ","3320759002","Sa井原東","　 ／",null,null,null,null,null,null,null,null,null,null,null,null,null,null,null,null,null,null,null,null,null,{"$f":"IF(COUNTIF(V428,{\">0\",\"<0\"}),0,COUNTIF(AJ428,{\">0\",\"<0\"}))","v":0}]
["A",null,null," ","3320759005","Sa県主","　 ／",null,null,null," ","3320759004","Sa木の子","　 ／",null,null,"■","m03","3320703003","高屋",200,0,"","■","m59","3320759004","木の子",350,0,"",null," ","3320759005","Sa県主","　 ／",null,null,null," ","3320759004","Sa木の子","　 ／"]
["A",null,null," ","3320759006","Sa稲倉","　 ／",null,null,null," ","3320759005","Sa県主","　 ／",null,null,null," ","3320759005","Sa県主","　 ／",null,null,"■","m59","3320759005","県主",300,0,"",null," ","3320759006","Sa稲倉","　 ／",null,null,null," ","3320759005","Sa県主","　 ／"]
["A",null,null," ","3320759008","Sa芳井","　 ／",null,null,null," ","3320759006","Sa稲倉","　 ／",null,null,null," ","3320759006","Sa稲倉","　 ／",null,null,"■","m59","3320759006","稲倉",250,0,"",null," ","3320759007","Sa高屋","　 ／",null,null,null," ","3320759006","Sa稲倉","　 ／"]
["A",null,null," ","3320759011","Sa芳井三原","　 ／",null,null,null," ","3320759007","Sa高屋","　 ／",null,null,null," ","3320759008","Sa芳井","　 ／",null,null,"■","m59","3320759007","高屋",950,0,"",null," ","3320759008","Sa芳井","　 ／",null,null,null," ","3320759007","Sa高屋","　 ／"]
["A",null,null," ","3320759010","Sa美星","　 ／",null,null,null," ","3320759008","Sa芳井","　 ／",null,null,null," ","3320759011","Sa芳井三原","　 ／",null,null,"■","m59","3320759008","芳井　　　　　",700,0,"",null," ","3320759011","Sa芳井三原","　 ／",null,null,null," ","3320759008","Sa芳井","　 ／"]
["A",null,null," ","3320760001","Ch井原","　 ／",null,null,null," ","3320759011","Sa芳井三原","　 ／",null,null,null," ","3320759010","Sa美星","　 ／",null,null,null,"m59","3320759011","芳井三原",50,0,"",null," ","3320759010","Sa美星","　 ／",null,null,null," ","3320759011","Sa芳井三原","　 ／"]
["A",null,null," ","3320760003","Ch井原西","　 ／",null,null,null," ","3320759010","Sa美星","　 ／",null,null,null,null,null,null,null,null,null,"■","m59","3320759010","美星",700,0,"",null,null,null,null,null,null,null,null," ","3320759010","Sa美星","　 ／"]
["A",null,null,null,null,null,null,null,null,null," ",null,null,null,null,null,null,null,null,null,null,null,null,null,null,null,null,null,null,null,null,null,null,null,null,null,null,null," "]
["A"]
["A"]
["X",null,null,null,null,"　小　計",{"$f":"SUM(G427:G437)","v":0},{"$f":"SUM(H427:H437)","v":0},null,null,null,null,"　小　計",{"$f":"SUM(N427:N437)","v":0},{"$f":"SUM(O427:O437)","v":0},null,null,"",null,"　小　計",{"$f":"SUM(U427:U437)","v":1300},{"$f":"SUM(V427:V437)","v":0},null,null,"",null,"　小　計",{"$f":"SUM(AB427:AB437)","v":5550},{"$f":"SUM(AC427:AC437)","v":0},null,null,"",null,"　小　計",{"$f":"SUM(AI427:AI437)","v":200},{"$f":"SUM(AJ427:AJ437)","v":0},null,null,"",null,"　産 経 小 計",{"$f":"SUM(AP427:AP437)","v":0},{"$f":"SUM(AQ427:AQ437)","v":0}]
["X"]
["X"]
["X",null,null,null,null,null,null,null,null,null,null,null,null,null,null,null,null,null,null,null,null,null,null,null,null,null,null,null,null,null,null,null,null,null,null,null,null,"【　m60　中　　　国　】"]
["A",null,null,null,null,null,null,null,null,null,null,null,null,null,null,null,null,null,null,null,null,null,null,null,null,null,null,null,null,null,null,null,null,null,null,null,null,"■","m60","3320760001","井原\n(朝日300含む)",1050,0,""]
["A",null,null,null,null,null,null,null,null,null,null,null,null,null,null,null,null,null,null,null,null,null,null,null,null,null,null,null,null,null,null,null,null,null,null,null,null,"■","m60","3320760003","井原西\n(朝日100含む)",400,0,""]
["A"]
["X",{"$f":"SUM(G439,N439,U439,AP439,AB439,AI439,AP446)","v":8500},null,null,null,null,null,null,null,null,null,null,null,null,null,null,null,null,null,null,null,null,null,null,null,null,null,null,null,null,null,null,null,null,null,null,null,null,"",null,"　中 国 小 計",{"$f":"SUM(AP443:AP444)","v":1450},{"$f":"SUM(AQ443:AQ444)","v":0},null,null,null,{"$f":"SUM(BE446:BL446)","v":0},null,null,null,null,null,null,null,null,null,null,null,{"$f":"COUNTIF(V427:V429,{\">0\",\"<0\"})","v":0},{"$f":"SUM(COUNTIF(AC427:AC433,{\">0\",\"<0\"}),COUNTIF(AC435,{\">0\",\"<0\"}))","v":0},null,{"$f":"COUNTIF(AQ443:AQ444,{\">0\",\"<0\"})","v":0},null,{"$f":"SUM(BL427:BL428)","v":0}]
["X"]
["X"]
["X"]
["X"]
["X"]
["X"]
["X"]
["X"]
["X"]
["X"]
["X"]
["X"]
["X"]
["X","合計","　　合計","　　合計",null,null,{"$f":"SUM(G439)","v":0},{"$f":"SUM(H439)","v":0},null,null,"　　合計",null,null,{"$f":"SUM(N439)","v":0},{"$f":"SUM(O439)","v":0},null,null,"　　合計",null,null,{"$f":"SUM(U439)","v":1300},{"$f":"SUM(V439)","v":0},null,null,"　　合計",null,null,{"$f":"SUM(AB439)","v":5550},{"$f":"SUM(AC439)","v":0},null,"　　合計",null,null,null,{"$f":"SUM(AI439)","v":200},{"$f":"SUM(AJ439)","v":0},null,null,"　　合計",null,null,{"$f":"SUM(AP439,AP446)","v":1450},{"$f":"SUM(AQ439,AQ446)","v":0}]
["X",null,"販売店名左横欄は、配送管理料を表します。 ●：２００円(税込２２０円)、  ■：４６０円(税込５０６円)の販売店です。　",null,null,null,null,null,null,null,null,null,null,null,null,null,null,null,null,null,null,null,null,null,null,null,null,null,null,null,null,null,null,null,null,null,null,"ペ ー ジ 計",null,null,null,{"$f":"SUM(H460,O460,V460,AQ460,AC460,AJ460)","v":0}]
["X",null,"販売店内の区域指定（広告主中心・広告主よりへ・会場中心・会場よりへ・教室中心に・教室よりに・東よりへ・西よりへ・北よりへ・南よりへ）",null,null,null,null,null,null,null,null,null,null,null,null,null,null,null,null,null,null,null,null,null,null,null,null,null,null,null,null,null,null,null,null,null,null,"株式会社　朝日オリコミ岡山",null,null,null,null,null,{"$f":"基本・配布部数合計!$T$38","v":"2026.07.10"}]
["X","新聞オリコミ広告部数明細表",null,null,null,null,null,"案件番号",null,null,null,null,"広　告　名",null,null,null,null,null,null,null,null,null,null,"折込日",null,null,null,null,null,"サイズ",null,null,null,null,"部数",null,null,null,null,"申込",null,{"$f":"基本・配布部数合計!$R$38","v":"2026-08-01"}]
["X",null,null,null,null,null,null,{"$f":"IF(AP503=0,\"\",申込書!$D$18)","v":""},null,null,null,null,{"$f":"IF(AP503=0,\"\",申込書!$F$12)","v":""},null,null,null,null,null,null,null,null,null,null,{"$f":"IF(AP503=0,\"\",申込書!$D$14)","v":""},null,null,null,null,null,{"$f":"IF(AP503=0,\"\",申込書!$D$15)","v":""},null,null,null,null,{"$f":"IF(AP503=0,\"\",基本・配布部数合計!$T$37)","v":""},null,null,null,null,{"$f":"IF(AP503=0,\"\",申込書!$D$5)","v":""},null,"岡山県部数表"]
["X",null,null,null,null,null,null,null,null,null,null,null,null,null,null,null,null,null,null,null,null,null,null,null,null,null,null,null,null,null,null,null,null,null,null,null,null,null,null,{"$f":"IF(AP503=0,\"\",申込書!$D$6)","v":""}]
["X",null,null,null,null,null,null,null,null,null,null,null,null,null,null,null,null,null,null,null,null,null,null,null,null,null,null,null,null,null,null,null,null,null,null,null,null,null,null,null,null,null,12]
["X",null,"【　m01　朝　　　日　】",null,null,null,null,null,null,"【　m02　毎　　　日　】",null,null,null,null,null,null,"【　m03　読　　　売　】",null,null,null,null,null,null,"【　m59　山　　　陽　】",null,null,null,null,null,null,"【　m04　日　　　経　】",null,null,null,null,null,null,"【　m05　産　　　経　】"]
["X",null,null,null,"ｺｰﾄﾞ",null,"基本部数","配布部数",null,null,null,"ｺｰﾄﾞ",null,"基本部数","配布部数",null,null,null,"ｺｰﾄﾞ",null,"基本部数","配布部数",null,null,null,"ｺｰﾄﾞ",null,"基本部数","配布部数",null,null,null,"ｺｰﾄﾞ",null,"基本部数","配布部数",null,null,null,"ｺｰﾄﾞ",null,"基本部数","配布部数"]
["A","33216",null," ","3321603001","Y里庄","　 ／",null,null,null," ","3321659001","Sa里庄","　 ／",null,null,"■","m03","3321603001","里庄\n(朝日200含む)",900,0,"","■","m59","3321659001","里庄",1300,0,"","■","m04","3321603002","Y鴨方",150,0,"",null," ","3321659001","Sa里庄","　 ／",null,null,null,null,null,null,null,null,null,null,null,null,null,null,null,null,null,null,null,null,null,{"$f":"IF(COUNTIF(V470,{\">0\",\"<0\"}),0,COUNTIF(AJ469,{\">0\",\"<0\"}))","v":0}]
["A","浅口市",null," ","3321603002","Y鴨方","　 ／",null,null,null," ","3321659002","Sa鴨方","　 ／",null,null,"■","m03","3321603002","鴨方\n(朝日300含む)",1150,0,"","■","m59","3321659002","鴨方",700,0,"","■","m04","3321603005","Y金光",100,0,"",null," ","3321659002","Sa鴨方","　 ／",null,null,null,null,null,null,null,null,null,null,null,null,null,null,null,null,null,null,null,null,null,{"$f":"IF(COUNTIF(V472,{\">0\",\"<0\"}),0,COUNTIF(AJ470,{\">0\",\"<0\"}))","v":0}]
["A",null,null," ","3321603003","Y西六","　 ／",null,null,null," ","3321659003","Sa小坂","　 ／",null,null,"■","m03","3321603003","西六",100,0,"","■","m59","3321659003","小坂",550,0,"",null," ","3321659001","Sa里庄","　 ／",null,null,null," ","3321659003","Sa小坂","　 ／"]
["A",null,null," ","3321603005","Y金光","　 ／",null,null,null," ","3321659004","Sa六条院","　 ／",null,null,"■","m03","3321603005","金光\n(朝日300含む)",950,0,"","■","m59","3321659004","六条院",900,0,"",null," ","3321659004","Sa六条院","　 ／",null,null,null," ","3321659004","Sa六条院","　 ／"]
["A",null,null," ","3321659006","Sa寄島","　 ／",null,null,null," ","3321659005","Sa金光","　 ／",null,null,"■","m03","3321603006","寄島",400,0,"","■","m59","3321659005","金光",1450,0,"",null," ","3321659006","Sa寄島","　 ／",null,null,null," ","3321659005","Sa金光","　 ／"]
["A",null,null,null,null,null,null,null,null,null," ","3321659006","Sa寄島","　 ／",null,null,null,null,null,null,null,null,null,"■","m59","3321659006","寄島",600,0,"",null,null,null,null,null,null,null,null," ","3321659006","Sa寄島","　 ／"]
["A"]
["A"]
["A"]
["X",{"$f":"SUM(G478,N478,U478,AB478,AI478,AP478)","v":9250},null,null,null,"　小　計",{"$f":"SUM(G469:G476)","v":0},{"$f":"SUM(H469:H476)","v":0},null,null,null,null,"　小　計",{"$f":"SUM(N469:N476)","v":0},{"$f":"SUM(O469:O476)","v":0},null,null,null,null,"　小　計",{"$f":"SUM(U469:U476)","v":3500},{"$f":"SUM(V469:V476)","v":0},null,null,null,null,"　小　計",{"$f":"SUM(AB469:AB476)","v":5500},{"$f":"SUM(AC469:AC476)","v":0},null,null,null,null,"　小　計",{"$f":"SUM(AI469:AI476)","v":250},{"$f":"SUM(AJ469:AJ476)","v":0},null,null,null,null,"　小　計",{"$f":"SUM(AP469:AP476)","v":0},{"$f":"SUM(AQ469:AQ476)","v":0},null,null,null,{"$f":"SUM(BE478:BL478)","v":0},null,null,null,null,null,null,null,null,null,{"$f":"COUNTIF(H469:H471,{\">0\",\"<0\"})","v":0},null,{"$f":"COUNTIF(V469:V473,{\">0\",\"<0\"})","v":0},{"$f":"COUNTIF(AC469:AC476,{\">0\",\"<0\"})","v":0},null,null,null,{"$f":"SUM(BL469:BL470)","v":0}]
["X"]
["X"]
["A","33460",null," ","3346059001","Sa小田","　 ／",null,null,null," ","3346059001","Sa小田","　 ／",null,null,"■","m03","3346003001","小田",100,0,"","■","m59","3346059001","小田",650,0,"",null," ","3346059001","Sa小田","　 ／",null,null,"■","m05","3346005001","小田",50,0,""]
["A","小田郡",null," ","3346059002","Sa矢掛","　 ／",null,null,null," ","3346059002","Sa矢掛","　 ／",null,null,"■","m03","3346003002","矢掛",600,0,"","■","m59","3346059002","矢掛",1750,0,"","■","m04","3346003002","Y矢掛",100,0,"",null," ","3346059002","Sa矢掛","　 ／"]
["A"]
["X",{"$f":"SUM(G484,N484,U484,AB484,AI484,AP484)","v":3250},null,null,null,"　小　計",{"$f":"SUM(G481:G482)","v":0},{"$f":"SUM(H481:H482)","v":0},null,null,null,null,"　小　計",{"$f":"SUM(N481:N482)","v":0},{"$f":"SUM(O481:O482)","v":0},null,null,null,null,"　小　計",{"$f":"SUM(U481:U482)","v":700},{"$f":"SUM(V481:V482)","v":0},null,null,null,null,"　小　計",{"$f":"SUM(AB481:AB482)","v":2400},{"$f":"SUM(AC481:AC482)","v":0},null,null,null,null,"　小　計",{"$f":"SUM(AI481:AI482)","v":100},{"$f":"SUM(AJ481:AJ482)","v":0},null,null,null,null,"　小　計",{"$f":"SUM(AP481:AP482)","v":50},{"$f":"SUM(AQ481:AQ482)","v":0},null,null,null,{"$f":"SUM(BE484:BL484)","v":0},null,null,null,null,null,null,null,null,null,null,null,{"$f":"COUNTIF(V481:V482,{\">0\",\"<0\"})","v":0},{"$f":"COUNTIF(AC481:AC482,{\">0\",\"<0\"})","v":0},{"$f":"COUNTIF(AQ481,{\">0\",\"<0\"})","v":0},null,null,{"$f":"IF(COUNTIF(V482,{\">0\",\"<0\"}),0,COUNTIF(AJ482,{\">0\",\"<0\"}))","v":0}]
["X"]
["X"]
["A","33208",null," ","3320859001","Sa総社東","　 ／",null,null,null," ","3320859001","Sa総社東","　 ／",null,null,"■","m03","3320803001","総社東",950,0,"","■","m59","3320859001","総社東",2400,0,"",null," ","3320859001","Sa総社東","　 ／",null,null,null," ","3320859001","Sa総社東","　 ／"]
["A","総社市",null," ","3320859002","Sa総社西","　 ／",null,null,null," ","3320859002","Sa総社西","　 ／",null,null,"■","m03","3320803002","総社",1050,0,"","■","m59","3320859002","総社西",3400,0,"",null," ","3320859002","Sa総社西","　 ／",null,null,null," ","3320859002","Sa総社西","　 ／"]
["A",null,null," ","3320859003","Sa常盤","　 ／",null,null,null," ","3320859003","Sa常盤","　 ／",null,null,null," ","3320859005","Sa豪溪","　 ／",null,null,"■","m59","3320859003","常盤",2550,0,"",null," ","3320859003","Sa常盤","　 ／",null,null,null," ","3320859003","Sa常盤","　 ／"]
["A",null,null," ","3320859004","Sa総社久代","　 ／",null,null,null," ","3320859004","Sa総社久代","　 ／",null,null,null,null,null,null,null,null,null,"■","m59","3320859004","総社久代",1400,0,"",null," ","3320859004","Sa総社久代","　 ／",null,null,null," ","3320859004","Sa総社久代","　 ／"]
["A",null,null," ","3320859005","Sa豪溪","　 ／",null,null,null," ","3320859005","Sa豪溪","　 ／",null,null,null,null,null,null,null,null,null,"■","m59","3320859005","豪溪",400,0,"",null," ","3320859005","Sa豪溪","　 ／",null,null,null," ","3320859005","Sa豪溪","　 ／"]
["A",null,null," ","3320859006","Sa美袋","　 ／",null,null,null," ","3320859006","Sa美袋","　 ／",null,null,null,null,null,null,null,null,null,"■","m59","3320859006","美袋",600,0,"",null," ","3320859006","Sa美袋","　 ／",null,null,null," ","3320859006","Sa美袋","　 ／"]
["A"]
["X",{"$f":"SUM(G494,N494,U494,AB494,AI494,AP494)","v":12750},null,null,null,"　小　計",{"$f":"SUM(G487:G492)","v":0},{"$f":"SUM(H487:H492)","v":0},null,null,null,null,"　小　計",{"$f":"SUM(N487:N492)","v":0},{"$f":"SUM(O487:O492)","v":0},null,null,null,null,"　小　計",{"$f":"SUM(U487:U492)","v":2000},{"$f":"SUM(V487:V492)","v":0},null,null,null,null,"　小　計",{"$f":"SUM(AB487:AB492)","v":10750},{"$f":"SUM(AC487:AC492)","v":0},null,null,null,null,"　小　計",{"$f":"SUM(AI487:AI492)","v":0},{"$f":"SUM(AJ487:AJ492)","v":0},null,null,null,null,"　小　計",{"$f":"SUM(AP487:AP492)","v":0},{"$f":"SUM(AQ487:AQ492)","v":0},null,null,null,{"$f":"SUM(BE494:BL494)","v":0},null,null,null,null,null,null,null,null,null,null,null,{"$f":"COUNTIF(V487:V489,{\">0\",\"<0\"})","v":0},{"$f":"COUNTIF(AC487:AC492,{\">0\",\"<0\"})","v":0}]
["X"]
["X"]
["X"]
["X"]
["X"]
["X"]
["X"]
["X","合計","　　合計","　　合計",null,null,{"$f":"SUM(G478,G484,G494)","v":0},{"$f":"SUM(H478,H484,H494)","v":0},null,null,"　　合計",null,null,{"$f":"SUM(N478,N484,N494)","v":0},{"$f":"SUM(O478,O484,O494)","v":0},null,null,"　　合計",null,null,{"$f":"SUM(U478,U484,U494)","v":6200},{"$f":"SUM(V478,V484,V494)","v":0},null,null,"　　合計",null,null,{"$f":"SUM(AB478,AB484,AB494)","v":18650},{"$f":"SUM(AC478,AC484,AC494)","v":0},null,"　　合計",null,null,null,{"$f":"SUM(AI478,AI484,AI494)","v":350},{"$f":"SUM(AJ478,AJ484,AJ494)","v":0},null,null,"　　合計",null,null,{"$f":"SUM(AP478,AP484,AP494)","v":50},{"$f":"SUM(AQ478,AQ484,AQ494)","v":0}]
["X",null,"販売店名左横欄は、配送管理料を表します。 ●：２００円(税込２２０円)、  ■：４６０円(税込５０６円)の販売店です。　",null,null,null,null,null,null,null,null,null,null,null,null,null,null,null,null,null,null,null,null,null,null,null,null,null,null,null,null,null,null,null,null,null,null,"ペ ー ジ 計",null,null,null,{"$f":"SUM(H502,O502,V502,AQ502,AC502,AJ502)","v":0}]
["X",null,"販売店内の区域指定（広告主中心・広告主よりへ・会場中心・会場よりへ・教室中心に・教室よりに・東よりへ・西よりへ・北よりへ・南よりへ）",null,null,null,null,null,null,null,null,null,null,null,null,null,null,null,null,null,null,null,null,null,null,null,null,null,null,null,null,null,null,null,null,null,null,"株式会社　朝日オリコミ岡山",null,null,null,null,null,{"$f":"基本・配布部数合計!$T$38","v":"2026.07.10"}]
["X","新聞オリコミ広告部数明細表",null,null,null,null,null,"案件番号",null,null,null,null,"広　告　名",null,null,null,null,null,null,null,null,null,null,"折込日",null,null,null,null,null,"サイズ",null,null,null,null,"部数",null,null,null,null,"申込",null,{"$f":"基本・配布部数合計!$R$38","v":"2026-08-01"}]
["X",null,null,null,null,null,null,{"$f":"IF(AP545=0,\"\",申込書!$D$18)","v":""},null,null,null,null,{"$f":"IF(AP545=0,\"\",申込書!$F$12)","v":""},null,null,null,null,null,null,null,null,null,null,{"$f":"IF(AP545=0,\"\",申込書!$D$14)","v":""},null,null,null,null,null,{"$f":"IF(AP545=0,\"\",申込書!$D$15)","v":""},null,null,null,null,{"$f":"IF(AP545=0,\"\",基本・配布部数合計!$T$37)","v":""},null,null,null,null,{"$f":"IF(AP545=0,\"\",申込書!$D$5)","v":""},null,"岡山県部数表"]
["X",null,null,null,null,null,null,null,null,null,null,null,null,null,null,null,null,null,null,null,null,null,null,null,null,null,null,null,null,null,null,null,null,null,null,null,null,null,null,{"$f":"IF(AP545=0,\"\",申込書!$D$6)","v":""}]
["X",null,null,null,null,null,null,null,null,null,null,null,null,null,null,null,null,null,null,null,null,null,null,null,null,null,null,null,null,null,null,null,null,null,null,null,null,null,null,null,null,null,13]
["X",null,"【　m01　朝　　　日　】",null,null,null,null,null,null,"【　m02　毎　　　日　】",null,null,null,null,null,null,"【　m03　読　　　売　】",null,null,null,null,null,null,"【　m59　山　　　陽　】",null,null,null,null,null,null,"【　m04　日　　　経　】",null,null,null,null,null,null,"【　m05　産　　　経　】"]
["X","市　　区",null,null,"ｺｰﾄﾞ",null,"基本部数","配布部数",null,null,null,"ｺｰﾄﾞ",null,"基本部数","配布部数",null,null,null,"ｺｰﾄﾞ",null,"基本部数","配布部数",null,null,null,"ｺｰﾄﾞ",null,"基本部数","配布部数",null,null,null,"ｺｰﾄﾞ",null,"基本部数","配布部数",null,null,null,"ｺｰﾄﾞ",null,"基本部数","配布部数"]
["A","33209",null," ","3320959001","Sa高梁","　 ／",null,null,null," ","3320959001","Sa高梁","　 ／",null,null,"■","m03","3320903001","高梁",200,0,"","■","m59","3320959001","高梁",1450,0,"",null," ","3320959001","Sa高梁","　 ／",null,null,null," ","3320959001","Sa高梁","　 ／"]
["A","高梁市",null," ","3320959002","Sa八長住宅","　 ／",null,null,null," ","3320959002","Sa八長住宅","　 ／",null,null,"■","m03","3320903011","成羽",200,0,"","■","m59","3320959002","八長住宅",150,0,"",null," ","3320959002","Sa八長住宅","　 ／",null,null,null," ","3320959002","Sa八長住宅","　 ／"]
["A",null,null," ","3320959003","Sa川面","　 ／",null,null,null," ","3320959003","Sa川面","　 ／",null,null,"■","m03","3320903012","川上",150,0,"","■","m59","3320959003","川面",350,0,"",null," ","3320959003","Sa川面","　 ／",null,null,null," ","3320959003","Sa川面","　 ／"]
["A",null,null," ","3320959005","Sa玉川","　 ／",null,null,null," ","3320959005","Sa玉川","　 ／",null,null,"■","m03","3320903015","備中町",50,0,"","■","m59","3320959005","玉川",200,0,"",null," ","3320959005","Sa玉川","　 ／",null,null,null," ","3320959005","Sa玉川","　 ／"]
["A",null,null," ","3320959006","Sa中井","　 ／",null,null,null," ","3320959006","Sa中井","　 ／",null,null,null," ","3320959002","Sa八長住宅","　 ／",null,null,"■","m59","3320959006","中井",200,0,"",null," ","3320959006","Sa中井","　 ／",null,null,null," ","3320959006","Sa中井","　 ／"]
["A",null,null," ","3320959007","Sa高梁落合","　 ／",null,null,null," ","3320959007","Sa高梁落合","　 ／",null,null,null," ","3320959003","Sa川面","　 ／",null,null,"■","m59","3320959007","高梁落合",450,0,"",null," ","3320959007","Sa高梁落合","　 ／",null,null,null," ","3320959007","Sa高梁落合","　 ／"]
["A",null,null," ","3320959011","Sa成羽","　 ／",null,null,null," ","3320959011","Sa成羽","　 ／",null,null,null," ","3320959006","Sa中井","　 ／",null,null,"■","m59","3320959011","成羽",900,0,"",null," ","3320959011","Sa成羽","　 ／",null,null,null," ","3320959011","Sa成羽","　 ／"]
["A",null,null," ","3320959012","Sa中村","　 ／",null,null,null," ","3320959012","Sa中村","　 ／",null,null,null," ","3320959021","Sa有漢","　 ／",null,null,"■","m59","3320959012","中村",100,0,"",null," ","3320959012","Sa中村","　 ／",null,null,null," ","3320959012","Sa中村","　 ／"]
["A",null,null," ","3320959013","Sa吹屋・宇治","　 ／",null,null,null," ","3320959013","Sa吹屋・宇治","　 ／",null,null,null,null,null,null,null,null,null,"■","m59","3320959013","吹屋・宇治",200,0,"",null," ","3320959013","Sa吹屋・宇治","　 ／",null,null,null," ","3320959013","Sa吹屋・宇治","　 ／"]
["A",null,null," ","3320959014","Sa手荘","　 ／",null,null,null," ","3320959014","Sa手荘","　 ／",null,null,null,null,null,null,null,null,null,"■","m59","3320959014","手荘",450,0,"",null," ","3320959014","Sa手荘","　 ／",null,null,null," ","3320959014","Sa手荘","　 ／"]
["A",null,null," ","3320959015","Sa備中町","　 ／",null,null,null," ","3320959015","Sa備中町","　 ／",null,null,null,null,null,null,null,null,null,"■","m59","3320959015","備中町",350,0,"",null," ","3320959015","Sa備中町","　 ／",null,null,null," ","3320959015","Sa備中町","　 ／"]
["A",null,null," ","3320959021","Sa有漢","　 ／",null,null,null," ","3320959021","Sa有漢","　 ／",null,null,null,null,null,null,null,null,null,"■","m59","3320959021","有漢",750,0,"",null," ","3320959021","Sa有漢","　 ／",null,null,null," ","3320959021","Sa有漢","　 ／"]
["A"]
["X",null,null,null,null,"　小　計",{"$f":"SUM(G511:G522)","v":0},{"$f":"SUM(H511:H522)","v":0},null,null,null,null,"　小　計",{"$f":"SUM(N511:N522)","v":0},{"$f":"SUM(O511:O522)","v":0},null,null,"",null,"　小　計",{"$f":"SUM(U511:U522)","v":600},{"$f":"SUM(V511:V522)","v":0},null,null,"",null,"　小　計",{"$f":"SUM(AB511:AB522)","v":5550},{"$f":"SUM(AC511:AC522)","v":0},null,null,"",null,"　小　計",{"$f":"SUM(AI511:AI522)","v":0},{"$f":"SUM(AJ511:AJ522)","v":0},null,null,"",null,"　産 経 小 計",{"$f":"SUM(AP511:AP522)","v":0},{"$f":"SUM(AQ511:AQ522)","v":0}]
["X"]
["X",null,null,null,null,null,null,null,null,null,null,null,null,null,null,null,null,null,null,null,null,null,null,null,null,null,null,null,null,null,null,null,null,null,null,null,null,"【　m60　中　　　国　】"]
["A",null,null,null,null,null,null,null,null,null,null,null,null,null,null,null,null,null,null,null,null,null,null,null,null,null,null,null,null,null,null,null,null,null,null,null,null,"■","m60","3320960001","高梁",50,0,""]
["A"]
["X",{"$f":"SUM(G524,N524,U524,AP524,AB524,AI524,AP529)","v":6200},null,null,null,null,null,null,null,null,null,null,null,null,null,null,null,null,null,null,null,null,null,null,null,null,null,null,null,null,null,null,null,null,null,null,null,null,"",null,"　中 国 小 計",{"$f":"SUM(AP527:AP527)","v":50},{"$f":"SUM(AQ527:AQ527)","v":0},null,null,null,{"$f":"SUM(BE529:BL529)","v":0},null,null,null,null,null,null,null,null,null,null,null,{"$f":"COUNTIF(V511:V514,{\">0\",\"<0\"})","v":0},{"$f":"COUNTIF(AC511:AC522,{\">0\",\"<0\"})","v":0},null,{"$f":"COUNTIF(AQ527,{\">0\",\"<0\"})","v":0}]
["X"]
["X"]
["A","33681",null,null,null,null,null,null,null,null,null,null,null,null,null,null,null,null,null,null,null,null,null,null,null,null,null,null,null,null,null,null,null,null,null,null,null,"【　m05　産　　　経　】"]
["A","加賀郡",null," ","3368159002","Sa加茂川","　 ／",null,null,null," ","3368159002","Sa加茂川","　 ／",null,null,null," ","3368159002","Sa加茂川","　 ／",null,null,"■","m59","3368159002","加茂川",800,0,"",null," ","3368159002","Sa加茂川","　 ／",null,null,null," ","3368159002","Sa加茂川","　 ／"]
["A",null,null," ","3368159012","Sa豊野","　 ／",null,null,null," ","3368159012","Sa豊野","　 ／",null,null,null," ","3368159012","Sa豊野","　 ／",null,null,"■","m59","3368159012","豊野",650,0,"",null," ","3368159012","Sa豊野","　 ／",null,null,null," ","3368159012","Sa豊野","　 ／"]
["A",null,null," ","3368159013","Sa下竹","　 ／",null,null,null," ","3368159013","Sa下竹","　 ／",null,null,null," ","3368159013","Sa下竹","　 ／",null,null,"■","m59","3368159013","下竹",150,0,"",null," ","3368159013","Sa下竹","　 ／",null,null,null," ","3368159013","Sa下竹","　 ／"]
["A",null,null," ","3368159014","Sa大和","　 ／",null,null,null," ","3368159014","Sa大和","　 ／",null,null,null," ","3368159014","Sa大和","　 ／",null,null,"■","m59","3368159014","大和",400,0,"",null," ","3368159014","Sa大和","　 ／",null,null,null," ","3368159014","Sa大和","　 ／"]
["A"]
["A"]
["X",{"$f":"SUM(G539,N539,U539,AB539,AI539,AP539)","v":2000},null,null,null,"　小　計",{"$f":"SUM(G533:G537)","v":0},{"$f":"SUM(H533:H537)","v":0},null,null,null,null,"　小　計",{"$f":"SUM(N533:N537)","v":0},{"$f":"SUM(O533:O537)","v":0},null,null,null,null,"　小　計",{"$f":"SUM(U533:U537)","v":0},{"$f":"SUM(V533:V537)","v":0},null,null,null,null,"　小　計",{"$f":"SUM(AB533:AB537)","v":2000},{"$f":"SUM(AC533:AC537)","v":0},null,null,null,null,"　小　計",{"$f":"SUM(AI533:AI537)","v":0},{"$f":"SUM(AJ533:AJ537)","v":0},null,null,null,null,"　小　計",{"$f":"SUM(AP533:AP537)","v":0},{"$f":"SUM(AQ533:AQ537)","v":0},null,null,null,{"$f":"SUM(BE539:BL539)","v":0},null,null,null,null,null,null,null,null,null,null,null,null,{"$f":"COUNTIF(AC533:AC537,{\">0\",\"<0\"})","v":0}]
["X"]
["X"]
["X"]
["X"]
["X","合計","　　合計","　　合計",null,null,{"$f":"SUM(G524,G539)","v":0},{"$f":"SUM(H524,H539)","v":0},null,null,"　　合計",null,null,{"$f":"SUM(N524,N539)","v":0},{"$f":"SUM(O524,O539)","v":0},null,null,"　　合計",null,null,{"$f":"SUM(U524,U539)","v":600},{"$f":"SUM(V524,V539)","v":0},null,null,"　　合計",null,null,{"$f":"SUM(AB524,AB539)","v":7550},{"$f":"SUM(AC524,AC539)","v":0},null,"　　合計",null,null,null,{"$f":"SUM(AI524,AI539)","v":0},{"$f":"SUM(AJ524,AJ539)","v":0},null,null,"　　合計",null,null,{"$f":"SUM(AP524,AP529,AP539)","v":50},{"$f":"SUM(AQ524,AQ529,AQ539)","v":0}]
["X",null,"販売店名左横欄は、配送管理料を表します。 ●：２００円(税込２２０円)、  ■：４６０円(税込５０６円)の販売店です。　",null,null,null,null,null,null,null,null,null,null,null,null,null,null,null,null,null,null,null,null,null,null,null,null,null,null,null,null,null,null,null,null,null,null,"ペ ー ジ 計",null,null,null,{"$f":"SUM(H544,O544,V544,AQ544,AC544,AJ544)","v":0}]
["X",null,"販売店内の区域指定（広告主中心・広告主よりへ・会場中心・会場よりへ・教室中心に・教室よりに・東よりへ・西よりへ・北よりへ・南よりへ）",null,null,null,null,null,null,null,null,null,null,null,null,null,null,null,null,null,null,null,null,null,null,null,null,null,null,null,null,null,null,null,null,null,null,"株式会社　朝日オリコミ岡山",null,null,null,null,null,{"$f":"基本・配布部数合計!$T$38","v":"2026.07.10"}]
["X","新聞オリコミ広告部数明細表",null,null,null,null,null,"案件番号",null,null,null,null,"広　告　名",null,null,null,null,null,null,null,null,null,null,"折込日",null,null,null,null,null,"サイズ",null,null,null,null,"部数",null,null,null,null,"申込",null,{"$f":"基本・配布部数合計!$R$38","v":"2026-08-01"}]
["X",null,null,null,null,null,null,{"$f":"IF(AP587=0,\"\",申込書!$D$18)","v":""},null,null,null,null,{"$f":"IF(AP587=0,\"\",申込書!$F$12)","v":""},null,null,null,null,null,null,null,null,null,null,{"$f":"IF(AP587=0,\"\",申込書!$D$14)","v":""},null,null,null,null,null,{"$f":"IF(AP587=0,\"\",申込書!$D$15)","v":""},null,null,null,null,{"$f":"IF(AP587=0,\"\",基本・配布部数合計!$T$37)","v":""},null,null,null,null,{"$f":"IF(AP587=0,\"\",申込書!$D$5)","v":""},null,"岡山県部数表"]
["X",null,null,null,null,null,null,null,null,null,null,null,null,null,null,null,null,null,null,null,null,null,null,null,null,null,null,null,null,null,null,null,null,null,null,null,null,null,null,{"$f":"IF(AP587=0,\"\",申込書!$D$6)","v":""}]
["X",null,null,null,null,null,null,null,null,null,null,null,null,null,null,null,null,null,null,null,null,null,null,null,null,null,null,null,null,null,null,null,null,null,null,null,null,null,null,null,null,null,14]
["X",null,"【　m01　朝　　　日　】",null,null,null,null,null,null,"【　m02　毎　　　日　】",null,null,null,null,null,null,"【　m03　読　　　売　】",null,null,null,null,null,null,"【　m59　山　　　陽　】",null,null,null,null,null,null,"【　m04　日　　　経　】",null,null,null,null,null,null,"【　m05　産　　　経　】"]
["X","市　　区",null,null,"ｺｰﾄﾞ",null,"基本部数","配布部数",null,null,null,"ｺｰﾄﾞ",null,"基本部数","配布部数",null,null,null,"ｺｰﾄﾞ",null,"基本部数","配布部数",null,null,null,"ｺｰﾄﾞ",null,"基本部数","配布部数",null,null,null,"ｺｰﾄﾞ",null,"基本部数","配布部数",null,null,null,"ｺｰﾄﾞ",null,"基本部数","配布部数"]
["A","33210","■","m01","3321001001","新見",400,0,"","■","m02","3321002001","新見",200,0,"","■","m03","3321003001","新見",450,0,"","■","m59","3321059001","新見",1550,0,"","■","m04","3321059001","Sa新見",100,0,"",null," ","3321059001","Sa新見","　 ／"]
["A","新見市",null," ","3321059003","Sa千屋","　 ／",null,null,null," ","3321059003","Sa千屋","　 ／",null,null,"■","m03","3321003011","大佐",200,0,"","■","m59","3321059003","千屋",150,0,"",null," ","3321059003","Sa千屋","　 ／",null,null,null," ","3321059003","Sa千屋","　 ／"]
["A",null,null," ","3321059005","Sa新見南","　 ／",null,null,null," ","3321059005","Sa新見南","　 ／",null,null,null," ","3321059003","Sa千屋","　 ／",null,null,"■","m59","3321059005","新見南",1200,0,"",null," ","3321059005","Sa新見南","　 ／",null,null,null," ","3321059005","Sa新見南","　 ／"]
["A",null,null," ","3321059011","Sa本郷","　 ／",null,null,null," ","3321059011","Sa本郷","　 ／",null,null,null," ","3321059005","Sa新見南","　 ／",null,null,"■","m59","3321059011","本郷",450,0,"",null," ","3321059011","Sa本郷","　 ／",null,null,null," ","3321059011","Sa本郷","　 ／"]
["A",null,null," ","3321059012","Sa神代","　 ／",null,null,null," ","3321059012","Sa神代","　 ／",null,null,null," ","3321059011","Sa本郷","　 ／",null,null,"■","m59","3321059012","神代",300,0,"",null," ","3321059012","Sa神代","　 ／",null,null,null," ","3321059012","Sa神代","　 ／"]
["A",null,null," ","3321059013","Sa新郷","　 ／",null,null,null," ","3321059013","Sa新郷","　 ／",null,null,null," ","3321059012","Sa神代","　 ／",null,null,"■","m59","3321059013","新郷",200,0,"",null," ","3321059013","Sa新郷","　 ／",null,null,null," ","3321059013","Sa新郷","　 ／"]
["A",null,null," ","3321059014","Sa哲西","　 ／",null,null,null," ","3321059014","Sa哲西","　 ／",null,null,null," ","3321059013","Sa新郷","　 ／",null,null,"■","m59","3321059014","哲西",550,0,"",null," ","3321059014","Sa哲西","　 ／",null,null,null," ","3321059014","Sa哲西","　 ／"]
["A",null,null," ","3321059015","Sa刑部","　 ／",null,null,null," ","3321059015","Sa刑部","　 ／",null,null,null," ","3321059014","Sa哲西","　 ／",null,null,"■","m59","3321059015","刑部",450,0,"",null," ","3321059015","Sa刑部","　 ／",null,null,null," ","3321059015","Sa刑部","　 ／"]
["A"]
["X",{"$f":"SUM(G562,N562,U562,AB562,AI562,AP562)","v":6200},null,null,null,"　小　計",{"$f":"SUM(G553:G560)","v":400},{"$f":"SUM(H553:H560)","v":0},null,null,null,null,"　小　計",{"$f":"SUM(N553:N560)","v":200},{"$f":"SUM(O553:O560)","v":0},null,null,null,null,"　小　計",{"$f":"SUM(U553:U560)","v":650},{"$f":"SUM(V553:V560)","v":0},null,null,null,null,"　小　計",{"$f":"SUM(AB553:AB560)","v":4850},{"$f":"SUM(AC553:AC560)","v":0},null,null,null,null,"　小　計",{"$f":"SUM(AI553:AI560)","v":100},{"$f":"SUM(AJ553:AJ560)","v":0},null,null,null,null,"　小　計",{"$f":"SUM(AP553:AP560)","v":0},{"$f":"SUM(AQ553:AQ560)","v":0},null,null,null,{"$f":"SUM(BE562:BL562)","v":0},null,null,null,null,null,null,null,null,null,{"$f":"COUNTIF(H553,{\">0\",\"<0\"})","v":0},{"$f":"COUNTIF(O553,{\">0\",\"<0\"})","v":0},{"$f":"COUNTIF(V553:V554,{\">0\",\"<0\"})","v":0},{"$f":"COUNTIF(AC553:AC560,{\">0\",\"<0\"})","v":0},null,null,null,{"$f":"IF(COUNTIF(AC553,{\">0\",\"<0\"}),0,COUNTIF(AJ553,{\">0\",\"<0\"}))","v":0}]
["X"]
["X"]
["A","33214","■","m01","3321401001","勝山",100,0,"","■","m02","3321402001","勝山",150,0,"","■","m03","3321403001","勝山",400,0,"","■","m59","3321459001","勝山",800,0,"","■","m04","3321402003","M落合",100,0,"",null," ","3321459001","Sa勝山","　 ／",null,null,null,null,null,null,null,null,null,null,null,null,null,null,null,null,null,null,null,null,null,{"$f":"IF(COUNTIF(O567,{\">0\",\"<0\"}),0,COUNTIF(AJ565,{\">0\",\"<0\"}))","v":0}]
["A","真庭市","■","m01","3321401002","久世",150,0,"","■","m02","3321402002","久世",100,0,"","■","m03","3321403002","月田",250,0,"","■","m59","3321459002","月田",300,0,"","■","m04","3321403001","Y勝山",100,0,"",null," ","3321459002","Sa月田","　 ／",null,null,null,null,null,null,null,null,null,null,null,null,null,null,null,null,null,null,null,null,null,{"$f":"IF(COUNTIF(V565,{\">0\",\"<0\"}),0,COUNTIF(AJ566,{\">0\",\"<0\"}))","v":0}]
["A",null,"■","m01","3321401003","落合",150,0,"","■","m02","3321402003","落合",100,0,"","■","m03","3321403003","久世",1000,0,"","■","m59","3321459003","富原",250,0,"","■","m04","3321403003","Y久世",50,0,"",null," ","3321459003","Sa富原","　 ／",null,null,null,null,null,null,null,null,null,null,null,null,null,null,null,null,null,null,null,null,null,{"$f":"IF(COUNTIF(V567,{\">0\",\"<0\"}),0,COUNTIF(AJ567,{\">0\",\"<0\"}))","v":0}]
["A",null,null," ","3321403002","Y月田","　 ／",null,null,null," ","3321459002","Sa月田","　 ／",null,null,"■","m03","3321403004","落合",300,0,"","■","m59","3321459004","美甘",200,0,"",null," ","3321459003","Sa富原","　 ／",null,null,null," ","3321459004","Sa美甘","　 ／"]
["A",null,null," ","3321459003","Sa富原","　 ／",null,null,null," ","3321459003","Sa富原","　 ／",null,null,null," ","3321459003","Sa富原","　 ／",null,null,"■","m59","3321459005","見明戸(二川)",50,0,"",null," ","3321459004","Sa美甘","　 ／",null,null,null," ","3321459005","Sa見明戸（二川)","　 ／"]
["A",null,null," ","3321459004","Sa美甘","　 ／",null,null,null," ","3321459004","Sa美甘","　 ／",null,null,null," ","3321459004","Sa美甘","　 ／",null,null,"■","m59","3321459007","湯原",450,0,"",null," ","3321459005","Sa見明戸（二川)","　 ／",null,null,null," ","3321459007","Sa湯原","　 ／"]
["A",null,null," ","3321459005","Sa見明戸（二川)","　 ／",null,null,null," ","3321459005","Sa見明戸（二川)","　 ／",null,null,null," ","3321459005","Sa見明戸（二川)","　 ／",null,null,"■","m59","3321459008","久世",1300,0,"",null," ","3321459007","Sa湯原","　 ／",null,null,null," ","3321459008","Sa久世","　 ／"]
["A",null,null," ","3321459007","Sa湯原","　 ／",null,null,null," ","3321459007","Sa湯原","　 ／",null,null,null," ","3321459007","Sa湯原","　 ／",null,null,"■","m59","3321459009","蒜山東",100,0,"",null," ","3321459009","Sa蒜山東","　 ／",null,null,null," ","3321459009","Sa蒜山東","　 ／"]
["A",null,null," ","3321459009","Sa蒜山東","　 ／",null,null,null," ","3321459009","Sa蒜山東","　 ／",null,null,null," ","3321459009","Sa蒜山東","　 ／",null,null,"■","m59","3321459010","蒜山",850,0,"",null," ","3321459010","Sa蒜山","　 ／",null,null,null," ","3321459010","Sa蒜山","　 ／"]
["A",null,null," ","3321459010","Sa蒜山","　 ／",null,null,null," ","3321459010","Sa蒜山","　 ／",null,null,null," ","3321459010","Sa蒜山","　 ／",null,null,"■","m59","3321459011","落合",1000,0,"",null," ","3321459012","Sa天津","　 ／",null,null,null," ","3321459011","Sa落合","　 ／"]
["A",null,null," ","3321459012","Sa天津","　 ／",null,null,null," ","3321459012","Sa天津","　 ／",null,null,null," ","3321459012","Sa天津","　 ／",null,null,"■","m59","3321459012","天津",350,0,"",null," ","3321459013","Sa河内","　 ／",null,null,null," ","3321459012","Sa天津","　 ／"]
["A",null,null," ","3321459013","Sa河内","　 ／",null,null,null," ","3321459013","Sa河内","　 ／",null,null,null," ","3321459013","Sa河内","　 ／",null,null,"■","m59","3321459013","河内",400,0,"",null," ","3321459014","Sa美川","　 ／",null,null,null," ","3321459013","Sa河内","　 ／"]
["A",null,null," ","3321459014","Sa美川","　 ／",null,null,null," ","3321459014","Sa美川","　 ／",null,null,null," ","3321459014","Sa美川","　 ／",null,null,"■","m59","3321459014","美川",300,0,"",null," ","3321459015","Sa北房","　 ／",null,null,null," ","3321459014","Sa美川","　 ／"]
["A",null,null," ","3321459015","Sa北房","　 ／",null,null,null," ","3321459015","Sa北房","　 ／",null,null,null," ","3321459015","Sa北房","　 ／",null,null,"■","m59","3321459015","北房",1200,0,"",null," ","3321459016","Sa新庄","　 ／",null,null,null," ","3321459015","Sa北房","　 ／"]
["A",null,null," ","3321459016","Sa新庄","　 ／",null,null,null," ","3321459016","Sa新庄","　 ／",null,null,null," ","3321459016","Sa新庄","　 ／",null,null,"■","m59","3321459016","新庄",250,0,"",null,null,null,null,null,null,null,null," ","3321459016","Sa新庄","　 ／"]
["A"]
["X",{"$f":"SUM(G581,N581,U581,AB581,AI581,AP581)","v":10750},null,null,null,"　小　計",{"$f":"SUM(G565:G579)","v":400},{"$f":"SUM(H565:H579)","v":0},null,null,null,null,"　小　計",{"$f":"SUM(N565:N579)","v":350},{"$f":"SUM(O565:O579)","v":0},null,null,null,null,"　小　計",{"$f":"SUM(U565:U579)","v":1950},{"$f":"SUM(V565:V579)","v":0},null,null,null,null,"　小　計",{"$f":"SUM(AB565:AB579)","v":7800},{"$f":"SUM(AC565:AC579)","v":0},null,null,null,null,"　小　計",{"$f":"SUM(AI565:AI579)","v":250},{"$f":"SUM(AJ565:AJ579)","v":0},null,null,null,null,"　小　計",{"$f":"SUM(AP565:AP579)","v":0},{"$f":"SUM(AQ565:AQ579)","v":0},null,null,null,{"$f":"SUM(BE581:BL581)","v":0},null,null,null,null,null,null,null,null,null,{"$f":"COUNTIF(H565:H567,{\">0\",\"<0\"})","v":0},{"$f":"COUNTIF(O565:O567,{\">0\",\"<0\"})","v":0},{"$f":"COUNTIF(V565:V568,{\">0\",\"<0\"})","v":0},{"$f":"COUNTIF(AC565:AC579,{\">0\",\"<0\"})","v":0},null,null,null,{"$f":"SUM(BL565:BL567)","v":0}]
["X"]
["X"]
["X"]
["X"]
["X","合計","　　合計","　　合計",null,null,{"$f":"SUM(G562,G581)","v":800},{"$f":"SUM(H562,H581)","v":0},null,null,"　　合計",null,null,{"$f":"SUM(N562,N581)","v":550},{"$f":"SUM(O562,O581)","v":0},null,null,"　　合計",null,null,{"$f":"SUM(U562,U581)","v":2600},{"$f":"SUM(V562,V581)","v":0},null,null,"　　合計",null,null,{"$f":"SUM(AB562,AB581)","v":12650},{"$f":"SUM(AC562,AC581)","v":0},null,"　　合計",null,null,null,{"$f":"SUM(AI562,AI581)","v":350},{"$f":"SUM(AJ562,AJ581)","v":0},null,null,"　　合計",null,null,{"$f":"SUM(AP562,AP581)","v":0},{"$f":"SUM(AQ562,AQ581)","v":0}]
["X",null,"販売店名左横欄は、配送管理料を表します。 ●：２００円(税込２２０円)、  ■：４６０円(税込５０６円)の販売店です。　",null,null,null,null,null,null,null,null,null,null,null,null,null,null,null,null,null,null,null,null,null,null,null,null,null,null,null,null,null,null,null,null,null,null,"ペ ー ジ 計",null,null,null,{"$f":"SUM(H586,O586,V586,AQ586,AC586,AJ586)","v":0}]
["X",null,"販売店内の区域指定（広告主中心・広告主よりへ・会場中心・会場よりへ・教室中心に・教室よりに・東よりへ・西よりへ・北よりへ・南よりへ）",null,null,null,null,null,null,null,null,null,null,null,null,null,null,null,null,null,null,null,null,null,null,null,null,null,null,null,null,null,null,null,null,null,null,"株式会社　朝日オリコミ岡山",null,null,null,null,null,{"$f":"基本・配布部数合計!$T$38","v":"2026.07.10"}]
["X","新聞オリコミ広告部数明細表",null,null,null,null,null,"案件番号",null,null,null,null,"広　告　名",null,null,null,null,null,null,null,null,null,null,"折込日",null,null,null,null,null,"サイズ",null,null,null,null,"部数",null,null,null,null,"申込",null,{"$f":"基本・配布部数合計!$R$38","v":"2026-08-01"}]
["X",null,null,null,null,null,null,{"$f":"IF(AP629=0,\"\",申込書!$D$18)","v":""},null,null,null,null,{"$f":"IF(AP629=0,\"\",申込書!$F$12)","v":""},null,null,null,null,null,null,null,null,null,null,{"$f":"IF(AP629=0,\"\",申込書!$D$14)","v":""},null,null,null,null,null,{"$f":"IF(AP629=0,\"\",申込書!$D$15)","v":""},null,null,null,null,{"$f":"IF(AP629=0,\"\",基本・配布部数合計!$T$37)","v":""},null,null,null,null,{"$f":"IF(AP629=0,\"\",申込書!$D$5)","v":""},null,"岡山県部数表"]
["X",null,null,null,null,null,null,null,null,null,null,null,null,null,null,null,null,null,null,null,null,null,null,null,null,null,null,null,null,null,null,null,null,null,null,null,null,null,null,{"$f":"IF(AP629=0,\"\",申込書!$D$6)","v":""}]
["X",null,null,null,null,null,null,null,null,null,null,null,null,null,null,null,null,null,null,null,null,null,null,null,null,null,null,null,null,null,null,null,null,null,null,null,null,null,null,null,null,null,15]
["X",null,"【　m01　朝　　　日　】",null,null,null,null,null,null,"【　m02　毎　　　日　】",null,null,null,null,null,null,"【　m03　読　　　売　】",null,null,null,null,null,null,"【　m59　山　　　陽　】",null,null,null,null,null,null,"【　m04　日　　　経　】",null,null,null,null,null,null,"【　m05　産　　　経　】"]
["X","市　　区",null,null,"ｺｰﾄﾞ",null,"基本部数","配布部数",null,null,null,"ｺｰﾄﾞ",null,"基本部数","配布部数",null,null,null,"ｺｰﾄﾞ",null,"基本部数","配布部数",null,null,null,"ｺｰﾄﾞ",null,"基本部数","配布部数",null,null,null,"ｺｰﾄﾞ",null,"基本部数","配布部数",null,null,null,"ｺｰﾄﾞ",null,"基本部数","配布部数"]
["A","33203",null," ","3320359001","Sa津山中央","　 ／",null,null,null," ","3320359001","Sa津山中央","　 ／",null,null,"■","m03","3320303001","津山中央",1700,0,"","■","m59","3320359001","津山中央",3300,0,"","■","m04","3320359001","S津山中央",200,0,"",null," ","3320359001","Sa津山中央","　 ／",null,null,null,null,null,null,null,null,null,null,null,null,null,null,null,null,null,null,null,null,null,{"$f":"IF(COUNTIF(AC595,{\">0\",\"<0\"}),0,COUNTIF(AJ595,{\">0\",\"<0\"}))","v":0}]
["A","津山市",null," ","3320359004","Sa津山東","　 ／",null,null,null," ","3320359004","Sa津山東","　 ／",null,null,"■","m03","3320303003","津山北",100,0,"","■","m59","3320359004","津山東",1000,0,"","■","m04","3320359004","S津山東",50,0,null,null," ","3320359004","Sa津山東","　 ／",null,null,null,null,null,null,null,null,null,null,null,null,null,null,null,null,null,null,null,null,null,{"$f":"IF(COUNTIF(AC596,{\">0\",\"<0\"}),0,COUNTIF(AJ596,{\">0\",\"<0\"}))","v":0}]
["A",null,null," ","3320359005","Sa津山西","　 ／",null,null,null," ","3320359005","Sa津山西","　 ／",null,null,"■","m03","3320303004","津山南",50,0,"","■","m59","3320359005","津山西",1850,0,"","■","m04","3320359005","S津山西",100,0,null,null," ","3320359005","Sa津山西","　 ／",null,null,null,null,null,null,null,null,null,null,null,null,null,null,null,null,null,null,null,null,null,{"$f":"IF(COUNTIF(AC597,{\">0\",\"<0\"}),0,COUNTIF(AJ597,{\">0\",\"<0\"}))","v":0}]
["A",null,null," ","3320359006","Sa上河原","　 ／",null,null,null," ","3320359006","Sa上河原","　 ／",null,null,"■","m03","3320303005","津山東",700,0,"","■","m59","3320359006","上河原",2500,0,"","■","m04","3320359006","S上河原",150,0,null,null," ","3320359006","Sa上河原","　 ／",null,null,null,null,null,null,null,null,null,null,null,null,null,null,null,null,null,null,null,null,null,{"$f":"IF(COUNTIF(AC598,{\">0\",\"<0\"}),0,COUNTIF(AJ598,{\">0\",\"<0\"}))","v":0}]
["A",null,null," ","3320359008","Sa河辺","　 ／",null,null,null," ","3320359008","Sa河辺","　 ／",null,null,"■","m03","3320303021","勝北",250,0,"","■","m59","3320359008","河辺",1350,0,"","■","m04","3320359008","S河辺",100,0,"",null," ","3320359008","Sa河辺","　 ／",null,null,null,null,null,null,null,null,null,null,null,null,null,null,null,null,null,null,null,null,null,{"$f":"IF(COUNTIF(AC599,{\">0\",\"<0\"}),0,COUNTIF(AJ599,{\">0\",\"<0\"}))","v":0}]
["A",null,null," ","3320359009","Sa高野","　 ／",null,null,null," ","3320359009","Sa高野","　 ／",null,null,"■"," ","3320303041","美作加茂\n2025/12廃店","Sa津山北に吸収",null,null,"■","m59","3320359009","高野",1600,0,"",null," ","3320359009","Sa高野","　 ／",null,null,null," ","3320359009","Sa高野","　 ／"]
["A",null,null," ","3320359010","Sa久米","　 ／",null,null,null," ","3320359010","Sa久米","　 ／",null,null,null,"]","3320359009","Sa高野","　 ／",null,null,"■","m59","3320359010","久米",1750,0,"",null," ","3320359010","Sa久米","　 ／",null,null,null," ","3320359010","Sa久米","　 ／"]
["A",null,null," ","3320359021","Sa新野","　 ／",null,null,null," ","3320359021","Sa新野","　 ／",null,null,null," ","3320359010","Sa久米","　 ／",null,null,"■","m59","3320359021","新野",800,0,"",null," ","3320359021","Sa新野","　 ／",null,null,null," ","3320359021","Sa新野","　 ／"]
["A",null,null," ","3320359033","Sa桑村","　 ／",null,null,null," ","3320359033","Sa桑村","　 ／",null,null,null," ","3320359033","Sa桑村","　 ／",null,null,"■","m59","3320359033","桑村",450,0,"",null," ","3320359033","Sa桑村","　 ／",null,null,null," ","3320359033","Sa桑村","　 ／"]
["A",null,null," ","3320359042","Sa津山北","　 ／",null,null,null," ","3320359042","Sa津山北","　 ／",null,null,null," ","3320359042","Sa津山北","　 ／",null,null,"■","m59","3320359042","津山北",1450,0,"","■","m04","3320359042","S津山北",50,0,"",null," ","3320359042","Sa津山北","　 ／",null,null,null,null,null,null,null,null,null,null,null,null,null,null,null,null,null,null,null,null,null,{"$f":"IF(COUNTIF(AC604,{\">0\",\"<0\"}),0,COUNTIF(AJ604,{\">0\",\"<0\"}))","v":0}]
["A"]
["A"]
["A"]
["A"]
["A"]
["X",{"$f":"SUM(G610,N610,U610,AB610,AI610,AP610)","v":19500},null,null,null,"　小　計",{"$f":"SUM(G595:G608)","v":0},{"$f":"SUM(H595:H608)","v":0},null,null,null,null,"　小　計",{"$f":"SUM(N595:N608)","v":0},{"$f":"SUM(O595:O608)","v":0},null,null,null,null,"　小　計",{"$f":"SUM(U595:U608)","v":2800},{"$f":"SUM(V595:V608)","v":0},null,null,null,null,"　小　計",{"$f":"SUM(AB595:AB608)","v":16050},{"$f":"SUM(AC595:AC608)","v":0},null,null,null,null,"　小　計",{"$f":"SUM(AI595:AI608)","v":650},{"$f":"SUM(AJ595:AJ608)","v":0},null,null,null,null,"　小　計",{"$f":"SUM(AP595:AP608)","v":0},{"$f":"SUM(AQ595:AQ608)","v":0},null,null,null,{"$f":"SUM(BE610:BL610)","v":0},null,null,null,null,null,null,null,null,null,null,null,{"$f":"COUNTIF(V595:V600,{\">0\",\"<0\"})","v":0},{"$f":"COUNTIF(AC595:AC608,{\">0\",\"<0\"})","v":0},{"$f":"COUNTIF(AQ595,{\">0\",\"<0\"})","v":0},null,null,{"$f":"SUM(BL595:BL600)","v":0}]
["X"]
["X"]
["A","33600",null," ","3360059004","Sa鏡野","　 ／",null,null,null," ","3360059004","Sa鏡野","　 ／",null,null,null," ","3360059004","Sa鏡野","　 ／",null,null,"■","m59","3360059004","鏡野",2150,0,"",null," ","3360059004","Sa鏡野","　 ／",null,null,null," ","3360059004","Sa鏡野","　 ／"]
["A","苫田郡",null," ","3360059006","Sa富","　 ／",null,null,null," ","3360059006","Sa富","　 ／",null,null,null," ","3360059006","Sa富","　 ／",null,null,"■","m59","3360059006","富",200,0,"",null," ","3360059006","Sa富","　 ／",null,null,null," ","3360059006","Sa富","　 ／"]
["A"]
["A"]
["A"]
["A"]
["A"]
["X",{"$f":"SUM(G620,N620,U620,AB620,AI620,AP620)","v":2350},null,null,null,"　小　計",{"$f":"SUM(G613:G618)","v":0},{"$f":"SUM(H613:H618)","v":0},null,null,null,null,"　小　計",{"$f":"SUM(N613:N618)","v":0},{"$f":"SUM(O613:O618)","v":0},null,null,null,null,"　小　計",{"$f":"SUM(U613:U618)","v":0},{"$f":"SUM(V613:V618)","v":0},null,null,null,null,"　小　計",{"$f":"SUM(AB613:AB618)","v":2350},{"$f":"SUM(AC613:AC618)","v":0},null,null,null,null,"　小　計",{"$f":"SUM(AI613:AI618)","v":0},{"$f":"SUM(AJ613:AJ618)","v":0},null,null,null,null,"　小　計",{"$f":"SUM(AP613:AP618)","v":0},{"$f":"SUM(AQ613:AQ618)","v":0},null,null,null,{"$f":"SUM(BE620:BL620)","v":0},null,null,null,null,null,null,null,null,null,null,null,null,{"$f":"COUNTIF(AC613:AC617,{\">0\",\"<0\"})","v":0}]
["X"]
["X"]
["X"]
["X"]
["X"]
["X"]
["X"]
["X","合計","　　合計","　　合計",null,null,{"$f":"SUM(G610,G620)","v":0},{"$f":"SUM(H610,H620)","v":0},null,null,"　　合計",null,null,{"$f":"SUM(N610,N620)","v":0},{"$f":"SUM(O610,O620)","v":0},null,null,"　　合計",null,null,{"$f":"SUM(U610,U620)","v":2800},{"$f":"SUM(V610,V620)","v":0},null,null,"　　合計",null,null,{"$f":"SUM(AB610,AB620)","v":18400},{"$f":"SUM(AC610,AC620)","v":0},null,"　　合計",null,null,null,{"$f":"SUM(AI610,AI620)","v":650},{"$f":"SUM(AJ610,AJ620)","v":0},null,null,"　　合計",null,null,{"$f":"SUM(AP610,AP620)","v":0},{"$f":"SUM(AQ610,AQ620)","v":0}]
["X",null,"販売店名左横欄は、配送管理料を表します。 ●：２００円(税込２２０円)、  ■：４６０円(税込５０６円)の販売店です。　",null,null,null,null,null,null,null,null,null,null,null,null,null,null,null,null,null,null,null,null,null,null,null,null,null,null,null,null,null,null,null,null,null,null,"ペ ー ジ 計",null,null,null,{"$f":"SUM(H628,O628,V628,AQ628,AC628,AJ628)","v":0}]
["X",null,"販売店内の区域指定（広告主中心・広告主よりへ・会場中心・会場よりへ・教室中心に・教室よりに・東よりへ・西よりへ・北よりへ・南よりへ）",null,null,null,null,null,null,null,null,null,null,null,null,null,null,null,null,null,null,null,null,null,null,null,null,null,null,null,null,null,null,null,null,null,null,"株式会社　朝日オリコミ岡山",null,null,null,null,null,{"$f":"基本・配布部数合計!$T$38","v":"2026.07.10"}]
["X","新聞オリコミ広告部数明細表",null,null,null,null,null,"案件番号",null,null,null,null,"広　告　名",null,null,null,null,null,null,null,null,null,null,"折込日",null,null,null,null,null,"サイズ",null,null,null,null,"部数",null,null,null,null,"申込",null,{"$f":"基本・配布部数合計!$R$38","v":"2026-08-01"}]
["X",null,null,null,null,null,null,{"$f":"IF(AP671=0,\"\",申込書!$D$18)","v":""},null,null,null,null,{"$f":"IF(AP671=0,\"\",申込書!$F$12)","v":""},null,null,null,null,null,null,null,null,null,null,{"$f":"IF(AP671=0,\"\",申込書!$D$14)","v":""},null,null,null,null,null,{"$f":"IF(AP671=0,\"\",申込書!$D$15)","v":""},null,null,null,null,{"$f":"IF(AP671=0,\"\",基本・配布部数合計!$T$37)","v":""},null,null,null,null,{"$f":"IF(AP671=0,\"\",申込書!$D$5)","v":""},null,"岡山県部数表"]
["X",null,null,null,null,null,null,null,null,null,null,null,null,null,null,null,null,null,null,null,null,null,null,null,null,null,null,null,null,null,null,null,null,null,null,null,null,null,null,{"$f":"IF(AP671=0,\"\",申込書!$D$6)","v":""}]
["X",null,null,null,null,null,null,null,null,null,null,null,null,null,null,null,null,null,null,null,null,null,null,null,null,null,null,null,null,null,null,null,null,null,null,null,null,null,null,null,null,null,16]
["X",null,"【　m01　朝　　　日　】",null,null,null,null,null,null,"【　m02　毎　　　日　】",null,null,null,null,null,null,"【　m03　読　　　売　】",null,null,null,null,null,null,"【　m59　山　　　陽　】",null,null,null,null,null,null,"【　m04　日　　　経　】",null,null,null,null,null,null,"【　m05　産　　　経　】"]
["X","市　　区",null,null,"ｺｰﾄﾞ",null,"基本部数","配布部数",null,null,null,"ｺｰﾄﾞ",null,"基本部数","配布部数",null,null,null,"ｺｰﾄﾞ",null,"基本部数","配布部数",null,null,null,"ｺｰﾄﾞ",null,"基本部数","配布部数",null,null,null,"ｺｰﾄﾞ",null,"基本部数","配布部数",null,null,null,"ｺｰﾄﾞ",null,"基本部数","配布部数"]
["A","33620",null," ","3362059004","Sa勝央","　 ／",null,null,null," ","3362059004","Sa勝央","　 ／",null,null,"■","m03","3362003002","勝央",300,0,"","■","m59","3362059004","勝央",1050,0,"","■","m04","3362059004","Sa勝央",50,0,"",null," ","3362059004","Sa勝央","　 ／"]
["A","勝田郡",null," ","3362059005","Sa美野","　 ／",null,null,null," ","3362059005","Sa美野","　 ／",null,null,null," ","3362059005","Sa美野","　 ／",null,null,"■","m59","3362059005","美野",350,0,"",null," ","3362059005","Sa美野","　 ／",null,null,null," ","3362059005","Sa美野","　 ／"]
["A",null,null," ","3362059007","Sa奈義","　 ／",null,null,null," ","3362059007","Sa奈義","　 ／",null,null,null," ","3362059007","Sa奈義","　 ／",null,null,"■","m59","3362059007","奈義",1000,0,"",null," ","3362059007","Sa奈義","　 ／",null,null,null," ","3362059007","Sa奈義","　 ／"]
["A"]
["A"]
["X",{"$f":"SUM(G642,N642,U642,AB642,AI642,AP642)","v":2750},null,null,null,"　小　計",{"$f":"SUM(G637:G640)","v":0},{"$f":"SUM(H637:H640)","v":0},null,null,null,null,"　小　計",{"$f":"SUM(N637:N640)","v":0},{"$f":"SUM(O637:O640)","v":0},null,null,null,null,"　小　計",{"$f":"SUM(U637:U640)","v":300},{"$f":"SUM(V637:V640)","v":0},null,null,null,null,"　小　計",{"$f":"SUM(AB637:AB640)","v":2400},{"$f":"SUM(AC637:AC640)","v":0},null,null,null,null,"　小　計",{"$f":"SUM(AI637:AI640)","v":50},{"$f":"SUM(AJ637:AJ640)","v":0},null,null,null,null,"　小　計",{"$f":"SUM(AP637:AP640)","v":0},{"$f":"SUM(AQ637:AQ640)","v":0},null,null,null,{"$f":"SUM(BE642:BL642)","v":0},null,null,null,null,null,null,null,null,null,null,null,{"$f":"COUNTIF(V637,{\">0\",\"<0\"})","v":0},{"$f":"COUNTIF(AC637:AC640,{\">0\",\"<0\"})","v":0},null,null,null,{"$f":"IF(COUNTIF(AC637,{\">0\",\"<0\"}),0,COUNTIF(AJ637,{\">0\",\"<0\"}))","v":0}]
["X"]
["X"]
["A","33215",null," ","3321559001","Sa勝田","　 ／",null,null,null," ","3321559001","Sa勝田","　 ／",null,null,"■","m03","3321503011","林野",250,0,"","■","m59","3321559001","勝田",350,0,"","■","m04","3321503011","Y林野",50,0,"",null," ","3321559001","Sa勝田","　 ／"]
["A","美作市",null," ","3321559002","Sa美作北","　 ／",null,null,null," ","3321559002","Sa美作北","　 ／",null,null,"■","m03","3321503012","江見",100,0,"","■","m59","3321559002","美作北",300,0,"",null," ","3321559001","Sa勝田","　 ／",null,null,null," ","3321559002","Sa美作北","　 ／"]
["A",null,null," ","3321559011","Sa林野","　 ／",null,null,null," ","3321559011","Sa林野","　 ／",null,null,null," ","3321559001","Sa勝田","　 ／",null,null,"■","m59","3321559011","林野",1350,0,"",null," ","3321559002","Sa美作北","　 ／",null,null,null," ","3321559011","Sa林野","　 ／"]
["A",null,null," ","3321559012","Sa湯郷","　 ／",null,null,null," ","3321559012","Sa湯郷","　 ／",null,null,null," ","3321559002","Sa美作北","　 ／",null,null,"■","m59","3321559012","湯郷",550,0,"",null," ","3321559012","Sa湯郷","　 ／",null,null,null," ","3321559012","Sa湯郷","　 ／"]
["A",null,null," ","3321559013","Sa英田","　 ／",null,null,null," ","3321559013","Sa英田","　 ／",null,null,null," ","3321559013","Sa英田","　 ／",null,null,"■","m59","3321559013","英田",500,0,"",null," ","3321559013","Sa英田","　 ／",null,null,null," ","3321559013","Sa英田","　 ／"]
["A",null,null," ","3321559014","Sa大原","　 ／",null,null,null," ","3321559014","Sa大原","　 ／",null,null,null," ","3321559014","Sa大原","　 ／",null,null,"■","m59","3321559014","大原",950,0,"",null," ","3321559014","Sa大原","　 ／",null,null,null," ","3321559014","Sa大原","　 ／"]
["A",null,null," ","3321559015","Sa江見","　 ／",null,null,null," ","3321559015","Sa江見","　 ／",null,null,null," ","3321559016","Sa土居","　 ／",null,null,"■","m59","3321559015","江見",400,0,"",null," ","3321559015","Sa江見","　 ／",null,null,null," ","3321559015","Sa江見","　 ／"]
["A",null,null," ","3321559016","Sa土居","　 ／",null,null,null," ","3321559016","Sa土居","　 ／",null,null,null," ","3321559018","Sa粟倉（英田）","　 ／",null,null,"■","m59","3321559016","土居",350,0,"",null," ","3321559016","Sa土居","　 ／",null,null,null," ","3321559016","Sa土居","　 ／"]
["A",null,null," ","3321559018","Sa粟倉（英田）","　 ／",null,null,null," ","3321559018","Sa粟倉（英田）","　 ／",null,null,null,null,null,null,null,null,null,"■","m59","3321559018","粟倉（英田）",450,0,"",null," ","3321559018","Sa粟倉（英田）","　 ／",null,null,null," ","3321559018","Sa粟倉（英田）","　 ／"]
["A"]
["A"]
["X",{"$f":"SUM(G656,N656,U656,AB656,AI656,AP656)","v":5600},null,null,null,"　小　計",{"$f":"SUM(G645:G654)","v":0},{"$f":"SUM(H645:H654)","v":0},null,null,null,null,"　小　計",{"$f":"SUM(N645:N654)","v":0},{"$f":"SUM(O645:O654)","v":0},null,null,null,null,"　小　計",{"$f":"SUM(U645:U654)","v":350},{"$f":"SUM(V645:V654)","v":0},null,null,null,null,"　小　計",{"$f":"SUM(AB645:AB654)","v":5200},{"$f":"SUM(AC645:AC654)","v":0},null,null,null,null,"　小　計",{"$f":"SUM(AI645:AI654)","v":50},{"$f":"SUM(AJ645:AJ654)","v":0},null,null,null,null,"　小　計",{"$f":"SUM(AP645:AP654)","v":0},{"$f":"SUM(AQ645:AQ654)","v":0},null,null,null,{"$f":"SUM(BE656:BL656)","v":0},null,null,null,null,null,null,null,null,null,null,null,{"$f":"COUNTIF(V645:V646,{\">0\",\"<0\"})","v":0},{"$f":"COUNTIF(AC645:AC654,{\">0\",\"<0\"})","v":0},null,null,null,{"$f":"IF(COUNTIF(V645,{\">0\",\"<0\"}),0,COUNTIF(AJ645,{\">0\",\"<0\"}))","v":0}]
["X"]
["X"]
["A","33660",null," ","3366059004","Sa亀甲","　 ／",null,null,null," ","3366059004","Sa亀甲","　 ／",null,null,"■","m03","3366003001","柵原",50,0,"","■","m59","3366059004","亀甲",1250,0,"",null," ","3366059004","Sa亀甲","　 ／",null,null,null," ","3366059004","Sa亀甲","　 ／"]
["A","久米郡",null," ","3366059007","Sa西川","　 ／",null,null,null," ","3366059007","Sa西川","　 ／",null,null,null," ","3366059004","Sa亀甲","　 ／",null,null,"■","m59","3366059007","西川",500,0,"",null," ","3366059007","Sa西川","　 ／",null,null,null," ","3366059007","Sa西川","　 ／"]
["A",null,null," ","3366059009","Saくめなん","　 ／",null,null,null," ","3366059009","Saくめなん","　 ／",null,null,null," ","3366059007","Sa西川","　 ／",null,null,"■","m59","3366059009","くめなん",700,0,"",null," ","3366059009","Saくめなん","　 ／",null,null,null," ","3366059009","Saくめなん","　 ／"]
["A",null,null," ","3366059013","Sa柵原","　 ／",null,null,null," ","3366059013","Sa柵原","　 ／",null,null,null," ","3366059009","Saくめなん","　 ／",null,null,"■","m59","3366059013","柵原",850,0,"",null," ","3366059013","Sa柵原","　 ／",null,null,null," ","3366059013","Sa柵原","　 ／"]
["A"]
["A"]
["A"]
["A"]
["X",{"$f":"SUM(G667,N667,U667,AB667,AI667,AP667)","v":3350},null,null,null,"　小　計",{"$f":"SUM(G659:G665)","v":0},{"$f":"SUM(H659:H665)","v":0},null,null,null,null,"　小　計",{"$f":"SUM(N659:N665)","v":0},{"$f":"SUM(O659:O665)","v":0},null,null,null,null,"　小　計",{"$f":"SUM(U659:U665)","v":50},{"$f":"SUM(V659:V665)","v":0},null,null,null,null,"　小　計",{"$f":"SUM(AB659:AB665)","v":3300},{"$f":"SUM(AC659:AC665)","v":0},null,null,null,null,"　小　計",{"$f":"SUM(AI659:AI665)","v":0},{"$f":"SUM(AJ659:AJ665)","v":0},null,null,null,null,"　小　計",{"$f":"SUM(AP659:AP665)","v":0},{"$f":"SUM(AQ659:AQ665)","v":0},null,null,null,{"$f":"SUM(BE667:BL667)","v":0},null,null,null,null,null,null,null,null,null,null,null,{"$f":"COUNTIF(V659,{\">0\",\"<0\"})","v":0},{"$f":"COUNTIF(AC659:AC665,{\">0\",\"<0\"})","v":0}]
["X"]
["X"]
["X","合計","　　合計","　　合計",null,null,{"$f":"SUM(G642,G656,G667)","v":0},{"$f":"SUM(H642,H656,H667)","v":0},null,null,"　　合計",null,null,{"$f":"SUM(N642,N656,N667)","v":0},{"$f":"SUM(O642,O656,O667)","v":0},null,null,"　　合計",null,null,{"$f":"SUM(U642,U656,U667)","v":700},{"$f":"SUM(V642,V656,V667)","v":0},null,null,"　　合計",null,null,{"$f":"SUM(AB642,AB656,AB667)","v":10900},{"$f":"SUM(AC642,AC656,AC667)","v":0},null,"　　合計",null,null,null,{"$f":"SUM(AI642,AI656,AI667)","v":100},{"$f":"SUM(AJ642,AJ656,AJ667)","v":0},null,null,"　　合計",null,null,{"$f":"SUM(AP642,AP656,AP667)","v":0},{"$f":"SUM(AQ642,AQ656,AQ667)","v":0}]
["X",null,"販売店名左横欄は、配送管理料を表します。 ●：２００円(税込２２０円)、  ■：４６０円(税込５０６円)の販売店です。　",null,null,null,null,null,null,null,null,null,null,null,null,null,null,null,null,null,null,null,null,null,null,null,null,null,null,null,null,null,null,null,null,null,null,"ペ ー ジ 計",null,null,null,{"$f":"SUM(H670,O670,V670,AQ670,AC670,AJ670)","v":0}]
["X",null,"販売店内の区域指定（広告主中心・広告主よりへ・会場中心・会場よりへ・教室中心に・教室よりに・東よりへ・西よりへ・北よりへ・南よりへ）",null,null,null,null,null,null,null,null,null,null,null,null,null,null,null,null,null,null,null,null,null,null,null,null,null,null,null,null,null,null,null,null,null,null,"株式会社　朝日オリコミ岡山",null,null,null,null,null,{"$f":"基本・配布部数合計!$T$38","v":"2026.07.10"}]